Workbook

Sheet averageIf
A1: קוד עובד | B1: שם מלא | C1: עיר מגורים | D1: תאריך לידה | E1: תאריך תחילת עבודה | F1: השכלה | G1: תפקיד | H1: שכר בסיס | I1: שכר ברוטו כולל | J1: תאריך יציאה לפנסיה | K1: חודש יציאה לפנסיה | L1: יום יציאה לפנסיה | M1: וותק בעבודה | N1: שכר נטו | O1: השתלמות
A2: 127 | B2: עמרם רחל וציון | C2: אילת | D2: 33229 | E2: 44656 | F2: מוסמך | G2: סמנכ"ל | H2: 5097 | I2: =VLOOKUP(G2,'[1]נתונים נוספים'!$B$5:$C$9,2,FALSE)*$V$2+H2 -> 6937 | J2: =IF(AND(OR(G2=$V$33,G2=$V$34,G2=$V$35),OR(F2=$U$33,F2=$U$34)),DATE(YEAR(D2)+$U$36,MONTH(D2),DAY(D2)),IF((YEAR(E2)-YEAR(D2))>$U$37,DATE(YEAR(TODAY())+$U$38,MONTH(TODAY()),DAY(TODAY())),DATE(YEAR(D2)+$U$39,MONTH(D2),DAY(D2)))) -> 58797 | K2: =MONTH(J2) -> 12 | L2: =IF(OR(TEXT(J2,"DDDD")=$U$42,TEXT(J2,"DDDD")=$U$43),$U$44,TEXT(J2,"DDDD")) -> יום רביעי | M2: =YEAR(TODAY())-YEAR(E2) -> 4 | N2: =I2-IF(OR(F2=$U$54,F2=$U$55),VLOOKUP(I2,$V$54:$W$59,2,TRUE),IF(F2=$U$61,VLOOKUP(I2,$V$61:$W$62,2,TRUE),$W$64))*I2 -> 6243.3 | O2: =IF(AND(G2=$U$67,H2<=$V$67),$W$67,IF(AND(G2=$U$67,H2>$V$67),$W$68,IF(AND(G2=$U$70,YEAR(E2)<=$V$70),$W$70,IF(AND(G2=$U$70,YEAR(E2)>$V$70,YEAR(E2)<=$V$72),$W$72,IF(AND(G2=$U$70,YEAR(E2)>$V$72),$W$73,$W$75))))) -> קורס קניינות ברשת | U2: תוספת בגין נקודת דרגה | V2: 80
A3: 139 | B3: קליינר בטי ואבי | C3: מכבים | D3: 33220 | E3: 44879 | F3: בוגר | G3: מנהל מחלקה | H3: 7927 | I3: =VLOOKUP(G3,'[1]נתונים נוספים'!$B$5:$C$9,2,FALSE)*$V$2+H3 -> 9367 | J3: =IF(AND(OR(G3=$V$33,G3=$V$34,G3=$V$35),OR(F3=$U$33,F3=$U$34)),DATE(YEAR(D3)+$U$36,MONTH(D3),DAY(D3)),IF((YEAR(E3)-YEAR(D3))>$U$37,DATE(YEAR(TODAY())+$U$38,MONTH(TODAY()),DAY(TODAY())),DATE(YEAR(D3)+$U$39,MONTH(D3),DAY(D3)))) -> 57692 | K3: =MONTH(J3) -> 12 | L3: =IF(OR(TEXT(J3,"DDDD")=$U$42,TEXT(J3,"DDDD")=$U$43),$U$44,TEXT(J3,"DDDD")) -> יום חמישי | M3: =YEAR(TODAY())-YEAR(E3) -> 4 | N3: =I3-IF(OR(F3=$U$54,F3=$U$55),VLOOKUP(I3,$V$54:$W$59,2,TRUE),IF(F3=$U$61,VLOOKUP(I3,$V$61:$W$62,2,TRUE),$W$64))*I3 -> 7493.6 | O3: =IF(AND(G3=$U$67,H3<=$V$67),$W$67,IF(AND(G3=$U$67,H3>$V$67),$W$68,IF(AND(G3=$U$70,YEAR(E3)<=$V$70),$W$70,IF(AND(G3=$U$70,YEAR(E3)>$V$70,YEAR(E3)<=$V$72),$W$72,IF(AND(G3=$U$70,YEAR(E3)>$V$72),$W$73,$W$75))))) -> קורס קניינות ברשת
A4: 9 | B4: ישראל כפיר | C4: החותרים | D4: 33193 | E4: 43444 | F4: ד"ר | G4: ראש צוות | H4: 5467 | I4: =VLOOKUP(G4,'[1]נתונים נוספים'!$B$5:$C$9,2,FALSE)*$V$2+H4 -> 6667 | J4: =IF(AND(OR(G4=$V$33,G4=$V$34,G4=$V$35),OR(F4=$U$33,F4=$U$34)),DATE(YEAR(D4)+$U$36,MONTH(D4),DAY(D4)),IF((YEAR(E4)-YEAR(D4))>$U$37,DATE(YEAR(TODAY())+$U$38,MONTH(TODAY()),DAY(TODAY())),DATE(YEAR(D4)+$U$39,MONTH(D4),DAY(D4)))) -> 58761 | K4: =MONTH(J4) -> 11 | L4: =IF(OR(TEXT(J4,"DDDD")=$U$42,TEXT(J4,"DDDD")=$U$43),$U$44,TEXT(J4,"DDDD")) -> יום שלישי | M4: =YEAR(TODAY())-YEAR(E4) -> 8 | N4: =I4-IF(OR(F4=$U$54,F4=$U$55),VLOOKUP(I4,$V$54:$W$59,2,TRUE),IF(F4=$U$61,VLOOKUP(I4,$V$61:$W$62,2,TRUE),$W$64))*I4 -> 6000.3 | O4: =IF(AND(G4=$U$67,H4<=$V$67),$W$67,IF(AND(G4=$U$67,H4>$V$67),$W$68,IF(AND(G4=$U$70,YEAR(E4)<=$V$70),$W$70,IF(AND(G4=$U$70,YEAR(E4)>$V$70,YEAR(E4)<=$V$72),$W$72,IF(AND(G4=$U$70,YEAR(E4)>$V$72),$W$73,$W$75))))) -> קורס BI
A5: 280 | B5: מרטיניז אילנה | C5: נען | D5: 33164 | E5: 44738 | F5: מוסמך | G5: מנהל תחום | H5: 8782 | I5: =VLOOKUP(G5,'[1]נתונים נוספים'!$B$5:$C$9,2,FALSE)*$V$2+H5 -> 9742 | J5: =IF(AND(OR(G5=$V$33,G5=$V$34,G5=$V$35),OR(F5=$U$33,F5=$U$34)),DATE(YEAR(D5)+$U$36,MONTH(D5),DAY(D5)),IF((YEAR(E5)-YEAR(D5))>$U$37,DATE(YEAR(TODAY())+$U$38,MONTH(TODAY()),DAY(TODAY())),DATE(YEAR(D5)+$U$39,MONTH(D5),DAY(D5)))) -> 57636 | K5: =MONTH(J5) -> 10 | L5: =IF(OR(TEXT(J5,"DDDD")=$U$42,TEXT(J5,"DDDD")=$U$43),$U$44,TEXT(J5,"DDDD")) -> יום חמישי | M5: =YEAR(TODAY())-YEAR(E5) -> 4 | N5: =I5-IF(OR(F5=$U$54,F5=$U$55),VLOOKUP(I5,$V$54:$W$59,2,TRUE),IF(F5=$U$61,VLOOKUP(I5,$V$61:$W$62,2,TRUE),$W$64))*I5 -> 6819.4 | O5: =IF(AND(G5=$U$67,H5<=$V$67),$W$67,IF(AND(G5=$U$67,H5>$V$67),$W$68,IF(AND(G5=$U$70,YEAR(E5)<=$V$70),$W$70,IF(AND(G5=$U$70,YEAR(E5)>$V$70,YEAR(E5)<=$V$72),$W$72,IF(AND(G5=$U$70,YEAR(E5)>$V$72),$W$73,$W$75))))) -> קורס קניינות ברשת
A6: 7 | B6: אזולאי אתי ושמיל | C6: רעות | D6: 33030 | E6: 44183 | F6: מוסמך | G6: ראש צוות | H6: 4989 | I6: =VLOOKUP(G6,'[1]נתונים נוספים'!$B$5:$C$9,2,FALSE)*$V$2+H6 -> 6189 | J6: =IF(AND(OR(G6=$V$33,G6=$V$34,G6=$V$35),OR(F6=$U$33,F6=$U$34)),DATE(YEAR(D6)+$U$36,MONTH(D6),DAY(D6)),IF((YEAR(E6)-YEAR(D6))>$U$37,DATE(YEAR(TODAY())+$U$38,MONTH(TODAY()),DAY(TODAY())),DATE(YEAR(D6)+$U$39,MONTH(D6),DAY(D6)))) -> 58598 | K6: =MONTH(J6) -> 6 | L6: =IF(OR(TEXT(J6,"DDDD")=$U$42,TEXT(J6,"DDDD")=$U$43),$U$44,TEXT(J6,"DDDD")) -> יקבע מועד אחר | M6: =YEAR(TODAY())-YEAR(E6) -> 6 | N6: =I6-IF(OR(F6=$U$54,F6=$U$55),VLOOKUP(I6,$V$54:$W$59,2,TRUE),IF(F6=$U$61,VLOOKUP(I6,$V$61:$W$62,2,TRUE),$W$64))*I6 -> 5570.1 | O6: =IF(AND(G6=$U$67,H6<=$V$67),$W$67,IF(AND(G6=$U$67,H6>$V$67),$W$68,IF(AND(G6=$U$70,YEAR(E6)<=$V$70),$W$70,IF(AND(G6=$U$70,YEAR(E6)>$V$70,YEAR(E6)<=$V$72),$W$72,IF(AND(G6=$U$70,YEAR(E6)>$V$72),$W$73,$W$75))))) -> קורס AI | V6: השכלה
A7: 218 | B7: גבר ברוך | C7: גזר | D7: 33030 | E7: 44641 | F7: ד"ר | G7: מנהל מחלקה | H7: 8909 | I7: =VLOOKUP(G7,'[1]נתונים נוספים'!$B$5:$C$9,2,FALSE)*$V$2+H7 -> 10349 | J7: =IF(AND(OR(G7=$V$33,G7=$V$34,G7=$V$35),OR(F7=$U$33,F7=$U$34)),DATE(YEAR(D7)+$U$36,MONTH(D7),DAY(D7)),IF((YEAR(E7)-YEAR(D7))>$U$37,DATE(YEAR(TODAY())+$U$38,MONTH(TODAY()),DAY(TODAY())),DATE(YEAR(D7)+$U$39,MONTH(D7),DAY(D7)))) -> 58598 | K7: =MONTH(J7) -> 6 | L7: =IF(OR(TEXT(J7,"DDDD")=$U$42,TEXT(J7,"DDDD")=$U$43),$U$44,TEXT(J7,"DDDD")) -> יקבע מועד אחר | M7: =YEAR(TODAY())-YEAR(E7) -> 4 | N7: =I7-IF(OR(F7=$U$54,F7=$U$55),VLOOKUP(I7,$V$54:$W$59,2,TRUE),IF(F7=$U$61,VLOOKUP(I7,$V$61:$W$62,2,TRUE),$W$64))*I7 -> 6209.4 | O7: =IF(AND(G7=$U$67,H7<=$V$67),$W$67,IF(AND(G7=$U$67,H7>$V$67),$W$68,IF(AND(G7=$U$70,YEAR(E7)<=$V$70),$W$70,IF(AND(G7=$U$70,YEAR(E7)>$V$70,YEAR(E7)<=$V$72),$W$72,IF(AND(G7=$U$70,YEAR(E7)>$V$72),$W$73,$W$75))))) -> קורס קניינות ברשת | S7: מועד ב 2024 | V7: מוסמך
A8: 11 | B8: אלבז איריס ומיכאל | C8: מצפה רמון | D8: 32980 | E8: 41434 | F8: ד"ר | G8: סמנכ"ל | H8: 9744 | I8: =VLOOKUP(G8,'[1]נתונים נוספים'!$B$5:$C$9,2,FALSE)*$V$2+H8 -> 11584 | J8: =IF(AND(OR(G8=$V$33,G8=$V$34,G8=$V$35),OR(F8=$U$33,F8=$U$34)),DATE(YEAR(D8)+$U$36,MONTH(D8),DAY(D8)),IF((YEAR(E8)-YEAR(D8))>$U$37,DATE(YEAR(TODAY())+$U$38,MONTH(TODAY()),DAY(TODAY())),DATE(YEAR(D8)+$U$39,MONTH(D8),DAY(D8)))) -> 58548 | K8: =MONTH(J8) -> 4 | L8: =IF(OR(TEXT(J8,"DDDD")=$U$42,TEXT(J8,"DDDD")=$U$43),$U$44,TEXT(J8,"DDDD")) -> יקבע מועד אחר | M8: =YEAR(TODAY())-YEAR(E8) -> 13 | N8: =I8-IF(OR(F8=$U$54,F8=$U$55),VLOOKUP(I8,$V$54:$W$59,2,TRUE),IF(F8=$U$61,VLOOKUP(I8,$V$61:$W$62,2,TRUE),$W$64))*I8 -> 6950.4 | O8: =IF(AND(G8=$U$67,H8<=$V$67),$W$67,IF(AND(G8=$U$67,H8>$V$67),$W$68,IF(AND(G8=$U$70,YEAR(E8)<=$V$70),$W$70,IF(AND(G8=$U$70,YEAR(E8)>$V$70,YEAR(E8)<=$V$72),$W$72,IF(AND(G8=$U$70,YEAR(E8)>$V$72),$W$73,$W$75))))) -> קורס קניינות ברשת
A9: 10 | B9: אינברג בוריס | C9: באר שבע | D9: 32933 | E9: 44678 | F9: מוסמך | G9: מנהל מחלקה | H9: 4104 | I9: =VLOOKUP(G9,'[1]נתונים נוספים'!$B$5:$C$9,2,FALSE)*$V$2+H9 -> 5544 | J9: =IF(AND(OR(G9=$V$33,G9=$V$34,G9=$V$35),OR(F9=$U$33,F9=$U$34)),DATE(YEAR(D9)+$U$36,MONTH(D9),DAY(D9)),IF((YEAR(E9)-YEAR(D9))>$U$37,DATE(YEAR(TODAY())+$U$38,MONTH(TODAY()),DAY(TODAY())),DATE(YEAR(D9)+$U$39,MONTH(D9),DAY(D9)))) -> 58501 | K9: =MONTH(J9) -> 3 | L9: =IF(OR(TEXT(J9,"DDDD")=$U$42,TEXT(J9,"DDDD")=$U$43),$U$44,TEXT(J9,"DDDD")) -> יום שני | M9: =YEAR(TODAY())-YEAR(E9) -> 4 | N9: =I9-IF(OR(F9=$U$54,F9=$U$55),VLOOKUP(I9,$V$54:$W$59,2,TRUE),IF(F9=$U$61,VLOOKUP(I9,$V$61:$W$62,2,TRUE),$W$64))*I9 -> 5544 | O9: =IF(AND(G9=$U$67,H9<=$V$67),$W$67,IF(AND(G9=$U$67,H9>$V$67),$W$68,IF(AND(G9=$U$70,YEAR(E9)<=$V$70),$W$70,IF(AND(G9=$U$70,YEAR(E9)>$V$70,YEAR(E9)<=$V$72),$W$72,IF(AND(G9=$U$70,YEAR(E9)>$V$72),$W$73,$W$75))))) -> קורס קניינות ברשת | U9: סה"כ השכר של עובדים בעלי דרגה מוסמך : | W9: =DSUM(A1:I60,I1,V6:V7) -> 98074
A10: 4 | B10: אברהם מטי ויצחק | C10: מגדיאל | D10: 32883 | E10: 44579 | F10: ד"ר | G10: מנהל מחלקה | H10: 9581 | I10: =VLOOKUP(G10,'[1]נתונים נוספים'!$B$5:$C$9,2,FALSE)*$V$2+H10 -> 11021 | J10: =IF(AND(OR(G10=$V$33,G10=$V$34,G10=$V$35),OR(F10=$U$33,F10=$U$34)),DATE(YEAR(D10)+$U$36,MONTH(D10),DAY(D10)),IF((YEAR(E10)-YEAR(D10))>$U$37,DATE(YEAR(TODAY())+$U$38,MONTH(TODAY()),DAY(TODAY())),DATE(YEAR(D10)+$U$39,MONTH(D10),DAY(D10)))) -> 58450 | K10: =MONTH(J10) -> 1 | L10: =IF(OR(TEXT(J10,"DDDD")=$U$42,TEXT(J10,"DDDD")=$U$43),$U$44,TEXT(J10,"DDDD")) -> יקבע מועד אחר | M10: =YEAR(TODAY())-YEAR(E10) -> 4 | N10: =I10-IF(OR(F10=$U$54,F10=$U$55),VLOOKUP(I10,$V$54:$W$59,2,TRUE),IF(F10=$U$61,VLOOKUP(I10,$V$61:$W$62,2,TRUE),$W$64))*I10 -> 6612.6 | O10: =IF(AND(G10=$U$67,H10<=$V$67),$W$67,IF(AND(G10=$U$67,H10>$V$67),$W$68,IF(AND(G10=$U$70,YEAR(E10)<=$V$70),$W$70,IF(AND(G10=$U$70,YEAR(E10)>$V$70,YEAR(E10)<=$V$72),$W$72,IF(AND(G10=$U$70,YEAR(E10)>$V$72),$W$73,$W$75))))) -> קורס קניינות ברשת
A11: 246 | B11: חורב אלון וקארין | C11: מגדיאל | D11: 32835 | E11: 40700 | F11: מוסמך | G11: מנהל תחום | H11: 9967 | I11: =VLOOKUP(G11,'[1]נתונים נוספים'!$B$5:$C$9,2,FALSE)*$V$2+H11 -> 10927 | J11: =IF(AND(OR(G11=$V$33,G11=$V$34,G11=$V$35),OR(F11=$U$33,F11=$U$34)),DATE(YEAR(D11)+$U$36,MONTH(D11),DAY(D11)),IF((YEAR(E11)-YEAR(D11))>$U$37,DATE(YEAR(TODAY())+$U$38,MONTH(TODAY()),DAY(TODAY())),DATE(YEAR(D11)+$U$39,MONTH(D11),DAY(D11)))) -> 57307 | K11: =MONTH(J11) -> 11 | L11: =IF(OR(TEXT(J11,"DDDD")=$U$42,TEXT(J11,"DDDD")=$U$43),$U$44,TEXT(J11,"DDDD")) -> יום חמישי | M11: =YEAR(TODAY())-YEAR(E11) -> 15 | N11: =I11-IF(OR(F11=$U$54,F11=$U$55),VLOOKUP(I11,$V$54:$W$59,2,TRUE),IF(F11=$U$61,VLOOKUP(I11,$V$61:$W$62,2,TRUE),$W$64))*I11 -> 6556.2 | O11: =IF(AND(G11=$U$67,H11<=$V$67),$W$67,IF(AND(G11=$U$67,H11>$V$67),$W$68,IF(AND(G11=$U$70,YEAR(E11)<=$V$70),$W$70,IF(AND(G11=$U$70,YEAR(E11)>$V$70,YEAR(E11)<=$V$72),$W$72,IF(AND(G11=$U$70,YEAR(E11)>$V$72),$W$73,$W$75))))) -> קורס קניינות ברשת | U11: תוספת בגין כל נקודה | V11: =W9 -> 98074
A12: 245 | B12: צברי ורד ומשה | C12: מגדיאל | D12: 32813 | E12: 40935 | F12: ד"ר | G12: מנהל תחום | H12: 6852 | I12: =VLOOKUP(G12,'[1]נתונים נוספים'!$B$5:$C$9,2,FALSE)*$V$2+H12 -> 7812 | J12: =IF(AND(OR(G12=$V$33,G12=$V$34,G12=$V$35),OR(F12=$U$33,F12=$U$34)),DATE(YEAR(D12)+$U$36,MONTH(D12),DAY(D12)),IF((YEAR(E12)-YEAR(D12))>$U$37,DATE(YEAR(TODAY())+$U$38,MONTH(TODAY()),DAY(TODAY())),DATE(YEAR(D12)+$U$39,MONTH(D12),DAY(D12)))) -> 57285 | K12: =MONTH(J12) -> 11 | L12: =IF(OR(TEXT(J12,"DDDD")=$U$42,TEXT(J12,"DDDD")=$U$43),$U$44,TEXT(J12,"DDDD")) -> יום רביעי | M12: =YEAR(TODAY())-YEAR(E12) -> 14 | N12: =I12-IF(OR(F12=$U$54,F12=$U$55),VLOOKUP(I12,$V$54:$W$59,2,TRUE),IF(F12=$U$61,VLOOKUP(I12,$V$61:$W$62,2,TRUE),$W$64))*I12 -> 6718.32 | O12: =IF(AND(G12=$U$67,H12<=$V$67),$W$67,IF(AND(G12=$U$67,H12>$V$67),$W$68,IF(AND(G12=$U$70,YEAR(E12)<=$V$70),$W$70,IF(AND(G12=$U$70,YEAR(E12)>$V$70,YEAR(E12)<=$V$72),$W$72,IF(AND(G12=$U$70,YEAR(E12)>$V$72),$W$73,$W$75))))) -> קורס קניינות ברשת | U12: 70 | V12: 96254
A13: 276 | B13: דרור גיטי ונתן | C13: רעננה | D13: 32778 | E13: 40745 | F13: תיכונית | G13: ראש צוות | H13: 6285 | I13: =VLOOKUP(G13,'[1]נתונים נוספים'!$B$5:$C$9,2,FALSE)*$V$2+H13 -> 7485 | J13: =IF(AND(OR(G13=$V$33,G13=$V$34,G13=$V$35),OR(F13=$U$33,F13=$U$34)),DATE(YEAR(D13)+$U$36,MONTH(D13),DAY(D13)),IF((YEAR(E13)-YEAR(D13))>$U$37,DATE(YEAR(TODAY())+$U$38,MONTH(TODAY()),DAY(TODAY())),DATE(YEAR(D13)+$U$39,MONTH(D13),DAY(D13)))) -> 57250 | K13: =MONTH(J13) -> 9 | L13: =IF(OR(TEXT(J13,"DDDD")=$U$42,TEXT(J13,"DDDD")=$U$43),$U$44,TEXT(J13,"DDDD")) -> יום רביעי | M13: =YEAR(TODAY())-YEAR(E13) -> 15 | N13: =I13-IF(OR(F13=$U$54,F13=$U$55),VLOOKUP(I13,$V$54:$W$59,2,TRUE),IF(F13=$U$61,VLOOKUP(I13,$V$61:$W$62,2,TRUE),$W$64))*I13 -> 5613.75 | O13: =IF(AND(G13=$U$67,H13<=$V$67),$W$67,IF(AND(G13=$U$67,H13>$V$67),$W$68,IF(AND(G13=$U$70,YEAR(E13)<=$V$70),$W$70,IF(AND(G13=$U$70,YEAR(E13)>$V$70,YEAR(E13)<=$V$72),$W$72,IF(AND(G13=$U$70,YEAR(E13)>$V$72),$W$73,$W$75))))) -> קורס BI | U13: 75 | V13: 97164
A14: 48 | B14: גולני תמי ואורי | C14: החותרים | D14: 32729 | E14: 40562 | F14: תיכונית | G14: פקיד | H14: 4868 | I14: =VLOOKUP(G14,'[1]נתונים נוספים'!$B$5:$C$9,2,FALSE)*$V$2+H14 -> 5668 | J14: =IF(AND(OR(G14=$V$33,G14=$V$34,G14=$V$35),OR(F14=$U$33,F14=$U$34)),DATE(YEAR(D14)+$U$36,MONTH(D14),DAY(D14)),IF((YEAR(E14)-YEAR(D14))>$U$37,DATE(YEAR(TODAY())+$U$38,MONTH(TODAY()),DAY(TODAY())),DATE(YEAR(D14)+$U$39,MONTH(D14),DAY(D14)))) -> 57201 | K14: =MONTH(J14) -> 8 | L14: =IF(OR(TEXT(J14,"DDDD")=$U$42,TEXT(J14,"DDDD")=$U$43),$U$44,TEXT(J14,"DDDD")) -> יום רביעי | M14: =YEAR(TODAY())-YEAR(E14) -> 15 | N14: =I14-IF(OR(F14=$U$54,F14=$U$55),VLOOKUP(I14,$V$54:$W$59,2,TRUE),IF(F14=$U$61,VLOOKUP(I14,$V$61:$W$62,2,TRUE),$W$64))*I14 -> 4251 | O14: =IF(AND(G14=$U$67,H14<=$V$67),$W$67,IF(AND(G14=$U$67,H14>$V$67),$W$68,IF(AND(G14=$U$70,YEAR(E14)<=$V$70),$W$70,IF(AND(G14=$U$70,YEAR(E14)>$V$70,YEAR(E14)<=$V$72),$W$72,IF(AND(G14=$U$70,YEAR(E14)>$V$72),$W$73,$W$75))))) -> קורס מחשבים כולל | U14: 80 | V14: 98074
A15: 95 | B15: לוי שולה ואבי | C15: מצפה רמון | D15: 32720 | E15: 40806 | F15: ד"ר | G15: מנהל מחלקה | H15: 4075 | I15: =VLOOKUP(G15,'[1]נתונים נוספים'!$B$5:$C$9,2,FALSE)*$V$2+H15 -> 5515 | J15: =IF(AND(OR(G15=$V$33,G15=$V$34,G15=$V$35),OR(F15=$U$33,F15=$U$34)),DATE(YEAR(D15)+$U$36,MONTH(D15),DAY(D15)),IF((YEAR(E15)-YEAR(D15))>$U$37,DATE(YEAR(TODAY())+$U$38,MONTH(TODAY()),DAY(TODAY())),DATE(YEAR(D15)+$U$39,MONTH(D15),DAY(D15)))) -> 58287 | K15: =MONTH(J15) -> 7 | L15: =IF(OR(TEXT(J15,"DDDD")=$U$42,TEXT(J15,"DDDD")=$U$43),$U$44,TEXT(J15,"DDDD")) -> יום חמישי | M15: =YEAR(TODAY())-YEAR(E15) -> 15 | N15: =I15-IF(OR(F15=$U$54,F15=$U$55),VLOOKUP(I15,$V$54:$W$59,2,TRUE),IF(F15=$U$61,VLOOKUP(I15,$V$61:$W$62,2,TRUE),$W$64))*I15 -> 5515 | O15: =IF(AND(G15=$U$67,H15<=$V$67),$W$67,IF(AND(G15=$U$67,H15>$V$67),$W$68,IF(AND(G15=$U$70,YEAR(E15)<=$V$70),$W$70,IF(AND(G15=$U$70,YEAR(E15)>$V$70,YEAR(E15)<=$V$72),$W$72,IF(AND(G15=$U$70,YEAR(E15)>$V$72),$W$73,$W$75))))) -> קורס קניינות ברשת | U15: 85 | V15: 98984
A16: 59 | B16: דמרי שושנה ודניאל | C16: כפר סבא | D16: 32683 | E16: 41076 | F16: בוגר | G16: מנהל מחלקה | H16: 6195 | I16: =VLOOKUP(G16,'[1]נתונים נוספים'!$B$5:$C$9,2,FALSE)*$V$2+H16 -> 7635 | J16: =IF(AND(OR(G16=$V$33,G16=$V$34,G16=$V$35),OR(F16=$U$33,F16=$U$34)),DATE(YEAR(D16)+$U$36,MONTH(D16),DAY(D16)),IF((YEAR(E16)-YEAR(D16))>$U$37,DATE(YEAR(TODAY())+$U$38,MONTH(TODAY()),DAY(TODAY())),DATE(YEAR(D16)+$U$39,MONTH(D16),DAY(D16)))) -> 57155 | K16: =MONTH(J16) -> 6 | L16: =IF(OR(TEXT(J16,"DDDD")=$U$42,TEXT(J16,"DDDD")=$U$43),$U$44,TEXT(J16,"DDDD")) -> יקבע מועד אחר | M16: =YEAR(TODAY())-YEAR(E16) -> 14 | N16: =I16-IF(OR(F16=$U$54,F16=$U$55),VLOOKUP(I16,$V$54:$W$59,2,TRUE),IF(F16=$U$61,VLOOKUP(I16,$V$61:$W$62,2,TRUE),$W$64))*I16 -> 6108 | O16: =IF(AND(G16=$U$67,H16<=$V$67),$W$67,IF(AND(G16=$U$67,H16>$V$67),$W$68,IF(AND(G16=$U$70,YEAR(E16)<=$V$70),$W$70,IF(AND(G16=$U$70,YEAR(E16)>$V$70,YEAR(E16)<=$V$72),$W$72,IF(AND(G16=$U$70,YEAR(E16)>$V$72),$W$73,$W$75))))) -> קורס קניינות ברשת | U16: 90 | V16: 99894
A17: 173 | B17: מירי לאשוילי שרה | C17: אופקים | D17: 32651 | E17: 40938 | F17: מוסמך | G17: פקיד | H17: 8648 | I17: =VLOOKUP(G17,'[1]נתונים נוספים'!$B$5:$C$9,2,FALSE)*$V$2+H17 -> 9448 | J17: =IF(AND(OR(G17=$V$33,G17=$V$34,G17=$V$35),OR(F17=$U$33,F17=$U$34)),DATE(YEAR(D17)+$U$36,MONTH(D17),DAY(D17)),IF((YEAR(E17)-YEAR(D17))>$U$37,DATE(YEAR(TODAY())+$U$38,MONTH(TODAY()),DAY(TODAY())),DATE(YEAR(D17)+$U$39,MONTH(D17),DAY(D17)))) -> 57123 | K17: =MONTH(J17) -> 5 | L17: =IF(OR(TEXT(J17,"DDDD")=$U$42,TEXT(J17,"DDDD")=$U$43),$U$44,TEXT(J17,"DDDD")) -> יום שלישי | M17: =YEAR(TODAY())-YEAR(E17) -> 14 | N17: =I17-IF(OR(F17=$U$54,F17=$U$55),VLOOKUP(I17,$V$54:$W$59,2,TRUE),IF(F17=$U$61,VLOOKUP(I17,$V$61:$W$62,2,TRUE),$W$64))*I17 -> 6613.6 | O17: =IF(AND(G17=$U$67,H17<=$V$67),$W$67,IF(AND(G17=$U$67,H17>$V$67),$W$68,IF(AND(G17=$U$70,YEAR(E17)<=$V$70),$W$70,IF(AND(G17=$U$70,YEAR(E17)>$V$70,YEAR(E17)<=$V$72),$W$72,IF(AND(G17=$U$70,YEAR(E17)>$V$72),$W$73,$W$75))))) -> ניהול טכנולוגי | U17: 95 | V17: 100804
A18: 105 | B18: מנדלבוים שרה וחיים | C18: מודיעין | D18: 32617 | E18: 40590 | F18: תיכונית | G18: ראש צוות | H18: 4341 | I18: =VLOOKUP(G18,'[1]נתונים נוספים'!$B$5:$C$9,2,FALSE)*$V$2+H18 -> 5541 | J18: =IF(AND(OR(G18=$V$33,G18=$V$34,G18=$V$35),OR(F18=$U$33,F18=$U$34)),DATE(YEAR(D18)+$U$36,MONTH(D18),DAY(D18)),IF((YEAR(E18)-YEAR(D18))>$U$37,DATE(YEAR(TODAY())+$U$38,MONTH(TODAY()),DAY(TODAY())),DATE(YEAR(D18)+$U$39,MONTH(D18),DAY(D18)))) -> 57089 | K18: =MONTH(J18) -> 4 | L18: =IF(OR(TEXT(J18,"DDDD")=$U$42,TEXT(J18,"DDDD")=$U$43),$U$44,TEXT(J18,"DDDD")) -> יום רביעי | M18: =YEAR(TODAY())-YEAR(E18) -> 15 | N18: =I18-IF(OR(F18=$U$54,F18=$U$55),VLOOKUP(I18,$V$54:$W$59,2,TRUE),IF(F18=$U$61,VLOOKUP(I18,$V$61:$W$62,2,TRUE),$W$64))*I18 -> 4155.75 | O18: =IF(AND(G18=$U$67,H18<=$V$67),$W$67,IF(AND(G18=$U$67,H18>$V$67),$W$68,IF(AND(G18=$U$70,YEAR(E18)<=$V$70),$W$70,IF(AND(G18=$U$70,YEAR(E18)>$V$70,YEAR(E18)<=$V$72),$W$72,IF(AND(G18=$U$70,YEAR(E18)>$V$72),$W$73,$W$75))))) -> קורס AI | U18: 100 | V18: 101714
A19: 26 | B19: בארי חיה ואיציק | C19: רעות | D19: 32610 | E19: 40961 | F19: ד"ר | G19: מנהל תחום | H19: 4480 | I19: =VLOOKUP(G19,'[1]נתונים נוספים'!$B$5:$C$9,2,FALSE)*$V$2+H19 -> 5440 | J19: =IF(AND(OR(G19=$V$33,G19=$V$34,G19=$V$35),OR(F19=$U$33,F19=$U$34)),DATE(YEAR(D19)+$U$36,MONTH(D19),DAY(D19)),IF((YEAR(E19)-YEAR(D19))>$U$37,DATE(YEAR(TODAY())+$U$38,MONTH(TODAY()),DAY(TODAY())),DATE(YEAR(D19)+$U$39,MONTH(D19),DAY(D19)))) -> 57082 | K19: =MONTH(J19) -> 4 | L19: =IF(OR(TEXT(J19,"DDDD")=$U$42,TEXT(J19,"DDDD")=$U$43),$U$44,TEXT(J19,"DDDD")) -> יום רביעי | M19: =YEAR(TODAY())-YEAR(E19) -> 14 | N19: =I19-IF(OR(F19=$U$54,F19=$U$55),VLOOKUP(I19,$V$54:$W$59,2,TRUE),IF(F19=$U$61,VLOOKUP(I19,$V$61:$W$62,2,TRUE),$W$64))*I19 -> 5440 | O19: =IF(AND(G19=$U$67,H19<=$V$67),$W$67,IF(AND(G19=$U$67,H19>$V$67),$W$68,IF(AND(G19=$U$70,YEAR(E19)<=$V$70),$W$70,IF(AND(G19=$U$70,YEAR(E19)>$V$70,YEAR(E19)<=$V$72),$W$72,IF(AND(G19=$U$70,YEAR(E19)>$V$72),$W$73,$W$75))))) -> קורס קניינות ברשת | U19: 105 | V19: 102624
A20: 167 | B20: תותחני מנשה | C20: חיפה | D20: 32609 | E20: 41264 | F20: תיכונית | G20: פקיד | H20: 4327 | I20: =VLOOKUP(G20,'[1]נתונים נוספים'!$B$5:$C$9,2,FALSE)*$V$2+H20 -> 5127 | J20: =IF(AND(OR(G20=$V$33,G20=$V$34,G20=$V$35),OR(F20=$U$33,F20=$U$34)),DATE(YEAR(D20)+$U$36,MONTH(D20),DAY(D20)),IF((YEAR(E20)-YEAR(D20))>$U$37,DATE(YEAR(TODAY())+$U$38,MONTH(TODAY()),DAY(TODAY())),DATE(YEAR(D20)+$U$39,MONTH(D20),DAY(D20)))) -> 57081 | K20: =MONTH(J20) -> 4 | L20: =IF(OR(TEXT(J20,"DDDD")=$U$42,TEXT(J20,"DDDD")=$U$43),$U$44,TEXT(J20,"DDDD")) -> יום שלישי | M20: =YEAR(TODAY())-YEAR(E20) -> 14 | N20: =I20-IF(OR(F20=$U$54,F20=$U$55),VLOOKUP(I20,$V$54:$W$59,2,TRUE),IF(F20=$U$61,VLOOKUP(I20,$V$61:$W$62,2,TRUE),$W$64))*I20 -> 3845.25 | O20: =IF(AND(G20=$U$67,H20<=$V$67),$W$67,IF(AND(G20=$U$67,H20>$V$67),$W$68,IF(AND(G20=$U$70,YEAR(E20)<=$V$70),$W$70,IF(AND(G20=$U$70,YEAR(E20)>$V$70,YEAR(E20)<=$V$72),$W$72,IF(AND(G20=$U$70,YEAR(E20)>$V$72),$W$73,$W$75))))) -> ניהול טכנולוגי | U20: 110 | V20: 103534
A21: 151 | B21: שובל ציונה וגבי | C21: תל אביב-יפו | D21: 32596 | E21: 40927 | F21: תיכונית | G21: פקיד | H21: 5404 | I21: =VLOOKUP(G21,'[1]נתונים נוספים'!$B$5:$C$9,2,FALSE)*$V$2+H21 -> 6204 | J21: =IF(AND(OR(G21=$V$33,G21=$V$34,G21=$V$35),OR(F21=$U$33,F21=$U$34)),DATE(YEAR(D21)+$U$36,MONTH(D21),DAY(D21)),IF((YEAR(E21)-YEAR(D21))>$U$37,DATE(YEAR(TODAY())+$U$38,MONTH(TODAY()),DAY(TODAY())),DATE(YEAR(D21)+$U$39,MONTH(D21),DAY(D21)))) -> 57068 | K21: =MONTH(J21) -> 3 | L21: =IF(OR(TEXT(J21,"DDDD")=$U$42,TEXT(J21,"DDDD")=$U$43),$U$44,TEXT(J21,"DDDD")) -> יום רביעי | M21: =YEAR(TODAY())-YEAR(E21) -> 14 | N21: =I21-IF(OR(F21=$U$54,F21=$U$55),VLOOKUP(I21,$V$54:$W$59,2,TRUE),IF(F21=$U$61,VLOOKUP(I21,$V$61:$W$62,2,TRUE),$W$64))*I21 -> 4653 | O21: =IF(AND(G21=$U$67,H21<=$V$67),$W$67,IF(AND(G21=$U$67,H21>$V$67),$W$68,IF(AND(G21=$U$70,YEAR(E21)<=$V$70),$W$70,IF(AND(G21=$U$70,YEAR(E21)>$V$70,YEAR(E21)<=$V$72),$W$72,IF(AND(G21=$U$70,YEAR(E21)>$V$72),$W$73,$W$75))))) -> ניהול טכנולוגי | U21: 115 | V21: 104444
A22: 14 | B22: אלבז תמי ושמעון | C22: מודיעין | D22: 32533 | E22: 43997 | F22: ד"ר | G22: מנהל מחלקה | H22: 7825 | I22: =VLOOKUP(G22,'[1]נתונים נוספים'!$B$5:$C$9,2,FALSE)*$V$2+H22 -> 9265 | J22: =IF(AND(OR(G22=$V$33,G22=$V$34,G22=$V$35),OR(F22=$U$33,F22=$U$34)),DATE(YEAR(D22)+$U$36,MONTH(D22),DAY(D22)),IF((YEAR(E22)-YEAR(D22))>$U$37,DATE(YEAR(TODAY())+$U$38,MONTH(TODAY()),DAY(TODAY())),DATE(YEAR(D22)+$U$39,MONTH(D22),DAY(D22)))) -> 58100 | K22: =MONTH(J22) -> 1 | L22: =IF(OR(TEXT(J22,"DDDD")=$U$42,TEXT(J22,"DDDD")=$U$43),$U$44,TEXT(J22,"DDDD")) -> יקבע מועד אחר | M22: =YEAR(TODAY())-YEAR(E22) -> 6 | N22: =I22-IF(OR(F22=$U$54,F22=$U$55),VLOOKUP(I22,$V$54:$W$59,2,TRUE),IF(F22=$U$61,VLOOKUP(I22,$V$61:$W$62,2,TRUE),$W$64))*I22 -> 6485.5 | O22: =IF(AND(G22=$U$67,H22<=$V$67),$W$67,IF(AND(G22=$U$67,H22>$V$67),$W$68,IF(AND(G22=$U$70,YEAR(E22)<=$V$70),$W$70,IF(AND(G22=$U$70,YEAR(E22)>$V$70,YEAR(E22)<=$V$72),$W$72,IF(AND(G22=$U$70,YEAR(E22)>$V$72),$W$73,$W$75))))) -> קורס קניינות ברשת | U22: 120 | V22: 105354
A23: 126 | B23: עמירה יפה וברוך | C23: אופקים | D23: 32532 | E23: 41125 | F23: תיכונית | G23: סמנכ"ל | H23: 8305 | I23: =VLOOKUP(G23,'[1]נתונים נוספים'!$B$5:$C$9,2,FALSE)*$V$2+H23 -> 10145 | J23: =IF(AND(OR(G23=$V$33,G23=$V$34,G23=$V$35),OR(F23=$U$33,F23=$U$34)),DATE(YEAR(D23)+$U$36,MONTH(D23),DAY(D23)),IF((YEAR(E23)-YEAR(D23))>$U$37,DATE(YEAR(TODAY())+$U$38,MONTH(TODAY()),DAY(TODAY())),DATE(YEAR(D23)+$U$39,MONTH(D23),DAY(D23)))) -> 57003 | K23: =MONTH(J23) -> 1 | L23: =IF(OR(TEXT(J23,"DDDD")=$U$42,TEXT(J23,"DDDD")=$U$43),$U$44,TEXT(J23,"DDDD")) -> יום שני | M23: =YEAR(TODAY())-YEAR(E23) -> 14 | N23: =I23-IF(OR(F23=$U$54,F23=$U$55),VLOOKUP(I23,$V$54:$W$59,2,TRUE),IF(F23=$U$61,VLOOKUP(I23,$V$61:$W$62,2,TRUE),$W$64))*I23 -> 7608.75 | O23: =IF(AND(G23=$U$67,H23<=$V$67),$W$67,IF(AND(G23=$U$67,H23>$V$67),$W$68,IF(AND(G23=$U$70,YEAR(E23)<=$V$70),$W$70,IF(AND(G23=$U$70,YEAR(E23)>$V$70,YEAR(E23)<=$V$72),$W$72,IF(AND(G23=$U$70,YEAR(E23)>$V$72),$W$73,$W$75))))) -> קורס קניינות ברשת
A24: 235 | B24: סינגל אילן | C24: חיפה | D24: 32531 | E24: 41247 | F24: ד"ר | G24: מנהל תחום | H24: 7570 | I24: =VLOOKUP(G24,'[1]נתונים נוספים'!$B$5:$C$9,2,FALSE)*$V$2+H24 -> 8530 | J24: =IF(AND(OR(G24=$V$33,G24=$V$34,G24=$V$35),OR(F24=$U$33,F24=$U$34)),DATE(YEAR(D24)+$U$36,MONTH(D24),DAY(D24)),IF((YEAR(E24)-YEAR(D24))>$U$37,DATE(YEAR(TODAY())+$U$38,MONTH(TODAY()),DAY(TODAY())),DATE(YEAR(D24)+$U$39,MONTH(D24),DAY(D24)))) -> 57002 | K24: =MONTH(J24) -> 1 | L24: =IF(OR(TEXT(J24,"DDDD")=$U$42,TEXT(J24,"DDDD")=$U$43),$U$44,TEXT(J24,"DDDD")) -> יקבע מועד אחר | M24: =YEAR(TODAY())-YEAR(E24) -> 14 | N24: =I24-IF(OR(F24=$U$54,F24=$U$55),VLOOKUP(I24,$V$54:$W$59,2,TRUE),IF(F24=$U$61,VLOOKUP(I24,$V$61:$W$62,2,TRUE),$W$64))*I24 -> 6824 | O24: =IF(AND(G24=$U$67,H24<=$V$67),$W$67,IF(AND(G24=$U$67,H24>$V$67),$W$68,IF(AND(G24=$U$70,YEAR(E24)<=$V$70),$W$70,IF(AND(G24=$U$70,YEAR(E24)>$V$70,YEAR(E24)<=$V$72),$W$72,IF(AND(G24=$U$70,YEAR(E24)>$V$72),$W$73,$W$75))))) -> קורס קניינות ברשת
A25: 254 | B25: איריס מזרחי | C25: תל אביב-יפו | D25: 32531 | E25: 41073 | F25: בוגר | G25: ראש צוות | H25: 9724 | I25: =VLOOKUP(G25,'[1]נתונים נוספים'!$B$5:$C$9,2,FALSE)*$V$2+H25 -> 10924 | J25: =IF(AND(OR(G25=$V$33,G25=$V$34,G25=$V$35),OR(F25=$U$33,F25=$U$34)),DATE(YEAR(D25)+$U$36,MONTH(D25),DAY(D25)),IF((YEAR(E25)-YEAR(D25))>$U$37,DATE(YEAR(TODAY())+$U$38,MONTH(TODAY()),DAY(TODAY())),DATE(YEAR(D25)+$U$39,MONTH(D25),DAY(D25)))) -> 57002 | K25: =MONTH(J25) -> 1 | L25: =IF(OR(TEXT(J25,"DDDD")=$U$42,TEXT(J25,"DDDD")=$U$43),$U$44,TEXT(J25,"DDDD")) -> יקבע מועד אחר | M25: =YEAR(TODAY())-YEAR(E25) -> 14 | N25: =I25-IF(OR(F25=$U$54,F25=$U$55),VLOOKUP(I25,$V$54:$W$59,2,TRUE),IF(F25=$U$61,VLOOKUP(I25,$V$61:$W$62,2,TRUE),$W$64))*I25 -> 7646.8 | O25: =IF(AND(G25=$U$67,H25<=$V$67),$W$67,IF(AND(G25=$U$67,H25>$V$67),$W$68,IF(AND(G25=$U$70,YEAR(E25)<=$V$70),$W$70,IF(AND(G25=$U$70,YEAR(E25)>$V$70,YEAR(E25)<=$V$72),$W$72,IF(AND(G25=$U$70,YEAR(E25)>$V$72),$W$73,$W$75))))) -> קורס BI
A26: 96 | B26: לחדן פטרישה וחיים | C26: רעות | D26: 32525 | E26: 41196 | F26: ד"ר | G26: מנהל תחום | H26: 6365 | I26: =VLOOKUP(G26,'[1]נתונים נוספים'!$B$5:$C$9,2,FALSE)*$V$2+H26 -> 7325 | J26: =IF(AND(OR(G26=$V$33,G26=$V$34,G26=$V$35),OR(F26=$U$33,F26=$U$34)),DATE(YEAR(D26)+$U$36,MONTH(D26),DAY(D26)),IF((YEAR(E26)-YEAR(D26))>$U$37,DATE(YEAR(TODAY())+$U$38,MONTH(TODAY()),DAY(TODAY())),DATE(YEAR(D26)+$U$39,MONTH(D26),DAY(D26)))) -> 56996 | K26: =MONTH(J26) -> 1 | L26: =IF(OR(TEXT(J26,"DDDD")=$U$42,TEXT(J26,"DDDD")=$U$43),$U$44,TEXT(J26,"DDDD")) -> יום שני | M26: =YEAR(TODAY())-YEAR(E26) -> 14 | N26: =I26-IF(OR(F26=$U$54,F26=$U$55),VLOOKUP(I26,$V$54:$W$59,2,TRUE),IF(F26=$U$61,VLOOKUP(I26,$V$61:$W$62,2,TRUE),$W$64))*I26 -> 6299.5 | O26: =IF(AND(G26=$U$67,H26<=$V$67),$W$67,IF(AND(G26=$U$67,H26>$V$67),$W$68,IF(AND(G26=$U$70,YEAR(E26)<=$V$70),$W$70,IF(AND(G26=$U$70,YEAR(E26)>$V$70,YEAR(E26)<=$V$72),$W$72,IF(AND(G26=$U$70,YEAR(E26)>$V$72),$W$73,$W$75))))) -> קורס קניינות ברשת
A27: 214 | B27: כדורי משה | C27: רעננה | D27: 32523 | E27: 40675 | F27: בוגר | G27: פקיד | H27: 4949 | I27: =VLOOKUP(G27,'[1]נתונים נוספים'!$B$5:$C$9,2,FALSE)*$V$2+H27 -> 5749 | J27: =IF(AND(OR(G27=$V$33,G27=$V$34,G27=$V$35),OR(F27=$U$33,F27=$U$34)),DATE(YEAR(D27)+$U$36,MONTH(D27),DAY(D27)),IF((YEAR(E27)-YEAR(D27))>$U$37,DATE(YEAR(TODAY())+$U$38,MONTH(TODAY()),DAY(TODAY())),DATE(YEAR(D27)+$U$39,MONTH(D27),DAY(D27)))) -> 56994 | K27: =MONTH(J27) -> 1 | L27: =IF(OR(TEXT(J27,"DDDD")=$U$42,TEXT(J27,"DDDD")=$U$43),$U$44,TEXT(J27,"DDDD")) -> יקבע מועד אחר | M27: =YEAR(TODAY())-YEAR(E27) -> 15 | N27: =I27-IF(OR(F27=$U$54,F27=$U$55),VLOOKUP(I27,$V$54:$W$59,2,TRUE),IF(F27=$U$61,VLOOKUP(I27,$V$61:$W$62,2,TRUE),$W$64))*I27 -> 4599.2 | O27: =IF(AND(G27=$U$67,H27<=$V$67),$W$67,IF(AND(G27=$U$67,H27>$V$67),$W$68,IF(AND(G27=$U$70,YEAR(E27)<=$V$70),$W$70,IF(AND(G27=$U$70,YEAR(E27)>$V$70,YEAR(E27)<=$V$72),$W$72,IF(AND(G27=$U$70,YEAR(E27)>$V$72),$W$73,$W$75))))) -> קורס מחשבים כולל
A28: 68 | B28: חזיזה אתי ואלי | C28: אילת | D28: 32513 | E28: 40548 | F28: מוסמך | G28: מנהל מחלקה | H28: 4435 | I28: =VLOOKUP(G28,'[1]נתונים נוספים'!$B$5:$C$9,2,FALSE)*$V$2+H28 -> 5875 | J28: =IF(AND(OR(G28=$V$33,G28=$V$34,G28=$V$35),OR(F28=$U$33,F28=$U$34)),DATE(YEAR(D28)+$U$36,MONTH(D28),DAY(D28)),IF((YEAR(E28)-YEAR(D28))>$U$37,DATE(YEAR(TODAY())+$U$38,MONTH(TODAY()),DAY(TODAY())),DATE(YEAR(D28)+$U$39,MONTH(D28),DAY(D28)))) -> 58080 | K28: =MONTH(J28) -> 1 | L28: =IF(OR(TEXT(J28,"DDDD")=$U$42,TEXT(J28,"DDDD")=$U$43),$U$44,TEXT(J28,"DDDD")) -> יקבע מועד אחר | M28: =YEAR(TODAY())-YEAR(E28) -> 15 | N28: =I28-IF(OR(F28=$U$54,F28=$U$55),VLOOKUP(I28,$V$54:$W$59,2,TRUE),IF(F28=$U$61,VLOOKUP(I28,$V$61:$W$62,2,TRUE),$W$64))*I28 -> 5875 | O28: =IF(AND(G28=$U$67,H28<=$V$67),$W$67,IF(AND(G28=$U$67,H28>$V$67),$W$68,IF(AND(G28=$U$70,YEAR(E28)<=$V$70),$W$70,IF(AND(G28=$U$70,YEAR(E28)>$V$70,YEAR(E28)<=$V$72),$W$72,IF(AND(G28=$U$70,YEAR(E28)>$V$72),$W$73,$W$75))))) -> קורס קניינות ברשת
A29: 123 | B29: עברי דבי ודודי | C29: מצפה רמון | D29: 32503 | E29: 40545 | F29: תיכונית | G29: מנהל מחלקה | H29: 9934 | I29: =VLOOKUP(G29,'[1]נתונים נוספים'!$B$5:$C$9,2,FALSE)*$V$2+H29 -> 11374 | J29: =IF(AND(OR(G29=$V$33,G29=$V$34,G29=$V$35),OR(F29=$U$33,F29=$U$34)),DATE(YEAR(D29)+$U$36,MONTH(D29),DAY(D29)),IF((YEAR(E29)-YEAR(D29))>$U$37,DATE(YEAR(TODAY())+$U$38,MONTH(TODAY()),DAY(TODAY())),DATE(YEAR(D29)+$U$39,MONTH(D29),DAY(D29)))) -> 56974 | K29: =MONTH(J29) -> 12 | L29: =IF(OR(TEXT(J29,"DDDD")=$U$42,TEXT(J29,"DDDD")=$U$43),$U$44,TEXT(J29,"DDDD")) -> יקבע מועד אחר | M29: =YEAR(TODAY())-YEAR(E29) -> 15 | N29: =I29-IF(OR(F29=$U$54,F29=$U$55),VLOOKUP(I29,$V$54:$W$59,2,TRUE),IF(F29=$U$61,VLOOKUP(I29,$V$61:$W$62,2,TRUE),$W$64))*I29 -> 8530.5 | O29: =IF(AND(G29=$U$67,H29<=$V$67),$W$67,IF(AND(G29=$U$67,H29>$V$67),$W$68,IF(AND(G29=$U$70,YEAR(E29)<=$V$70),$W$70,IF(AND(G29=$U$70,YEAR(E29)>$V$70,YEAR(E29)<=$V$72),$W$72,IF(AND(G29=$U$70,YEAR(E29)>$V$72),$W$73,$W$75))))) -> קורס קניינות ברשת
A30: 41 | B30: בסעד עופרה ומשה | C30: הוד השרון | D30: 32467 | E30: 40557 | F30: בוגר | G30: ראש צוות | H30: 4433 | I30: =VLOOKUP(G30,'[1]נתונים נוספים'!$B$5:$C$9,2,FALSE)*$V$2+H30 -> 5633 | J30: =IF(AND(OR(G30=$V$33,G30=$V$34,G30=$V$35),OR(F30=$U$33,F30=$U$34)),DATE(YEAR(D30)+$U$36,MONTH(D30),DAY(D30)),IF((YEAR(E30)-YEAR(D30))>$U$37,DATE(YEAR(TODAY())+$U$38,MONTH(TODAY()),DAY(TODAY())),DATE(YEAR(D30)+$U$39,MONTH(D30),DAY(D30)))) -> 56938 | K30: =MONTH(J30) -> 11 | L30: =IF(OR(TEXT(J30,"DDDD")=$U$42,TEXT(J30,"DDDD")=$U$43),$U$44,TEXT(J30,"DDDD")) -> יקבע מועד אחר | M30: =YEAR(TODAY())-YEAR(E30) -> 15 | N30: =I30-IF(OR(F30=$U$54,F30=$U$55),VLOOKUP(I30,$V$54:$W$59,2,TRUE),IF(F30=$U$61,VLOOKUP(I30,$V$61:$W$62,2,TRUE),$W$64))*I30 -> 4506.4 | O30: =IF(AND(G30=$U$67,H30<=$V$67),$W$67,IF(AND(G30=$U$67,H30>$V$67),$W$68,IF(AND(G30=$U$70,YEAR(E30)<=$V$70),$W$70,IF(AND(G30=$U$70,YEAR(E30)>$V$70,YEAR(E30)<=$V$72),$W$72,IF(AND(G30=$U$70,YEAR(E30)>$V$72),$W$73,$W$75))))) -> קורס AI
A31: 43 | B31: מכלוף שי | C31: אופקים | D31: 32461 | E31: 41083 | F31: בוגר | G31: פקיד | H31: 9359 | I31: =VLOOKUP(G31,'[1]נתונים נוספים'!$B$5:$C$9,2,FALSE)*$V$2+H31 -> 10159 | J31: =IF(AND(OR(G31=$V$33,G31=$V$34,G31=$V$35),OR(F31=$U$33,F31=$U$34)),DATE(YEAR(D31)+$U$36,MONTH(D31),DAY(D31)),IF((YEAR(E31)-YEAR(D31))>$U$37,DATE(YEAR(TODAY())+$U$38,MONTH(TODAY()),DAY(TODAY())),DATE(YEAR(D31)+$U$39,MONTH(D31),DAY(D31)))) -> 56932 | K31: =MONTH(J31) -> 11 | L31: =IF(OR(TEXT(J31,"DDDD")=$U$42,TEXT(J31,"DDDD")=$U$43),$U$44,TEXT(J31,"DDDD")) -> יקבע מועד אחר | M31: =YEAR(TODAY())-YEAR(E31) -> 14 | N31: =I31-IF(OR(F31=$U$54,F31=$U$55),VLOOKUP(I31,$V$54:$W$59,2,TRUE),IF(F31=$U$61,VLOOKUP(I31,$V$61:$W$62,2,TRUE),$W$64))*I31 -> 7111.3 | O31: =IF(AND(G31=$U$67,H31<=$V$67),$W$67,IF(AND(G31=$U$67,H31>$V$67),$W$68,IF(AND(G31=$U$70,YEAR(E31)<=$V$70),$W$70,IF(AND(G31=$U$70,YEAR(E31)>$V$70,YEAR(E31)<=$V$72),$W$72,IF(AND(G31=$U$70,YEAR(E31)>$V$72),$W$73,$W$75))))) -> ניהול טכנולוגי
A32: 134 | B32: פנחס נעמה ויריב | C32: רעננה | D32: 32460 | E32: 40218 | F32: מוסמך | G32: ראש צוות | H32: 4295 | I32: =VLOOKUP(G32,'[1]נתונים נוספים'!$B$5:$C$9,2,FALSE)*$V$2+H32 -> 5495 | J32: =IF(AND(OR(G32=$V$33,G32=$V$34,G32=$V$35),OR(F32=$U$33,F32=$U$34)),DATE(YEAR(D32)+$U$36,MONTH(D32),DAY(D32)),IF((YEAR(E32)-YEAR(D32))>$U$37,DATE(YEAR(TODAY())+$U$38,MONTH(TODAY()),DAY(TODAY())),DATE(YEAR(D32)+$U$39,MONTH(D32),DAY(D32)))) -> 58027 | K32: =MONTH(J32) -> 11 | L32: =IF(OR(TEXT(J32,"DDDD")=$U$42,TEXT(J32,"DDDD")=$U$43),$U$44,TEXT(J32,"DDDD")) -> יום רביעי | M32: =YEAR(TODAY())-YEAR(E32) -> 16 | N32: =I32-IF(OR(F32=$U$54,F32=$U$55),VLOOKUP(I32,$V$54:$W$59,2,TRUE),IF(F32=$U$61,VLOOKUP(I32,$V$61:$W$62,2,TRUE),$W$64))*I32 -> 5495 | O32: =IF(AND(G32=$U$67,H32<=$V$67),$W$67,IF(AND(G32=$U$67,H32>$V$67),$W$68,IF(AND(G32=$U$70,YEAR(E32)<=$V$70),$W$70,IF(AND(G32=$U$70,YEAR(E32)>$V$70,YEAR(E32)<=$V$72),$W$72,IF(AND(G32=$U$70,YEAR(E32)>$V$72),$W$73,$W$75))))) -> קורס AI
A33: 198 | B33: קרקו יצחק | C33: אילת | D33: 32437 | E33: 40920 | F33: מוסמך | G33: פקיד | H33: 6696 | I33: =VLOOKUP(G33,'[1]נתונים נוספים'!$B$5:$C$9,2,FALSE)*$V$2+H33 -> 7496 | J33: =IF(AND(OR(G33=$V$33,G33=$V$34,G33=$V$35),OR(F33=$U$33,F33=$U$34)),DATE(YEAR(D33)+$U$36,MONTH(D33),DAY(D33)),IF((YEAR(E33)-YEAR(D33))>$U$37,DATE(YEAR(TODAY())+$U$38,MONTH(TODAY()),DAY(TODAY())),DATE(YEAR(D33)+$U$39,MONTH(D33),DAY(D33)))) -> 56908 | K33: =MONTH(J33) -> 10 | L33: =IF(OR(TEXT(J33,"DDDD")=$U$42,TEXT(J33,"DDDD")=$U$43),$U$44,TEXT(J33,"DDDD")) -> יום חמישי | M33: =YEAR(TODAY())-YEAR(E33) -> 14 | N33: =I33-IF(OR(F33=$U$54,F33=$U$55),VLOOKUP(I33,$V$54:$W$59,2,TRUE),IF(F33=$U$61,VLOOKUP(I33,$V$61:$W$62,2,TRUE),$W$64))*I33 -> 6446.56 | O33: =IF(AND(G33=$U$67,H33<=$V$67),$W$67,IF(AND(G33=$U$67,H33>$V$67),$W$68,IF(AND(G33=$U$70,YEAR(E33)<=$V$70),$W$70,IF(AND(G33=$U$70,YEAR(E33)>$V$70,YEAR(E33)<=$V$72),$W$72,IF(AND(G33=$U$70,YEAR(E33)>$V$72),$W$73,$W$75))))) -> ניהול טכנולוגי | U33: מוסמך | V33: סמנכ"ל
A34: 240 | B34: בן שושן עינת וחיים | C34: כפר סבא | D34: 32436 | E34: 41150 | F34: ד"ר | G34: ראש צוות | H34: 9837 | I34: =VLOOKUP(G34,'[1]נתונים נוספים'!$B$5:$C$9,2,FALSE)*$V$2+H34 -> 11037 | J34: =IF(AND(OR(G34=$V$33,G34=$V$34,G34=$V$35),OR(F34=$U$33,F34=$U$34)),DATE(YEAR(D34)+$U$36,MONTH(D34),DAY(D34)),IF((YEAR(E34)-YEAR(D34))>$U$37,DATE(YEAR(TODAY())+$U$38,MONTH(TODAY()),DAY(TODAY())),DATE(YEAR(D34)+$U$39,MONTH(D34),DAY(D34)))) -> 58003 | K34: =MONTH(J34) -> 10 | L34: =IF(OR(TEXT(J34,"DDDD")=$U$42,TEXT(J34,"DDDD")=$U$43),$U$44,TEXT(J34,"DDDD")) -> יקבע מועד אחר | M34: =YEAR(TODAY())-YEAR(E34) -> 14 | N34: =I34-IF(OR(F34=$U$54,F34=$U$55),VLOOKUP(I34,$V$54:$W$59,2,TRUE),IF(F34=$U$61,VLOOKUP(I34,$V$61:$W$62,2,TRUE),$W$64))*I34 -> 6622.2 | O34: =IF(AND(G34=$U$67,H34<=$V$67),$W$67,IF(AND(G34=$U$67,H34>$V$67),$W$68,IF(AND(G34=$U$70,YEAR(E34)<=$V$70),$W$70,IF(AND(G34=$U$70,YEAR(E34)>$V$70,YEAR(E34)<=$V$72),$W$72,IF(AND(G34=$U$70,YEAR(E34)>$V$72),$W$73,$W$75))))) -> קורס BI | U34: ד"ר | V34: מנהל מחלקה
A35: 35 | B35: בן-חיון יפעת ואבי | C35: פורדיס | D35: 32430 | E35: 40834 | F35: תיכונית | G35: מנהל תחום | H35: 9461 | I35: =VLOOKUP(G35,'[1]נתונים נוספים'!$B$5:$C$9,2,FALSE)*$V$2+H35 -> 10421 | J35: =IF(AND(OR(G35=$V$33,G35=$V$34,G35=$V$35),OR(F35=$U$33,F35=$U$34)),DATE(YEAR(D35)+$U$36,MONTH(D35),DAY(D35)),IF((YEAR(E35)-YEAR(D35))>$U$37,DATE(YEAR(TODAY())+$U$38,MONTH(TODAY()),DAY(TODAY())),DATE(YEAR(D35)+$U$39,MONTH(D35),DAY(D35)))) -> 56901 | K35: =MONTH(J35) -> 10 | L35: =IF(OR(TEXT(J35,"DDDD")=$U$42,TEXT(J35,"DDDD")=$U$43),$U$44,TEXT(J35,"DDDD")) -> יום חמישי | M35: =YEAR(TODAY())-YEAR(E35) -> 15 | N35: =I35-IF(OR(F35=$U$54,F35=$U$55),VLOOKUP(I35,$V$54:$W$59,2,TRUE),IF(F35=$U$61,VLOOKUP(I35,$V$61:$W$62,2,TRUE),$W$64))*I35 -> 7815.75 | O35: =IF(AND(G35=$U$67,H35<=$V$67),$W$67,IF(AND(G35=$U$67,H35>$V$67),$W$68,IF(AND(G35=$U$70,YEAR(E35)<=$V$70),$W$70,IF(AND(G35=$U$70,YEAR(E35)>$V$70,YEAR(E35)<=$V$72),$W$72,IF(AND(G35=$U$70,YEAR(E35)>$V$72),$W$73,$W$75))))) -> קורס קניינות ברשת | V35: ראש צוות
A36: 100 | B36: מור רויטל וחי | C36: מכבים | D36: 32421 | E36: 40344 | F36: בוגר | G36: פקיד | H36: 6745 | I36: =VLOOKUP(G36,'[1]נתונים נוספים'!$B$5:$C$9,2,FALSE)*$V$2+H36 -> 7545 | J36: =IF(AND(OR(G36=$V$33,G36=$V$34,G36=$V$35),OR(F36=$U$33,F36=$U$34)),DATE(YEAR(D36)+$U$36,MONTH(D36),DAY(D36)),IF((YEAR(E36)-YEAR(D36))>$U$37,DATE(YEAR(TODAY())+$U$38,MONTH(TODAY()),DAY(TODAY())),DATE(YEAR(D36)+$U$39,MONTH(D36),DAY(D36)))) -> 56892 | K36: =MONTH(J36) -> 10 | L36: =IF(OR(TEXT(J36,"DDDD")=$U$42,TEXT(J36,"DDDD")=$U$43),$U$44,TEXT(J36,"DDDD")) -> יום שלישי | M36: =YEAR(TODAY())-YEAR(E36) -> 16 | N36: =I36-IF(OR(F36=$U$54,F36=$U$55),VLOOKUP(I36,$V$54:$W$59,2,TRUE),IF(F36=$U$61,VLOOKUP(I36,$V$61:$W$62,2,TRUE),$W$64))*I36 -> 6036 | O36: =IF(AND(G36=$U$67,H36<=$V$67),$W$67,IF(AND(G36=$U$67,H36>$V$67),$W$68,IF(AND(G36=$U$70,YEAR(E36)<=$V$70),$W$70,IF(AND(G36=$U$70,YEAR(E36)>$V$70,YEAR(E36)<=$V$72),$W$72,IF(AND(G36=$U$70,YEAR(E36)>$V$72),$W$73,$W$75))))) -> קורס תכנות | U36: 70
A37: 121 | B37: סמסון יהודית ושלום | C37: נען | D37: 32392 | E37: 40593 | F37: בוגר | G37: סמנכ"ל | H37: 8207 | I37: =VLOOKUP(G37,'[1]נתונים נוספים'!$B$5:$C$9,2,FALSE)*$V$2+H37 -> 10047 | J37: =IF(AND(OR(G37=$V$33,G37=$V$34,G37=$V$35),OR(F37=$U$33,F37=$U$34)),DATE(YEAR(D37)+$U$36,MONTH(D37),DAY(D37)),IF((YEAR(E37)-YEAR(D37))>$U$37,DATE(YEAR(TODAY())+$U$38,MONTH(TODAY()),DAY(TODAY())),DATE(YEAR(D37)+$U$39,MONTH(D37),DAY(D37)))) -> 56863 | K37: =MONTH(J37) -> 9 | L37: =IF(OR(TEXT(J37,"DDDD")=$U$42,TEXT(J37,"DDDD")=$U$43),$U$44,TEXT(J37,"DDDD")) -> יום שני | M37: =YEAR(TODAY())-YEAR(E37) -> 15 | N37: =I37-IF(OR(F37=$U$54,F37=$U$55),VLOOKUP(I37,$V$54:$W$59,2,TRUE),IF(F37=$U$61,VLOOKUP(I37,$V$61:$W$62,2,TRUE),$W$64))*I37 -> 7032.9 | O37: =IF(AND(G37=$U$67,H37<=$V$67),$W$67,IF(AND(G37=$U$67,H37>$V$67),$W$68,IF(AND(G37=$U$70,YEAR(E37)<=$V$70),$W$70,IF(AND(G37=$U$70,YEAR(E37)>$V$70,YEAR(E37)<=$V$72),$W$72,IF(AND(G37=$U$70,YEAR(E37)>$V$72),$W$73,$W$75))))) -> קורס קניינות ברשת | U37: 55
A38: 86 | B38: אשכול אריאל | C38: נס ציונה | D38: 32387 | E38: 40618 | F38: תיכונית | G38: סמנכ"ל | H38: 5642 | I38: =VLOOKUP(G38,'[1]נתונים נוספים'!$B$5:$C$9,2,FALSE)*$V$2+H38 -> 7482 | J38: =IF(AND(OR(G38=$V$33,G38=$V$34,G38=$V$35),OR(F38=$U$33,F38=$U$34)),DATE(YEAR(D38)+$U$36,MONTH(D38),DAY(D38)),IF((YEAR(E38)-YEAR(D38))>$U$37,DATE(YEAR(TODAY())+$U$38,MONTH(TODAY()),DAY(TODAY())),DATE(YEAR(D38)+$U$39,MONTH(D38),DAY(D38)))) -> 56858 | K38: =MONTH(J38) -> 9 | L38: =IF(OR(TEXT(J38,"DDDD")=$U$42,TEXT(J38,"DDDD")=$U$43),$U$44,TEXT(J38,"DDDD")) -> יום רביעי | M38: =YEAR(TODAY())-YEAR(E38) -> 15 | N38: =I38-IF(OR(F38=$U$54,F38=$U$55),VLOOKUP(I38,$V$54:$W$59,2,TRUE),IF(F38=$U$61,VLOOKUP(I38,$V$61:$W$62,2,TRUE),$W$64))*I38 -> 5611.5 | O38: =IF(AND(G38=$U$67,H38<=$V$67),$W$67,IF(AND(G38=$U$67,H38>$V$67),$W$68,IF(AND(G38=$U$70,YEAR(E38)<=$V$70),$W$70,IF(AND(G38=$U$70,YEAR(E38)>$V$70,YEAR(E38)<=$V$72),$W$72,IF(AND(G38=$U$70,YEAR(E38)>$V$72),$W$73,$W$75))))) -> קורס קניינות ברשת | U38: 3
A39: 178 | B39: בסטקר שרון | C39: רעננה | D39: 32383 | E39: 40791 | F39: בוגר | G39: פקיד | H39: 9086 | I39: =VLOOKUP(G39,'[1]נתונים נוספים'!$B$5:$C$9,2,FALSE)*$V$2+H39 -> 9886 | J39: =IF(AND(OR(G39=$V$33,G39=$V$34,G39=$V$35),OR(F39=$U$33,F39=$U$34)),DATE(YEAR(D39)+$U$36,MONTH(D39),DAY(D39)),IF((YEAR(E39)-YEAR(D39))>$U$37,DATE(YEAR(TODAY())+$U$38,MONTH(TODAY()),DAY(TODAY())),DATE(YEAR(D39)+$U$39,MONTH(D39),DAY(D39)))) -> 56854 | K39: =MONTH(J39) -> 8 | L39: =IF(OR(TEXT(J39,"DDDD")=$U$42,TEXT(J39,"DDDD")=$U$43),$U$44,TEXT(J39,"DDDD")) -> יקבע מועד אחר | M39: =YEAR(TODAY())-YEAR(E39) -> 15 | N39: =I39-IF(OR(F39=$U$54,F39=$U$55),VLOOKUP(I39,$V$54:$W$59,2,TRUE),IF(F39=$U$61,VLOOKUP(I39,$V$61:$W$62,2,TRUE),$W$64))*I39 -> 7908.8 | O39: =IF(AND(G39=$U$67,H39<=$V$67),$W$67,IF(AND(G39=$U$67,H39>$V$67),$W$68,IF(AND(G39=$U$70,YEAR(E39)<=$V$70),$W$70,IF(AND(G39=$U$70,YEAR(E39)>$V$70,YEAR(E39)<=$V$72),$W$72,IF(AND(G39=$U$70,YEAR(E39)>$V$72),$W$73,$W$75))))) -> קורס מחשבים כולל | U39: 67
A40: 239 | B40: בן דוד אורנה ורונן | C40: הבונים | D40: 32383 | E40: 40573 | F40: תיכונית | G40: סמנכ"ל | H40: 7479 | I40: =VLOOKUP(G40,'[1]נתונים נוספים'!$B$5:$C$9,2,FALSE)*$V$2+H40 -> 9319 | J40: =IF(AND(OR(G40=$V$33,G40=$V$34,G40=$V$35),OR(F40=$U$33,F40=$U$34)),DATE(YEAR(D40)+$U$36,MONTH(D40),DAY(D40)),IF((YEAR(E40)-YEAR(D40))>$U$37,DATE(YEAR(TODAY())+$U$38,MONTH(TODAY()),DAY(TODAY())),DATE(YEAR(D40)+$U$39,MONTH(D40),DAY(D40)))) -> 56854 | K40: =MONTH(J40) -> 8 | L40: =IF(OR(TEXT(J40,"DDDD")=$U$42,TEXT(J40,"DDDD")=$U$43),$U$44,TEXT(J40,"DDDD")) -> יקבע מועד אחר | M40: =YEAR(TODAY())-YEAR(E40) -> 15 | N40: =I40-IF(OR(F40=$U$54,F40=$U$55),VLOOKUP(I40,$V$54:$W$59,2,TRUE),IF(F40=$U$61,VLOOKUP(I40,$V$61:$W$62,2,TRUE),$W$64))*I40 -> 6989.25 | O40: =IF(AND(G40=$U$67,H40<=$V$67),$W$67,IF(AND(G40=$U$67,H40>$V$67),$W$68,IF(AND(G40=$U$70,YEAR(E40)<=$V$70),$W$70,IF(AND(G40=$U$70,YEAR(E40)>$V$70,YEAR(E40)<=$V$72),$W$72,IF(AND(G40=$U$70,YEAR(E40)>$V$72),$W$73,$W$75))))) -> קורס קניינות ברשת
...

Sheet CountIf
A1: מספר משקיע | B1: מתנה למשקיע
A2: 1855 | B2: תווי קניה
A3: 1856 | B3: חופשה בפריז
A4: 1857 | B4: תווי קניה
A5: 1858 | B5: סט סירים
A6: 1859 | B6: תווי קניה
A7: 1860 | B7: חופשה בפריז
A8: 1861 | B8: חופשה בפריז
A9: 1862 | B9: חופשה בפריז
A10: 1863 | B10: חופשה בפריז
A11: 1864 | B11: ללא מתנה
A12: 1865 | B12: תווי קניה
A13: 1866 | B13: כרטיס להופעה
... A26: 1879 | B26: ללא מתנה

Sheet הקפאה+IF
A1: שם משפחה | B1: שם פרטי | C1: שכר בדולר | D1: שכר בש"ח | E1: מס הכנסה בש"ח | F1: שכר חודשי נטו | N1: ממועד ב 2025:
A2: רונן | B2: עדי | C2: 2042.7957 | D2: =C2*$H$23 -> 7251.9247 | E2: 966.53333 | F2: =(D2-E2)+IF(C2>$C$24,$B$24,$B$25) -> 7172.8914
A3: דובר | B3: רונן | C3: 2814.4086 | D3: =C3*$H$23 -> 9991.1505 | E3: 1444.9333 | F3: =(D3-E3)+IF(C3>$C$24,$B$24,$B$25) -> 9433.7172
A4: דוד | B4: יוסי | C4: 1865.1613 | D4: =C4*$H$23 -> 6621.3226 | E4: 856.4 | F4: =(D4-E4)+IF(C4>$C$24,$B$24,$B$25) -> 6208.6726
A5: אלפסי | B5: מנחם | C5: 1691.3978 | D5: =C5*$H$23 -> 6004.4624 | E5: 748.66667 | F5: =(D5-E5)+IF(C5>$C$24,$B$24,$B$25) -> 5699.5457
A6: ארנס | B6: לימור | C6: 1775.8065 | D6: =C6*$H$23 -> 6304.1129 | E6: 801 | F6: =(D6-E6)+IF(C6>$C$24,$B$24,$B$25) -> 5946.8629
A7: ברוס | B7: פלג | C7: 2446.6667 | D7: =C7*$H$23 -> 8685.6667 | E7: 1216.9333 | F7: =(D7-E7)+IF(C7>$C$24,$B$24,$B$25) -> 8356.2333
A8: כהן | B8: דקלה | C8: 2484.086 | D8: =C8*$H$23 -> 8818.5054 | E8: 1240.1333 | F8: =(D8-E8)+IF(C8>$C$24,$B$24,$B$25) -> 8465.872
A9: לוי | B9: נגה | C9: 2827.957 | D9: =C9*$H$23 -> 10039.247 | E9: 1453.3333 | F9: =(D9-E9)+IF(C9>$C$24,$B$24,$B$25) -> 9473.414
A10: כהן | B10: חוה | C10: 3101.0753 | D10: =C10*$H$23 -> 11008.817 | E10: 1622.6667 | F10: =(D10-E10)+IF(C10>$C$24,$B$24,$B$25) -> 10273.651
A11: חנקין | B11: ענבר | C11: 3302.3656 | D11: =C11*$H$23 -> 11723.398 | E11: 1747.4667 | F11: =(D11-E11)+IF(C11>$C$24,$B$24,$B$25) -> 10863.431
A12: מזרחי | B12: אתי | C12: 3366.6667 | D12: =C12*$H$23 -> 11951.667 | E12: 1787.3333 | F12: =(D12-E12)+IF(C12>$C$24,$B$24,$B$25) -> 11051.833
A13: רגב | B13: ורד | C13: 2582.1505 | D13: =C13*$H$23 -> 9166.6344 | E13: 1300.9333 | F13: =(D13-E13)+IF(C13>$C$24,$B$24,$B$25) -> 8753.2011
... A21: לוי | B21: מיה | C21: 1270.7527 | D21: =C21*$H$23 -> 4511.172 | E21: 540.9 | F21: =(D21-E21)+IF(C21>$C$24,$B$24,$B$25) -> 4414.022
A23: מענק בדולר | B23: מענק בשח | F23: נתון: | G23: שער הדולר | H23: 3.55
A24: 250 | B24: =$A$24*$H$23 -> 887.5 | C24: 2000 | H24: מענק בדולרים | N24: 2000
A25: 125 | B25: =$A$25*$H$23 -> 443.75 | H25: 250
H26: 125
G28: תא עזר לתנאי | H28: 2000

Sheet frequency
A1: מספר משקיע | B1: שם המשקיע | C1: מעמד משקיע | D1: תחילת ההשקעה | E1: סכום השקעה | F1: קרן השקעה | G1: דמי ניהול מחושב | H1: ערך השקעה נכון להיום | I1: גידול השקעה בשקלים | J1: שווי מס מכירה בשקלים | K1: שם חודש תחילת השקעה במלל | L1: תאריך ביקורת דוחות | M1: מתנה למשקיע | N1: שם המשקיע
A2: 1855 | B2: NI | C2: שכיר | D2: 43723 | E2: 2500 | F2: 10 | G2: 0.009 | H2: 16761.878 | I2: =(H2-E2)*$B$28*(1-G2) -> 43813.915 | J2: =VLOOKUP(F2,'[2]נתונים נוספים'!$A$4:$D$9,VLOOKUP([3]FREQUENCY!C2,'[2]נתונים נוספים'!$F$4:$G$6,2,0),0)*[3]FREQUENCY!$B$28*H2 -> 7794.2732 | K2: =TEXT(D2,"mmmm") -> ספטמבר | L2: =IF(AND(C2=$L$32,E2<$L$33),DATE(YEAR(D2)+$L$34,MONTH(D2),$L$35),IF(OR(F2=$L$40,F2=$L$41),DATE($L$36,$L$37,DAY(D2)),DATE(YEAR(D2),MONTH(D2)+$L$38,DAY(D2)+$L$39))) -> 44440 | M2: =IF(C2=$M$33,IF(E2<=$M$34,$M$35,$M$36),IF(C2=$M$32,IF(YEAR(D2)<=$M$37,$M$39,IF(YEAR(D2)<=$M$38,$M$40,$M$41)),$M$42)) -> תווי קניה | N2: =B2 -> NI
A3: 1856 | B3: KF | C3: עצמאי | D3: 42075 | E3: 146726 | F3: 13 | G3: 0.0029 | H3: 214094.11 | I3: =(H3-E3)*$B$28*(1-G3) -> 208235.51 | J3: =VLOOKUP(F3,'[2]נתונים נוספים'!$A$4:$D$9,VLOOKUP([3]FREQUENCY!C3,'[2]נתונים נוספים'!$F$4:$G$6,2,0),0)*[3]FREQUENCY!$B$28*H3 -> 142693.73 | K3: =TEXT(D3,"mmmm") -> מרץ | L3: =IF(AND(C3=$L$32,E3<$L$33),DATE(YEAR(D3)+$L$34,MONTH(D3),$L$35),IF(OR(F3=$L$40,F3=$L$41),DATE($L$36,$L$37,DAY(D3)),DATE(YEAR(D3),MONTH(D3)+$L$38,DAY(D3)+$L$39))) -> 42332 | M3: =IF(C3=$M$33,IF(E3<=$M$34,$M$35,$M$36),IF(C3=$M$32,IF(YEAR(D3)<=$M$37,$M$39,IF(YEAR(D3)<=$M$38,$M$40,$M$41)),$M$42)) -> חופשה בפריז | N3: =B3 -> KF
A4: 1857 | B4: CC | C4: שכיר | D4: 43007 | E4: 253094 | F4: 10 | G4: 0.006 | H4: 307637.34 | I4: =(H4-E4)*$B$28*(1-G4) -> 168069.84 | J4: =VLOOKUP(F4,'[2]נתונים נוספים'!$A$4:$D$9,VLOOKUP([3]FREQUENCY!C4,'[2]נתונים נוספים'!$F$4:$G$6,2,0),0)*[3]FREQUENCY!$B$28*H4 -> 143051.36 | K4: =TEXT(D4,"mmmm") -> ספטמבר | L4: =IF(AND(C4=$L$32,E4<$L$33),DATE(YEAR(D4)+$L$34,MONTH(D4),$L$35),IF(OR(F4=$L$40,F4=$L$41),DATE($L$36,$L$37,DAY(D4)),DATE(YEAR(D4),MONTH(D4)+$L$38,DAY(D4)+$L$39))) -> 43261 | M4: =IF(C4=$M$33,IF(E4<=$M$34,$M$35,$M$36),IF(C4=$M$32,IF(YEAR(D4)<=$M$37,$M$39,IF(YEAR(D4)<=$M$38,$M$40,$M$41)),$M$42)) -> תווי קניה | N4: =B4 -> CC
A5: 1858 | B5: BJ | C5: שכיר | D5: 42367 | E5: 70131 | F5: 14 | G5: 0.001 | H5: 332458.1 | I5: =(H5-E5)*$B$28*(1-G5) -> 812400.8 | J5: =VLOOKUP(F5,'[2]נתונים נוספים'!$A$4:$D$9,VLOOKUP([3]FREQUENCY!C5,'[2]נתונים נוספים'!$F$4:$G$6,2,0),0)*[3]FREQUENCY!$B$28*H5 -> 164899.22 | K5: =TEXT(D5,"mmmm") -> דצמבר | L5: =IF(AND(C5=$L$32,E5<$L$33),DATE(YEAR(D5)+$L$34,MONTH(D5),$L$35),IF(OR(F5=$L$40,F5=$L$41),DATE($L$36,$L$37,DAY(D5)),DATE(YEAR(D5),MONTH(D5)+$L$38,DAY(D5)+$L$39))) -> 44649 | M5: =IF(C5=$M$33,IF(E5<=$M$34,$M$35,$M$36),IF(C5=$M$32,IF(YEAR(D5)<=$M$37,$M$39,IF(YEAR(D5)<=$M$38,$M$40,$M$41)),$M$42)) -> סט סירים | N5: =B5 -> BJ
A6: 1859 | B6: DE | C6: שכיר | D6: 43866 | E6: 63372 | F6: 15 | G6: 0.001 | H6: 1229262 | I6: =(H6-E6)*$B$28*(1-G6) -> 3610644.7 | J6: =VLOOKUP(F6,'[2]נתונים נוספים'!$A$4:$D$9,VLOOKUP([3]FREQUENCY!C6,'[2]נתונים נוספים'!$F$4:$G$6,2,0),0)*[3]FREQUENCY!$B$28*H6 -> 819303.11 | K6: =TEXT(D6,"mmmm") -> פברואר | L6: =IF(AND(C6=$L$32,E6<$L$33),DATE(YEAR(D6)+$L$34,MONTH(D6),$L$35),IF(OR(F6=$L$40,F6=$L$41),DATE($L$36,$L$37,DAY(D6)),DATE(YEAR(D6),MONTH(D6)+$L$38,DAY(D6)+$L$39))) -> 44625 | M6: =IF(C6=$M$33,IF(E6<=$M$34,$M$35,$M$36),IF(C6=$M$32,IF(YEAR(D6)<=$M$37,$M$39,IF(YEAR(D6)<=$M$38,$M$40,$M$41)),$M$42)) -> תווי קניה | N6: =B6 -> DE
A7: 1860 | B7: BJ | C7: עצמאי | D7: 43604 | E7: 72483 | F7: 15 | G7: 0.001 | H7: 1877660.4 | I7: =(H7-E7)*$B$28*(1-G7) -> 5590453.9 | J7: =VLOOKUP(F7,'[2]נתונים נוספים'!$A$4:$D$9,VLOOKUP([3]FREQUENCY!C7,'[2]נתונים נוספים'!$F$4:$G$6,2,0),0)*[3]FREQUENCY!$B$28*H7 -> 582074.73 | K7: =TEXT(D7,"mmmm") -> מאי | L7: =IF(AND(C7=$L$32,E7<$L$33),DATE(YEAR(D7)+$L$34,MONTH(D7),$L$35),IF(OR(F7=$L$40,F7=$L$41),DATE($L$36,$L$37,DAY(D7)),DATE(YEAR(D7),MONTH(D7)+$L$38,DAY(D7)+$L$39))) -> 44639 | M7: =IF(C7=$M$33,IF(E7<=$M$34,$M$35,$M$36),IF(C7=$M$32,IF(YEAR(D7)<=$M$37,$M$39,IF(YEAR(D7)<=$M$38,$M$40,$M$41)),$M$42)) -> חופשה בפריז | N7: =B7 -> BJ
A8: 1861 | B8: CK | C8: עצמאי | D8: 42562 | E8: 108877 | F8: 13 | G8: 0.0029 | H8: 986671.12 | I8: =(H8-E8)*$B$28*(1-G8) -> 2713270.4 | J8: =VLOOKUP(F8,'[2]נתונים נוספים'!$A$4:$D$9,VLOOKUP([3]FREQUENCY!C8,'[2]נתונים נוספים'!$F$4:$G$6,2,0),0)*[3]FREQUENCY!$B$28*H8 -> 657616.3 | K8: =TEXT(D8,"mmmm") -> יולי | L8: =IF(AND(C8=$L$32,E8<$L$33),DATE(YEAR(D8)+$L$34,MONTH(D8),$L$35),IF(OR(F8=$L$40,F8=$L$41),DATE($L$36,$L$37,DAY(D8)),DATE(YEAR(D8),MONTH(D8)+$L$38,DAY(D8)+$L$39))) -> 42817 | M8: =IF(C8=$M$33,IF(E8<=$M$34,$M$35,$M$36),IF(C8=$M$32,IF(YEAR(D8)<=$M$37,$M$39,IF(YEAR(D8)<=$M$38,$M$40,$M$41)),$M$42)) -> חופשה בפריז | N8: =B8 -> CK
A9: 1862 | B9: JK | C9: עצמאי | D9: 44321 | E9: 96681 | F9: 10 | G9: 0.007 | H9: 191421.77 | I9: =(H9-E9)*$B$28*(1-G9) -> 291640.5 | J9: =VLOOKUP(F9,'[2]נתונים נוספים'!$A$4:$D$9,VLOOKUP([3]FREQUENCY!C9,'[2]נתונים נוספים'!$F$4:$G$6,2,0),0)*[3]FREQUENCY!$B$28*H9 -> 89011.122 | K9: =TEXT(D9,"mmmm") -> מאי | L9: =IF(AND(C9=$L$32,E9<$L$33),DATE(YEAR(D9)+$L$34,MONTH(D9),$L$35),IF(OR(F9=$L$40,F9=$L$41),DATE($L$36,$L$37,DAY(D9)),DATE(YEAR(D9),MONTH(D9)+$L$38,DAY(D9)+$L$39))) -> 44578 | M9: =IF(C9=$M$33,IF(E9<=$M$34,$M$35,$M$36),IF(C9=$M$32,IF(YEAR(D9)<=$M$37,$M$39,IF(YEAR(D9)<=$M$38,$M$40,$M$41)),$M$42)) -> חופשה בפריז | N9: =B9 -> JK
A10: 1863 | B10: DJ | C10: עצמאי | D10: 43400 | E10: 66590 | F10: 15 | G10: 0.001 | H10: 377756.68 | I10: =(H10-E10)*$B$28*(1-G10) -> 963652.1 | J10: =VLOOKUP(F10,'[2]נתונים נוספים'!$A$4:$D$9,VLOOKUP([3]FREQUENCY!C10,'[2]נתונים נוספים'!$F$4:$G$6,2,0),0)*[3]FREQUENCY!$B$28*H10 -> 117104.57 | K10: =TEXT(D10,"mmmm") -> אוקטובר | L10: =IF(AND(C10=$L$32,E10<$L$33),DATE(YEAR(D10)+$L$34,MONTH(D10),$L$35),IF(OR(F10=$L$40,F10=$L$41),DATE($L$36,$L$37,DAY(D10)),DATE(YEAR(D10),MONTH(D10)+$L$38,DAY(D10)+$L$39))) -> 44647 | M10: =IF(C10=$M$33,IF(E10<=$M$34,$M$35,$M$36),IF(C10=$M$32,IF(YEAR(D10)<=$M$37,$M$39,IF(YEAR(D10)<=$M$38,$M$40,$M$41)),$M$42)) -> חופשה בפריז | N10: =B10 -> DJ
A11: 1864 | B11: LB | C11: בעל שליטה | D11: 43977 | E11: 224708 | F11: 10 | G11: 0.006 | H11: 3453180.5 | I11: =(H11-E11)*$B$28*(1-G11) -> 9948215.2 | J11: =VLOOKUP(F11,'[2]נתונים נוספים'!$A$4:$D$9,VLOOKUP([3]FREQUENCY!C11,'[2]נתונים נוספים'!$F$4:$G$6,2,0),0)*[3]FREQUENCY!$B$28*H11 -> 1070486 | K11: =TEXT(D11,"mmmm") -> מאי | L11: =IF(AND(C11=$L$32,E11<$L$33),DATE(YEAR(D11)+$L$34,MONTH(D11),$L$35),IF(OR(F11=$L$40,F11=$L$41),DATE($L$36,$L$37,DAY(D11)),DATE(YEAR(D11),MONTH(D11)+$L$38,DAY(D11)+$L$39))) -> 44234 | M11: =IF(C11=$M$33,IF(E11<=$M$34,$M$35,$M$36),IF(C11=$M$32,IF(YEAR(D11)<=$M$37,$M$39,IF(YEAR(D11)<=$M$38,$M$40,$M$41)),$M$42)) -> ללא מתנה | N11: =B11 -> LB
A12: 1865 | B12: LM | C12: שכיר | D12: 44029 | E12: 49492 | F12: 14 | G12: 0.0011 | H12: 2044762.1 | I12: =(H12-E12)*$B$28*(1-G12) -> 6178533.3 | J12: =VLOOKUP(F12,'[2]נתונים נוספים'!$A$4:$D$9,VLOOKUP([3]FREQUENCY!C12,'[2]נתונים נוספים'!$F$4:$G$6,2,0),0)*[3]FREQUENCY!$B$28*H12 -> 1014202 | K12: =TEXT(D12,"mmmm") -> יולי | L12: =IF(AND(C12=$L$32,E12<$L$33),DATE(YEAR(D12)+$L$34,MONTH(D12),$L$35),IF(OR(F12=$L$40,F12=$L$41),DATE($L$36,$L$37,DAY(D12)),DATE(YEAR(D12),MONTH(D12)+$L$38,DAY(D12)+$L$39))) -> 44743 | M12: =IF(C12=$M$33,IF(E12<=$M$34,$M$35,$M$36),IF(C12=$M$32,IF(YEAR(D12)<=$M$37,$M$39,IF(YEAR(D12)<=$M$38,$M$40,$M$41)),$M$42)) -> תווי קניה | N12: =B12 -> LM
A13: 1866 | B13: BK | C13: שכיר | D13: 40661 | E13: 76982 | F13: 13 | G13: 0.0039 | H13: 2617985.4 | I13: =(H13-E13)*$B$28*(1-G13) -> 7846389.9 | J13: =VLOOKUP(F13,'[2]נתונים נוספים'!$A$4:$D$9,VLOOKUP([3]FREQUENCY!C13,'[2]נתונים נוספים'!$F$4:$G$6,2,0),0)*[3]FREQUENCY!$B$28*H13 -> 1866623.6 | K13: =TEXT(D13,"mmmm") -> אפריל | L13: =IF(AND(C13=$L$32,E13<$L$33),DATE(YEAR(D13)+$L$34,MONTH(D13),$L$35),IF(OR(F13=$L$40,F13=$L$41),DATE($L$36,$L$37,DAY(D13)),DATE(YEAR(D13),MONTH(D13)+$L$38,DAY(D13)+$L$39))) -> 40917 | M13: =IF(C13=$M$33,IF(E13<=$M$34,$M$35,$M$36),IF(C13=$M$32,IF(YEAR(D13)<=$M$37,$M$39,IF(YEAR(D13)<=$M$38,$M$40,$M$41)),$M$42)) -> כרטיס להופעה | N13: =B13 -> BK
... A26: 1879 | B26: GI | C26: בעל שליטה | D26: 40875 | E26: 131191 | F26: 10 | G26: 0.006 | H26: 203520.3 | I26: =(H26-E26)*$B$28*(1-G26) -> 222875.5 | J26: =VLOOKUP(F26,'[2]נתונים נוספים'!$A$4:$D$9,VLOOKUP([3]FREQUENCY!C26,'[2]נתונים נוספים'!$F$4:$G$6,2,0),0)*[3]FREQUENCY!$B$28*H26 -> 63091.293 | K26: =TEXT(D26,"mmmm") -> נובמבר | L26: =IF(AND(C26=$L$32,E26<$L$33),DATE(YEAR(D26)+$L$34,MONTH(D26),$L$35),IF(OR(F26=$L$40,F26=$L$41),DATE($L$36,$L$37,DAY(D26)),DATE(YEAR(D26),MONTH(D26)+$L$38,DAY(D26)+$L$39))) -> 41130 | M26: =IF(C26=$M$33,IF(E26<=$M$34,$M$35,$M$36),IF(C26=$M$32,IF(YEAR(D26)<=$M$37,$M$39,IF(YEAR(D26)<=$M$38,$M$40,$M$41)),$M$42)) -> ללא מתנה | N26: =B26 -> GI
A28: שער הדולר | B28: 3.1 | T28: דוגמה נוספת
L31: =MIN(L2:L26) -> 40688
L32: שכיר | M32: שכיר
L33: 55000 | M33: עצמאי
L34: 2 | M34: 65000
L35: 1 | M35: חופשה באילת
L36: 2022 | M36: חופשה בפריז
L37: 3 | M37: 2012
L38: 8 | M38: 2016
L39: 12 | M39: כרטיס להופעה
L40: 14 | M40: סט סירים
L41: 15 | M41: תווי קניה
M42: ללא מתנה
M44: סט סירים
M46: =COUNTIF(M2:M26,M44) -> 4

Sheet עיצוב מותנה
A1: קוד לקוח | B1: שם פרטי לקוח | C1: שם משפחה לקוח | D1: עיר מגורים לקוח | E1: תאריך התקשרות | F1: הכנסות מצטברות | G1: סיבת התקשרות | H1: הכנסה מצטברת נטו | I1: סיום התקשרות | J1: יום סיום התקשרות | K1: סה"כ הכנסה נטו מצטברת ב-$
A2: 7425 | B2: לירוי | C2: לוי | D2: מירון | E2: 45406 | F2: 92634 | G2: הגשת דוחות | H2: =F2-(VLOOKUP(F2,$O$4:$Q$11,3,TRUE)+(F2-VLOOKUP(F2,$O$4:$Q$11,1,TRUE))*VLOOKUP(F2,$O$4:$Q$11,2,TRUE)) -> 64830.4 | I2: =EOMONTH(E2,18) -> 45961 | J2: =IF(I2<=TODAY(), $Q$16,IF(OR(TEXT(I2,"DDDD")=$P$13,TEXT(I2,"DDDD")=$P$14),$Q$13,TEXT(I2,"DDDD"))) -> אנא פנה בדחיפות לחברה | K2: =H2/'עיצוב מותנה'!$F$53 -> 18522.971
A3: 8279 | B3: זינה | C3: כהן | D3: ברקת | E3: 44816 | F3: 56995 | G3: הגשת דוחות | H3: =F3-(VLOOKUP(F3,$O$4:$Q$11,3,TRUE)+(F3-VLOOKUP(F3,$O$4:$Q$11,1,TRUE))*VLOOKUP(F3,$O$4:$Q$11,2,TRUE)) -> 43447 | I3: =EOMONTH(E3,18) -> 45382 | J3: =IF(I3<=TODAY(), $Q$16,IF(OR(TEXT(I3,"DDDD")=$P$13,TEXT(I3,"DDDD")=$P$14),$Q$13,TEXT(I3,"DDDD"))) -> אנא פנה בדחיפות לחברה | K3: =H3/'עיצוב מותנה'!$F$53 -> 12413.429 | O3: מדרגה | P3: מס | Q3: מצטבר
A4: 8652 | B4: אביתר | C4: עמאש | D4: פקיעין חדשה | E4: 44340 | F4: 46998 | G4: ביקורת שנתית | H4: =F4-(VLOOKUP(F4,$O$4:$Q$11,3,TRUE)+(F4-VLOOKUP(F4,$O$4:$Q$11,1,TRUE))*VLOOKUP(F4,$O$4:$Q$11,2,TRUE)) -> 37448.8 | I4: =EOMONTH(E4,18) -> 44895 | J4: =IF(I4<=TODAY(), $Q$16,IF(OR(TEXT(I4,"DDDD")=$P$13,TEXT(I4,"DDDD")=$P$14),$Q$13,TEXT(I4,"DDDD"))) -> אנא פנה בדחיפות לחברה | K4: =H4/'עיצוב מותנה'!$F$53 -> 10699.657 | O4: 0 | P4: 0 | Q4: =P4*O4 -> 0
A5: 4599 | B5: שמעון | C5: חלפון | D5: העוגן | E5: 44212 | F5: 36490 | G5: ייעוץ פיננסי | H5: =F5-(VLOOKUP(F5,$O$4:$Q$11,3,TRUE)+(F5-VLOOKUP(F5,$O$4:$Q$11,1,TRUE))*VLOOKUP(F5,$O$4:$Q$11,2,TRUE)) -> 30968.5 | I5: =EOMONTH(E5,18) -> 44773 | J5: =IF(I5<=TODAY(), $Q$16,IF(OR(TEXT(I5,"DDDD")=$P$13,TEXT(I5,"DDDD")=$P$14),$Q$13,TEXT(I5,"DDDD"))) -> אנא פנה בדחיפות לחברה | K5: =H5/'עיצוב מותנה'!$F$53 -> 8848.1429 | O5: 10000 | P5: 0.1 | Q5: =(O5-O4)*P4+Q4 -> 0
A6: 3185 | B6: אדל | C6: חסן | D6: ורד יריחו | E6: 44235 | F6: 69142 | G6: ביקורת שנתית | H6: =F6-(VLOOKUP(F6,$O$4:$Q$11,3,TRUE)+(F6-VLOOKUP(F6,$O$4:$Q$11,1,TRUE))*VLOOKUP(F6,$O$4:$Q$11,2,TRUE)) -> 50735.2 | I6: =EOMONTH(E6,18) -> 44804 | J6: =IF(I6<=TODAY(), $Q$16,IF(OR(TEXT(I6,"DDDD")=$P$13,TEXT(I6,"DDDD")=$P$14),$Q$13,TEXT(I6,"DDDD"))) -> אנא פנה בדחיפות לחברה | K6: =H6/'עיצוב מותנה'!$F$53 -> 14495.771 | O6: 15000 | P6: 0.15 | Q6: =(O6-O5)*P5+Q5 -> 500
A7: 1455 | B7: נעמה | C7: אברמוב | D7: הסוללים | E7: 45462 | F7: 18144 | G7: הכנת משכורות | H7: =F7-(VLOOKUP(F7,$O$4:$Q$11,3,TRUE)+(F7-VLOOKUP(F7,$O$4:$Q$11,1,TRUE))*VLOOKUP(F7,$O$4:$Q$11,2,TRUE)) -> 17172.4 | I7: =EOMONTH(E7,18) -> 46022 | J7: =IF(I7<=TODAY(), $Q$16,IF(OR(TEXT(I7,"DDDD")=$P$13,TEXT(I7,"DDDD")=$P$14),$Q$13,TEXT(I7,"DDDD"))) -> אנא פנה בדחיפות לחברה | K7: =H7/'עיצוב מותנה'!$F$53 -> 4906.4 | O7: 20000 | P7: 0.2 | Q7: =(O7-O6)*P6+Q6 -> 1250
A8: 9895 | B8: נויה | C8: חסן | D8: שומרה | E8: 45389 | F8: 68691 | G8: ביקורת שנתית | H8: =F8-(VLOOKUP(F8,$O$4:$Q$11,3,TRUE)+(F8-VLOOKUP(F8,$O$4:$Q$11,1,TRUE))*VLOOKUP(F8,$O$4:$Q$11,2,TRUE)) -> 50464.6 | I8: =EOMONTH(E8,18) -> 45961 | J8: =IF(I8<=TODAY(), $Q$16,IF(OR(TEXT(I8,"DDDD")=$P$13,TEXT(I8,"DDDD")=$P$14),$Q$13,TEXT(I8,"DDDD"))) -> אנא פנה בדחיפות לחברה | K8: =H8/'עיצוב מותנה'!$F$53 -> 14418.457 | O8: 25000 | P8: 0.25 | Q8: =(O8-O7)*P7+Q7 -> 2250
A9: 3838 | B9: עילאי | C9: מור | D9: סגולה | E9: 44043 | F9: 18465 | G9: ייעוץ פיננסי | H9: =F9-(VLOOKUP(F9,$O$4:$Q$11,3,TRUE)+(F9-VLOOKUP(F9,$O$4:$Q$11,1,TRUE))*VLOOKUP(F9,$O$4:$Q$11,2,TRUE)) -> 17445.25 | I9: =EOMONTH(E9,18) -> 44592 | J9: =IF(I9<=TODAY(), $Q$16,IF(OR(TEXT(I9,"DDDD")=$P$13,TEXT(I9,"DDDD")=$P$14),$Q$13,TEXT(I9,"DDDD"))) -> אנא פנה בדחיפות לחברה | K9: =H9/'עיצוב מותנה'!$F$53 -> 4984.3571 | O9: 30000 | P9: 0.3 | Q9: =(O9-O8)*P8+Q8 -> 3500
A10: 3146 | B10: אדל | C10: שחר | D10: צורית | E10: 44927 | F10: 60040 | G10: הכנת משכורות | H10: =F10-(VLOOKUP(F10,$O$4:$Q$11,3,TRUE)+(F10-VLOOKUP(F10,$O$4:$Q$11,1,TRUE))*VLOOKUP(F10,$O$4:$Q$11,2,TRUE)) -> 45274 | I10: =EOMONTH(E10,18) -> 45504 | J10: =IF(I10<=TODAY(), $Q$16,IF(OR(TEXT(I10,"DDDD")=$P$13,TEXT(I10,"DDDD")=$P$14),$Q$13,TEXT(I10,"DDDD"))) -> אנא פנה בדחיפות לחברה | K10: =H10/'עיצוב מותנה'!$F$53 -> 12935.429 | O10: 35000 | P10: 0.35 | Q10: =(O10-O9)*P9+Q9 -> 5000
A11: 8697 | B11: גור | C11: רחמים | D11: אודם | E11: 44751 | F11: 99630 | G11: הגשת דוחות | H11: =F11-(VLOOKUP(F11,$O$4:$Q$11,3,TRUE)+(F11-VLOOKUP(F11,$O$4:$Q$11,1,TRUE))*VLOOKUP(F11,$O$4:$Q$11,2,TRUE)) -> 69028 | I11: =EOMONTH(E11,18) -> 45322 | J11: =IF(I11<=TODAY(), $Q$16,IF(OR(TEXT(I11,"DDDD")=$P$13,TEXT(I11,"DDDD")=$P$14),$Q$13,TEXT(I11,"DDDD"))) -> אנא פנה בדחיפות לחברה | K11: =H11/'עיצוב מותנה'!$F$53 -> 19722.286 | O11: 40000 | P11: 0.4 | Q11: =(O11-O10)*P10+Q10 -> 6750
A12: 7126 | B12: יותם | C12: איסקוב | D12: אל סייד | E12: 44447 | F12: 80327 | G12: הגשת דוחות | H12: =F12-(VLOOKUP(F12,$O$4:$Q$11,3,TRUE)+(F12-VLOOKUP(F12,$O$4:$Q$11,1,TRUE))*VLOOKUP(F12,$O$4:$Q$11,2,TRUE)) -> 57446.2 | I12: =EOMONTH(E12,18) -> 45016 | J12: =IF(I12<=TODAY(), $Q$16,IF(OR(TEXT(I12,"DDDD")=$P$13,TEXT(I12,"DDDD")=$P$14),$Q$13,TEXT(I12,"DDDD"))) -> אנא פנה בדחיפות לחברה | K12: =H12/'עיצוב מותנה'!$F$53 -> 16413.2
A13: 1668 | B13: רות | C13: פלדמן | D13: בית חנניה | E13: 44246 | F13: 45453 | G13: ביקורת שנתית | H13: =F13-(VLOOKUP(F13,$O$4:$Q$11,3,TRUE)+(F13-VLOOKUP(F13,$O$4:$Q$11,1,TRUE))*VLOOKUP(F13,$O$4:$Q$11,2,TRUE)) -> 36521.8 | I13: =EOMONTH(E13,18) -> 44804 | J13: =IF(I13<=TODAY(), $Q$16,IF(OR(TEXT(I13,"DDDD")=$P$13,TEXT(I13,"DDDD")=$P$14),$Q$13,TEXT(I13,"DDDD"))) -> אנא פנה בדחיפות לחברה | K13: =H13/'עיצוב מותנה'!$F$53 -> 10434.8 | P13: Friday | Q13: מועד ההתקשרות יחל בתחילת השבוע
A14: 6820 | B14: אמיר | C14: הראל | D14: זוהר | E14: 45125 | F14: 39845 | G14: ייעוץ פיננסי | H14: =F14-(VLOOKUP(F14,$O$4:$Q$11,3,TRUE)+(F14-VLOOKUP(F14,$O$4:$Q$11,1,TRUE))*VLOOKUP(F14,$O$4:$Q$11,2,TRUE)) -> 33149.25 | I14: =EOMONTH(E14,18) -> 45688 | J14: =IF(I14<=TODAY(), $Q$16,IF(OR(TEXT(I14,"DDDD")=$P$13,TEXT(I14,"DDDD")=$P$14),$Q$13,TEXT(I14,"DDDD"))) -> אנא פנה בדחיפות לחברה | K14: =H14/'עיצוב מותנה'!$F$53 -> 9471.2143 | P14: Saturday
A15: 9913 | B15: מוחמד | C15: חדד | D15: פוריה - נווה עובד | E15: 45544 | F15: 39649 | G15: ייעוץ פיננסי | H15: =F15-(VLOOKUP(F15,$O$4:$Q$11,3,TRUE)+(F15-VLOOKUP(F15,$O$4:$Q$11,1,TRUE))*VLOOKUP(F15,$O$4:$Q$11,2,TRUE)) -> 33021.85 | I15: =EOMONTH(E15,18) -> 46112 | J15: =IF(I15<=TODAY(), $Q$16,IF(OR(TEXT(I15,"DDDD")=$P$13,TEXT(I15,"DDDD")=$P$14),$Q$13,TEXT(I15,"DDDD"))) -> יום שלישי | K15: =H15/'עיצוב מותנה'!$F$53 -> 9434.8143
A16: 6959 | B16: תמר | C16: סבח | D16: מעונה | E16: 44407 | F16: 59080 | G16: ייעוץ פיננסי | H16: =F16-(VLOOKUP(F16,$O$4:$Q$11,3,TRUE)+(F16-VLOOKUP(F16,$O$4:$Q$11,1,TRUE))*VLOOKUP(F16,$O$4:$Q$11,2,TRUE)) -> 44698 | I16: =EOMONTH(E16,18) -> 44957 | J16: =IF(I16<=TODAY(), $Q$16,IF(OR(TEXT(I16,"DDDD")=$P$13,TEXT(I16,"DDDD")=$P$14),$Q$13,TEXT(I16,"DDDD"))) -> אנא פנה בדחיפות לחברה | K16: =H16/'עיצוב מותנה'!$F$53 -> 12770.857 | Q16: אנא פנה בדחיפות לחברה
A17: 2545 | B17: ראובן | C17: כהן | D17: צפרירים | E17: 44198 | F17: 44039 | G17: ייעוץ פיננסי | H17: =F17-(VLOOKUP(F17,$O$4:$Q$11,3,TRUE)+(F17-VLOOKUP(F17,$O$4:$Q$11,1,TRUE))*VLOOKUP(F17,$O$4:$Q$11,2,TRUE)) -> 35673.4 | I17: =EOMONTH(E17,18) -> 44773 | J17: =IF(I17<=TODAY(), $Q$16,IF(OR(TEXT(I17,"DDDD")=$P$13,TEXT(I17,"DDDD")=$P$14),$Q$13,TEXT(I17,"DDDD"))) -> אנא פנה בדחיפות לחברה | K17: =H17/'עיצוב מותנה'!$F$53 -> 10192.4
A18: 8665 | B18: נועה | C18: ג'בארין | D18: צורית | E18: 44323 | F18: 88374 | G18: הכנת משכורות | H18: =F18-(VLOOKUP(F18,$O$4:$Q$11,3,TRUE)+(F18-VLOOKUP(F18,$O$4:$Q$11,1,TRUE))*VLOOKUP(F18,$O$4:$Q$11,2,TRUE)) -> 62274.4 | I18: =EOMONTH(E18,18) -> 44895 | J18: =IF(I18<=TODAY(), $Q$16,IF(OR(TEXT(I18,"DDDD")=$P$13,TEXT(I18,"DDDD")=$P$14),$Q$13,TEXT(I18,"DDDD"))) -> אנא פנה בדחיפות לחברה | K18: =H18/'עיצוב מותנה'!$F$53 -> 17792.686
A19: 7462 | B19: אדם | C19: אטיאס | D19: עספיא | E19: 45097 | F19: 16410 | G19: ייעוץ פיננסי | H19: =F19-(VLOOKUP(F19,$O$4:$Q$11,3,TRUE)+(F19-VLOOKUP(F19,$O$4:$Q$11,1,TRUE))*VLOOKUP(F19,$O$4:$Q$11,2,TRUE)) -> 15698.5 | I19: =EOMONTH(E19,18) -> 45657 | J19: =IF(I19<=TODAY(), $Q$16,IF(OR(TEXT(I19,"DDDD")=$P$13,TEXT(I19,"DDDD")=$P$14),$Q$13,TEXT(I19,"DDDD"))) -> אנא פנה בדחיפות לחברה | K19: =H19/'עיצוב מותנה'!$F$53 -> 4485.2857 | P19: עיר מגורים לקוח | Q19: סיבת התקשרות
A20: 8168 | B20: רחל | C20: דנינו | D20: פוריה - נווה עובד | E20: 44821 | F20: 77854 | G20: הגשת דוחות | H20: =F20-(VLOOKUP(F20,$O$4:$Q$11,3,TRUE)+(F20-VLOOKUP(F20,$O$4:$Q$11,1,TRUE))*VLOOKUP(F20,$O$4:$Q$11,2,TRUE)) -> 55962.4 | I20: =EOMONTH(E20,18) -> 45382 | J20: =IF(I20<=TODAY(), $Q$16,IF(OR(TEXT(I20,"DDDD")=$P$13,TEXT(I20,"DDDD")=$P$14),$Q$13,TEXT(I20,"DDDD"))) -> אנא פנה בדחיפות לחברה | K20: =H20/'עיצוב מותנה'!$F$53 -> 15989.257 | P20: ורד יריחו | Q20: ביקורת שנתית
A21: 9731 | B21: שגיא | C21: כהן | D21: גבעת כ"ח | E21: 44806 | F21: 62929 | G21: הכנת משכורות | H21: =F21-(VLOOKUP(F21,$O$4:$Q$11,3,TRUE)+(F21-VLOOKUP(F21,$O$4:$Q$11,1,TRUE))*VLOOKUP(F21,$O$4:$Q$11,2,TRUE)) -> 47007.4 | I21: =EOMONTH(E21,18) -> 45382 | J21: =IF(I21<=TODAY(), $Q$16,IF(OR(TEXT(I21,"DDDD")=$P$13,TEXT(I21,"DDDD")=$P$14),$Q$13,TEXT(I21,"DDDD"))) -> אנא פנה בדחיפות לחברה | K21: =H21/'עיצוב מותנה'!$F$53 -> 13430.686 | P21: צורית | Q21: ביקורת שנתית
