Workbook

Sheet averageIf
A1: קוד עובד | B1: שם מלא | C1: עיר מגורים | D1: תאריך לידה | E1: תאריך תחילת עבודה | F1: השכלה | G1: תפקיד | H1: שכר בסיס | I1: שכר ברוטו כולל | J1: תאריך יציאה לפנסיה | K1: חודש יציאה לפנסיה | L1: יום יציאה לפנסיה | M1: וותק בעבודה | N1: שכר נטו | O1: השתלמות
A2: 127 | B2: עמרם רחל וציון | C2: אילת | D2: 33229 | E2: 44656 | F2: מוסמך | G2: סמנכ"ל | H2: 5097 | I2: =VLOOKUP(G2,'[1]נתונים נוספים'!$B$5:$C$9,2,FALSE)*$V$2+H2 -> 6937 | J2: =IF(AND(OR(G2=$V$33,G2=$V$34,G2=$V$35),OR(F2=$U$33,F2=$U$34)),DATE(YEAR(D2)+$U$36,MONTH(D2),DAY(D2)),IF((YEAR(E2)-YEAR(D2))>$U$37,DATE(YEAR(TODAY())+$U$38,MONTH(TODAY()),DAY(TODAY())),DATE(YEAR(D2)+$U$39,MONTH(D2),DAY(D2)))) -> 58797 | K2: =MONTH(J2) -> 12 | L2: =IF(OR(TEXT(J2,"DDDD")=$U$42,TEXT(J2,"DDDD")=$U$43),$U$44,TEXT(J2,"DDDD")) -> יום רביעי | M2: =YEAR(TODAY())-YEAR(E2) -> 4 | N2: =I2-IF(OR(F2=$U$54,F2=$U$55),VLOOKUP(I2,$V$54:$W$59,2,TRUE),IF(F2=$U$61,VLOOKUP(I2,$V$61:$W$62,2,TRUE),$W$64))*I2 -> 6243.3 | O2: =IF(AND(G2=$U$67,H2<=$V$67),$W$67,IF(AND(G2=$U$67,H2>$V$67),$W$68,IF(AND(G2=$U$70,YEAR(E2)<=$V$70),$W$70,IF(AND(G2=$U$70,YEAR(E2)>$V$70,YEAR(E2)<=$V$72),$W$72,IF(AND(G2=$U$70,YEAR(E2)>$V$72),$W$73,$W$75))))) -> קורס קניינות ברשת | U2: תוספת בגין נקודת דרגה | V2: 80
A3: 139 | B3: קליינר בטי ואבי | C3: מכבים | D3: 33220 | E3: 44879 | F3: בוגר | G3: מנהל מחלקה | H3: 7927 | I3: =VLOOKUP(G3,'[1]נתונים נוספים'!$B$5:$C$9,2,FALSE)*$V$2+H3 -> 9367 | J3: =IF(AND(OR(G3=$V$33,G3=$V$34,G3=$V$35),OR(F3=$U$33,F3=$U$34)),DATE(YEAR(D3)+$U$36,MONTH(D3),DAY(D3)),IF((YEAR(E3)-YEAR(D3))>$U$37,DATE(YEAR(TODAY())+$U$38,MONTH(TODAY()),DAY(TODAY())),DATE(YEAR(D3)+$U$39,MONTH(D3),DAY(D3)))) -> 57692 | K3: =MONTH(J3) -> 12 | L3: =IF(OR(TEXT(J3,"DDDD")=$U$42,TEXT(J3,"DDDD")=$U$43),$U$44,TEXT(J3,"DDDD")) -> יום חמישי | M3: =YEAR(TODAY())-YEAR(E3) -> 4 | N3: =I3-IF(OR(F3=$U$54,F3=$U$55),VLOOKUP(I3,$V$54:$W$59,2,TRUE),IF(F3=$U$61,VLOOKUP(I3,$V$61:$W$62,2,TRUE),$W$64))*I3 -> 7493.6 | O3: =IF(AND(G3=$U$67,H3<=$V$67),$W$67,IF(AND(G3=$U$67,H3>$V$67),$W$68,IF(AND(G3=$U$70,YEAR(E3)<=$V$70),$W$70,IF(AND(G3=$U$70,YEAR(E3)>$V$70,YEAR(E3)<=$V$72),$W$72,IF(AND(G3=$U$70,YEAR(E3)>$V$72),$W$73,$W$75))))) -> קורס קניינות ברשת
A4: 9 | B4: ישראל כפיר | C4: החותרים | D4: 33193 | E4: 43444 | F4: ד"ר | G4: ראש צוות | H4: 5467 | I4: =VLOOKUP(G4,'[1]נתונים נוספים'!$B$5:$C$9,2,FALSE)*$V$2+H4 -> 6667 | J4: =IF(AND(OR(G4=$V$33,G4=$V$34,G4=$V$35),OR(F4=$U$33,F4=$U$34)),DATE(YEAR(D4)+$U$36,MONTH(D4),DAY(D4)),IF((YEAR(E4)-YEAR(D4))>$U$37,DATE(YEAR(TODAY())+$U$38,MONTH(TODAY()),DAY(TODAY())),DATE(YEAR(D4)+$U$39,MONTH(D4),DAY(D4)))) -> 58761 | K4: =MONTH(J4) -> 11 | L4: =IF(OR(TEXT(J4,"DDDD")=$U$42,TEXT(J4,"DDDD")=$U$43),$U$44,TEXT(J4,"DDDD")) -> יום שלישי | M4: =YEAR(TODAY())-YEAR(E4) -> 8 | N4: =I4-IF(OR(F4=$U$54,F4=$U$55),VLOOKUP(I4,$V$54:$W$59,2,TRUE),IF(F4=$U$61,VLOOKUP(I4,$V$61:$W$62,2,TRUE),$W$64))*I4 -> 6000.3 | O4: =IF(AND(G4=$U$67,H4<=$V$67),$W$67,IF(AND(G4=$U$67,H4>$V$67),$W$68,IF(AND(G4=$U$70,YEAR(E4)<=$V$70),$W$70,IF(AND(G4=$U$70,YEAR(E4)>$V$70,YEAR(E4)<=$V$72),$W$72,IF(AND(G4=$U$70,YEAR(E4)>$V$72),$W$73,$W$75))))) -> קורס BI
A5: 280 | B5: מרטיניז אילנה | C5: נען | D5: 33164 | E5: 44738 | F5: מוסמך | G5: מנהל תחום | H5: 8782 | I5: =VLOOKUP(G5,'[1]נתונים נוספים'!$B$5:$C$9,2,FALSE)*$V$2+H5 -> 9742 | J5: =IF(AND(OR(G5=$V$33,G5=$V$34,G5=$V$35),OR(F5=$U$33,F5=$U$34)),DATE(YEAR(D5)+$U$36,MONTH(D5),DAY(D5)),IF((YEAR(E5)-YEAR(D5))>$U$37,DATE(YEAR(TODAY())+$U$38,MONTH(TODAY()),DAY(TODAY())),DATE(YEAR(D5)+$U$39,MONTH(D5),DAY(D5)))) -> 57636 | K5: =MONTH(J5) -> 10 | L5: =IF(OR(TEXT(J5,"DDDD")=$U$42,TEXT(J5,"DDDD")=$U$43),$U$44,TEXT(J5,"DDDD")) -> יום חמישי | M5: =YEAR(TODAY())-YEAR(E5) -> 4 | N5: =I5-IF(OR(F5=$U$54,F5=$U$55),VLOOKUP(I5,$V$54:$W$59,2,TRUE),IF(F5=$U$61,VLOOKUP(I5,$V$61:$W$62,2,TRUE),$W$64))*I5 -> 6819.4 | O5: =IF(AND(G5=$U$67,H5<=$V$67),$W$67,IF(AND(G5=$U$67,H5>$V$67),$W$68,IF(AND(G5=$U$70,YEAR(E5)<=$V$70),$W$70,IF(AND(G5=$U$70,YEAR(E5)>$V$70,YEAR(E5)<=$V$72),$W$72,IF(AND(G5=$U$70,YEAR(E5)>$V$72),$W$73,$W$75))))) -> קורס קניינות ברשת
A6: 7 | B6: אזולאי אתי ושמיל | C6: רעות | D6: 33030 | E6: 44183 | F6: מוסמך | G6: ראש צוות | H6: 4989 | I6: =VLOOKUP(G6,'[1]נתונים נוספים'!$B$5:$C$9,2,FALSE)*$V$2+H6 -> 6189 | J6: =IF(AND(OR(G6=$V$33,G6=$V$34,G6=$V$35),OR(F6=$U$33,F6=$U$34)),DATE(YEAR(D6)+$U$36,MONTH(D6),DAY(D6)),IF((YEAR(E6)-YEAR(D6))>$U$37,DATE(YEAR(TODAY())+$U$38,MONTH(TODAY()),DAY(TODAY())),DATE(YEAR(D6)+$U$39,MONTH(D6),DAY(D6)))) -> 58598 | K6: =MONTH(J6) -> 6 | L6: =IF(OR(TEXT(J6,"DDDD")=$U$42,TEXT(J6,"DDDD")=$U$43),$U$44,TEXT(J6,"DDDD")) -> יקבע מועד אחר | M6: =YEAR(TODAY())-YEAR(E6) -> 6 | N6: =I6-IF(OR(F6=$U$54,F6=$U$55),VLOOKUP(I6,$V$54:$W$59,2,TRUE),IF(F6=$U$61,VLOOKUP(I6,$V$61:$W$62,2,TRUE),$W$64))*I6 -> 5570.1 | O6: =IF(AND(G6=$U$67,H6<=$V$67),$W$67,IF(AND(G6=$U$67,H6>$V$67),$W$68,IF(AND(G6=$U$70,YEAR(E6)<=$V$70),$W$70,IF(AND(G6=$U$70,YEAR(E6)>$V$70,YEAR(E6)<=$V$72),$W$72,IF(AND(G6=$U$70,YEAR(E6)>$V$72),$W$73,$W$75))))) -> קורס AI | V6: השכלה
A7: 218 | B7: גבר ברוך | C7: גזר | D7: 33030 | E7: 44641 | F7: ד"ר | G7: מנהל מחלקה | H7: 8909 | I7: =VLOOKUP(G7,'[1]נתונים נוספים'!$B$5:$C$9,2,FALSE)*$V$2+H7 -> 10349 | J7: =IF(AND(OR(G7=$V$33,G7=$V$34,G7=$V$35),OR(F7=$U$33,F7=$U$34)),DATE(YEAR(D7)+$U$36,MONTH(D7),DAY(D7)),IF((YEAR(E7)-YEAR(D7))>$U$37,DATE(YEAR(TODAY())+$U$38,MONTH(TODAY()),DAY(TODAY())),DATE(YEAR(D7)+$U$39,MONTH(D7),DAY(D7)))) -> 58598 | K7: =MONTH(J7) -> 6 | L7: =IF(OR(TEXT(J7,"DDDD")=$U$42,TEXT(J7,"DDDD")=$U$43),$U$44,TEXT(J7,"DDDD")) -> יקבע מועד אחר | M7: =YEAR(TODAY())-YEAR(E7) -> 4 | N7: =I7-IF(OR(F7=$U$54,F7=$U$55),VLOOKUP(I7,$V$54:$W$59,2,TRUE),IF(F7=$U$61,VLOOKUP(I7,$V$61:$W$62,2,TRUE),$W$64))*I7 -> 6209.4 | O7: =IF(AND(G7=$U$67,H7<=$V$67),$W$67,IF(AND(G7=$U$67,H7>$V$67),$W$68,IF(AND(G7=$U$70,YEAR(E7)<=$V$70),$W$70,IF(AND(G7=$U$70,YEAR(E7)>$V$70,YEAR(E7)<=$V$72),$W$72,IF(AND(G7=$U$70,YEAR(E7)>$V$72),$W$73,$W$75))))) -> קורס קניינות ברשת | S7: מועד ב 2024 | V7: מוסמך
A8: 11 | B8: אלבז איריס ומיכאל | C8: מצפה רמון | D8: 32980 | E8: 41434 | F8: ד"ר | G8: סמנכ"ל | H8: 9744 | I8: =VLOOKUP(G8,'[1]נתונים נוספים'!$B$5:$C$9,2,FALSE)*$V$2+H8 -> 11584 | J8: =IF(AND(OR(G8=$V$33,G8=$V$34,G8=$V$35),OR(F8=$U$33,F8=$U$34)),DATE(YEAR(D8)+$U$36,MONTH(D8),DAY(D8)),IF((YEAR(E8)-YEAR(D8))>$U$37,DATE(YEAR(TODAY())+$U$38,MONTH(TODAY()),DAY(TODAY())),DATE(YEAR(D8)+$U$39,MONTH(D8),DAY(D8)))) -> 58548 | K8: =MONTH(J8) -> 4 | L8: =IF(OR(TEXT(J8,"DDDD")=$U$42,TEXT(J8,"DDDD")=$U$43),$U$44,TEXT(J8,"DDDD")) -> יקבע מועד אחר | M8: =YEAR(TODAY())-YEAR(E8) -> 13 | N8: =I8-IF(OR(F8=$U$54,F8=$U$55),VLOOKUP(I8,$V$54:$W$59,2,TRUE),IF(F8=$U$61,VLOOKUP(I8,$V$61:$W$62,2,TRUE),$W$64))*I8 -> 6950.4 | O8: =IF(AND(G8=$U$67,H8<=$V$67),$W$67,IF(AND(G8=$U$67,H8>$V$67),$W$68,IF(AND(G8=$U$70,YEAR(E8)<=$V$70),$W$70,IF(AND(G8=$U$70,YEAR(E8)>$V$70,YEAR(E8)<=$V$72),$W$72,IF(AND(G8=$U$70,YEAR(E8)>$V$72),$W$73,$W$75))))) -> קורס קניינות ברשת
A9: 10 | B9: אינברג בוריס | C9: באר שבע | D9: 32933 | E9: 44678 | F9: מוסמך | G9: מנהל מחלקה | H9: 4104 | I9: =VLOOKUP(G9,'[1]נתונים נוספים'!$B$5:$C$9,2,FALSE)*$V$2+H9 -> 5544 | J9: =IF(AND(OR(G9=$V$33,G9=$V$34,G9=$V$35),OR(F9=$U$33,F9=$U$34)),DATE(YEAR(D9)+$U$36,MONTH(D9),DAY(D9)),IF((YEAR(E9)-YEAR(D9))>$U$37,DATE(YEAR(TODAY())+$U$38,MONTH(TODAY()),DAY(TODAY())),DATE(YEAR(D9)+$U$39,MONTH(D9),DAY(D9)))) -> 58501 | K9: =MONTH(J9) -> 3 | L9: =IF(OR(TEXT(J9,"DDDD")=$U$42,TEXT(J9,"DDDD")=$U$43),$U$44,TEXT(J9,"DDDD")) -> יום שני | M9: =YEAR(TODAY())-YEAR(E9) -> 4 | N9: =I9-IF(OR(F9=$U$54,F9=$U$55),VLOOKUP(I9,$V$54:$W$59,2,TRUE),IF(F9=$U$61,VLOOKUP(I9,$V$61:$W$62,2,TRUE),$W$64))*I9 -> 5544 | O9: =IF(AND(G9=$U$67,H9<=$V$67),$W$67,IF(AND(G9=$U$67,H9>$V$67),$W$68,IF(AND(G9=$U$70,YEAR(E9)<=$V$70),$W$70,IF(AND(G9=$U$70,YEAR(E9)>$V$70,YEAR(E9)<=$V$72),$W$72,IF(AND(G9=$U$70,YEAR(E9)>$V$72),$W$73,$W$75))))) -> קורס קניינות ברשת | U9: סה"כ השכר של עובדים בעלי דרגה מוסמך : | W9: =DSUM(A1:I60,I1,V6:V7) -> 98074
A10: 4 | B10: אברהם מטי ויצחק | C10: מגדיאל | D10: 32883 | E10: 44579 | F10: ד"ר | G10: מנהל מחלקה | H10: 9581 | I10: =VLOOKUP(G10,'[1]נתונים נוספים'!$B$5:$C$9,2,FALSE)*$V$2+H10 -> 11021 | J10: =IF(AND(OR(G10=$V$33,G10=$V$34,G10=$V$35),OR(F10=$U$33,F10=$U$34)),DATE(YEAR(D10)+$U$36,MONTH(D10),DAY(D10)),IF((YEAR(E10)-YEAR(D10))>$U$37,DATE(YEAR(TODAY())+$U$38,MONTH(TODAY()),DAY(TODAY())),DATE(YEAR(D10)+$U$39,MONTH(D10),DAY(D10)))) -> 58450 | K10: =MONTH(J10) -> 1 | L10: =IF(OR(TEXT(J10,"DDDD")=$U$42,TEXT(J10,"DDDD")=$U$43),$U$44,TEXT(J10,"DDDD")) -> יקבע מועד אחר | M10: =YEAR(TODAY())-YEAR(E10) -> 4 | N10: =I10-IF(OR(F10=$U$54,F10=$U$55),VLOOKUP(I10,$V$54:$W$59,2,TRUE),IF(F10=$U$61,VLOOKUP(I10,$V$61:$W$62,2,TRUE),$W$64))*I10 -> 6612.6 | O10: =IF(AND(G10=$U$67,H10<=$V$67),$W$67,IF(AND(G10=$U$67,H10>$V$67),$W$68,IF(AND(G10=$U$70,YEAR(E10)<=$V$70),$W$70,IF(AND(G10=$U$70,YEAR(E10)>$V$70,YEAR(E10)<=$V$72),$W$72,IF(AND(G10=$U$70,YEAR(E10)>$V$72),$W$73,$W$75))))) -> קורס קניינות ברשת
A11: 246 | B11: חורב אלון וקארין | C11: מגדיאל | D11: 32835 | E11: 40700 | F11: מוסמך | G11: מנהל תחום | H11: 9967 | I11: =VLOOKUP(G11,'[1]נתונים נוספים'!$B$5:$C$9,2,FALSE)*$V$2+H11 -> 10927 | J11: =IF(AND(OR(G11=$V$33,G11=$V$34,G11=$V$35),OR(F11=$U$33,F11=$U$34)),DATE(YEAR(D11)+$U$36,MONTH(D11),DAY(D11)),IF((YEAR(E11)-YEAR(D11))>$U$37,DATE(YEAR(TODAY())+$U$38,MONTH(TODAY()),DAY(TODAY())),DATE(YEAR(D11)+$U$39,MONTH(D11),DAY(D11)))) -> 57307 | K11: =MONTH(J11) -> 11 | L11: =IF(OR(TEXT(J11,"DDDD")=$U$42,TEXT(J11,"DDDD")=$U$43),$U$44,TEXT(J11,"DDDD")) -> יום חמישי | M11: =YEAR(TODAY())-YEAR(E11) -> 15 | N11: =I11-IF(OR(F11=$U$54,F11=$U$55),VLOOKUP(I11,$V$54:$W$59,2,TRUE),IF(F11=$U$61,VLOOKUP(I11,$V$61:$W$62,2,TRUE),$W$64))*I11 -> 6556.2 | O11: =IF(AND(G11=$U$67,H11<=$V$67),$W$67,IF(AND(G11=$U$67,H11>$V$67),$W$68,IF(AND(G11=$U$70,YEAR(E11)<=$V$70),$W$70,IF(AND(G11=$U$70,YEAR(E11)>$V$70,YEAR(E11)<=$V$72),$W$72,IF(AND(G11=$U$70,YEAR(E11)>$V$72),$W$73,$W$75))))) -> קורס קניינות ברשת | U11: תוספת בגין כל נקודה | V11: =W9 -> 98074
A12: 245 | B12: צברי ורד ומשה | C12: מגדיאל | D12: 32813 | E12: 40935 | F12: ד"ר | G12: מנהל תחום | H12: 6852 | I12: =VLOOKUP(G12,'[1]נתונים נוספים'!$B$5:$C$9,2,FALSE)*$V$2+H12 -> 7812 | J12: =IF(AND(OR(G12=$V$33,G12=$V$34,G12=$V$35),OR(F12=$U$33,F12=$U$34)),DATE(YEAR(D12)+$U$36,MONTH(D12),DAY(D12)),IF((YEAR(E12)-YEAR(D12))>$U$37,DATE(YEAR(TODAY())+$U$38,MONTH(TODAY()),DAY(TODAY())),DATE(YEAR(D12)+$U$39,MONTH(D12),DAY(D12)))) -> 57285 | K12: =MONTH(J12) -> 11 | L12: =IF(OR(TEXT(J12,"DDDD")=$U$42,TEXT(J12,"DDDD")=$U$43),$U$44,TEXT(J12,"DDDD")) -> יום רביעי | M12: =YEAR(TODAY())-YEAR(E12) -> 14 | N12: =I12-IF(OR(F12=$U$54,F12=$U$55),VLOOKUP(I12,$V$54:$W$59,2,TRUE),IF(F12=$U$61,VLOOKUP(I12,$V$61:$W$62,2,TRUE),$W$64))*I12 -> 6718.32 | O12: =IF(AND(G12=$U$67,H12<=$V$67),$W$67,IF(AND(G12=$U$67,H12>$V$67),$W$68,IF(AND(G12=$U$70,YEAR(E12)<=$V$70),$W$70,IF(AND(G12=$U$70,YEAR(E12)>$V$70,YEAR(E12)<=$V$72),$W$72,IF(AND(G12=$U$70,YEAR(E12)>$V$72),$W$73,$W$75))))) -> קורס קניינות ברשת | U12: 70 | V12: 96254
A13: 276 | B13: דרור גיטי ונתן | C13: רעננה | D13: 32778 | E13: 40745 | F13: תיכונית | G13: ראש צוות | H13: 6285 | I13: =VLOOKUP(G13,'[1]נתונים נוספים'!$B$5:$C$9,2,FALSE)*$V$2+H13 -> 7485 | J13: =IF(AND(OR(G13=$V$33,G13=$V$34,G13=$V$35),OR(F13=$U$33,F13=$U$34)),DATE(YEAR(D13)+$U$36,MONTH(D13),DAY(D13)),IF((YEAR(E13)-YEAR(D13))>$U$37,DATE(YEAR(TODAY())+$U$38,MONTH(TODAY()),DAY(TODAY())),DATE(YEAR(D13)+$U$39,MONTH(D13),DAY(D13)))) -> 57250 | K13: =MONTH(J13) -> 9 | L13: =IF(OR(TEXT(J13,"DDDD")=$U$42,TEXT(J13,"DDDD")=$U$43),$U$44,TEXT(J13,"DDDD")) -> יום רביעי | M13: =YEAR(TODAY())-YEAR(E13) -> 15 | N13: =I13-IF(OR(F13=$U$54,F13=$U$55),VLOOKUP(I13,$V$54:$W$59,2,TRUE),IF(F13=$U$61,VLOOKUP(I13,$V$61:$W$62,2,TRUE),$W$64))*I13 -> 5613.75 | O13: =IF(AND(G13=$U$67,H13<=$V$67),$W$67,IF(AND(G13=$U$67,H13>$V$67),$W$68,IF(AND(G13=$U$70,YEAR(E13)<=$V$70),$W$70,IF(AND(G13=$U$70,YEAR(E13)>$V$70,YEAR(E13)<=$V$72),$W$72,IF(AND(G13=$U$70,YEAR(E13)>$V$72),$W$73,$W$75))))) -> קורס BI | U13: 75 | V13: 97164
A14: 48 | B14: גולני תמי ואורי | C14: החותרים | D14: 32729 | E14: 40562 | F14: תיכונית | G14: פקיד | H14: 4868 | I14: =VLOOKUP(G14,'[1]נתונים נוספים'!$B$5:$C$9,2,FALSE)*$V$2+H14 -> 5668 | J14: =IF(AND(OR(G14=$V$33,G14=$V$34,G14=$V$35),OR(F14=$U$33,F14=$U$34)),DATE(YEAR(D14)+$U$36,MONTH(D14),DAY(D14)),IF((YEAR(E14)-YEAR(D14))>$U$37,DATE(YEAR(TODAY())+$U$38,MONTH(TODAY()),DAY(TODAY())),DATE(YEAR(D14)+$U$39,MONTH(D14),DAY(D14)))) -> 57201 | K14: =MONTH(J14) -> 8 | L14: =IF(OR(TEXT(J14,"DDDD")=$U$42,TEXT(J14,"DDDD")=$U$43),$U$44,TEXT(J14,"DDDD")) -> יום רביעי | M14: =YEAR(TODAY())-YEAR(E14) -> 15 | N14: =I14-IF(OR(F14=$U$54,F14=$U$55),VLOOKUP(I14,$V$54:$W$59,2,TRUE),IF(F14=$U$61,VLOOKUP(I14,$V$61:$W$62,2,TRUE),$W$64))*I14 -> 4251 | O14: =IF(AND(G14=$U$67,H14<=$V$67),$W$67,IF(AND(G14=$U$67,H14>$V$67),$W$68,IF(AND(G14=$U$70,YEAR(E14)<=$V$70),$W$70,IF(AND(G14=$U$70,YEAR(E14)>$V$70,YEAR(E14)<=$V$72),$W$72,IF(AND(G14=$U$70,YEAR(E14)>$V$72),$W$73,$W$75))))) -> קורס מחשבים כולל | U14: 80 | V14: 98074
A15: 95 | B15: לוי שולה ואבי | C15: מצפה רמון | D15: 32720 | E15: 40806 | F15: ד"ר | G15: מנהל מחלקה | H15: 4075 | I15: =VLOOKUP(G15,'[1]נתונים נוספים'!$B$5:$C$9,2,FALSE)*$V$2+H15 -> 5515 | J15: =IF(AND(OR(G15=$V$33,G15=$V$34,G15=$V$35),OR(F15=$U$33,F15=$U$34)),DATE(YEAR(D15)+$U$36,MONTH(D15),DAY(D15)),IF((YEAR(E15)-YEAR(D15))>$U$37,DATE(YEAR(TODAY())+$U$38,MONTH(TODAY()),DAY(TODAY())),DATE(YEAR(D15)+$U$39,MONTH(D15),DAY(D15)))) -> 58287 | K15: =MONTH(J15) -> 7 | L15: =IF(OR(TEXT(J15,"DDDD")=$U$42,TEXT(J15,"DDDD")=$U$43),$U$44,TEXT(J15,"DDDD")) -> יום חמישי | M15: =YEAR(TODAY())-YEAR(E15) -> 15 | N15: =I15-IF(OR(F15=$U$54,F15=$U$55),VLOOKUP(I15,$V$54:$W$59,2,TRUE),IF(F15=$U$61,VLOOKUP(I15,$V$61:$W$62,2,TRUE),$W$64))*I15 -> 5515 | O15: =IF(AND(G15=$U$67,H15<=$V$67),$W$67,IF(AND(G15=$U$67,H15>$V$67),$W$68,IF(AND(G15=$U$70,YEAR(E15)<=$V$70),$W$70,IF(AND(G15=$U$70,YEAR(E15)>$V$70,YEAR(E15)<=$V$72),$W$72,IF(AND(G15=$U$70,YEAR(E15)>$V$72),$W$73,$W$75))))) -> קורס קניינות ברשת | U15: 85 | V15: 98984
A16: 59 | B16: דמרי שושנה ודניאל | C16: כפר סבא | D16: 32683 | E16: 41076 | F16: בוגר | G16: מנהל מחלקה | H16: 6195 | I16: =VLOOKUP(G16,'[1]נתונים נוספים'!$B$5:$C$9,2,FALSE)*$V$2+H16 -> 7635 | J16: =IF(AND(OR(G16=$V$33,G16=$V$34,G16=$V$35),OR(F16=$U$33,F16=$U$34)),DATE(YEAR(D16)+$U$36,MONTH(D16),DAY(D16)),IF((YEAR(E16)-YEAR(D16))>$U$37,DATE(YEAR(TODAY())+$U$38,MONTH(TODAY()),DAY(TODAY())),DATE(YEAR(D16)+$U$39,MONTH(D16),DAY(D16)))) -> 57155 | K16: =MONTH(J16) -> 6 | L16: =IF(OR(TEXT(J16,"DDDD")=$U$42,TEXT(J16,"DDDD")=$U$43),$U$44,TEXT(J16,"DDDD")) -> יקבע מועד אחר | M16: =YEAR(TODAY())-YEAR(E16) -> 14 | N16: =I16-IF(OR(F16=$U$54,F16=$U$55),VLOOKUP(I16,$V$54:$W$59,2,TRUE),IF(F16=$U$61,VLOOKUP(I16,$V$61:$W$62,2,TRUE),$W$64))*I16 -> 6108 | O16: =IF(AND(G16=$U$67,H16<=$V$67),$W$67,IF(AND(G16=$U$67,H16>$V$67),$W$68,IF(AND(G16=$U$70,YEAR(E16)<=$V$70),$W$70,IF(AND(G16=$U$70,YEAR(E16)>$V$70,YEAR(E16)<=$V$72),$W$72,IF(AND(G16=$U$70,YEAR(E16)>$V$72),$W$73,$W$75))))) -> קורס קניינות ברשת | U16: 90 | V16: 99894
A17: 173 | B17: מירי לאשוילי שרה | C17: אופקים | D17: 32651 | E17: 40938 | F17: מוסמך | G17: פקיד | H17: 8648 | I17: =VLOOKUP(G17,'[1]נתונים נוספים'!$B$5:$C$9,2,FALSE)*$V$2+H17 -> 9448 | J17: =IF(AND(OR(G17=$V$33,G17=$V$34,G17=$V$35),OR(F17=$U$33,F17=$U$34)),DATE(YEAR(D17)+$U$36,MONTH(D17),DAY(D17)),IF((YEAR(E17)-YEAR(D17))>$U$37,DATE(YEAR(TODAY())+$U$38,MONTH(TODAY()),DAY(TODAY())),DATE(YEAR(D17)+$U$39,MONTH(D17),DAY(D17)))) -> 57123 | K17: =MONTH(J17) -> 5 | L17: =IF(OR(TEXT(J17,"DDDD")=$U$42,TEXT(J17,"DDDD")=$U$43),$U$44,TEXT(J17,"DDDD")) -> יום שלישי | M17: =YEAR(TODAY())-YEAR(E17) -> 14 | N17: =I17-IF(OR(F17=$U$54,F17=$U$55),VLOOKUP(I17,$V$54:$W$59,2,TRUE),IF(F17=$U$61,VLOOKUP(I17,$V$61:$W$62,2,TRUE),$W$64))*I17 -> 6613.6 | O17: =IF(AND(G17=$U$67,H17<=$V$67),$W$67,IF(AND(G17=$U$67,H17>$V$67),$W$68,IF(AND(G17=$U$70,YEAR(E17)<=$V$70),$W$70,IF(AND(G17=$U$70,YEAR(E17)>$V$70,YEAR(E17)<=$V$72),$W$72,IF(AND(G17=$U$70,YEAR(E17)>$V$72),$W$73,$W$75))))) -> ניהול טכנולוגי | U17: 95 | V17: 100804
A18: 105 | B18: מנדלבוים שרה וחיים | C18: מודיעין | D18: 32617 | E18: 40590 | F18: תיכונית | G18: ראש צוות | H18: 4341 | I18: =VLOOKUP(G18,'[1]נתונים נוספים'!$B$5:$C$9,2,FALSE)*$V$2+H18 -> 5541 | J18: =IF(AND(OR(G18=$V$33,G18=$V$34,G18=$V$35),OR(F18=$U$33,F18=$U$34)),DATE(YEAR(D18)+$U$36,MONTH(D18),DAY(D18)),IF((YEAR(E18)-YEAR(D18))>$U$37,DATE(YEAR(TODAY())+$U$38,MONTH(TODAY()),DAY(TODAY())),DATE(YEAR(D18)+$U$39,MONTH(D18),DAY(D18)))) -> 57089 | K18: =MONTH(J18) -> 4 | L18: =IF(OR(TEXT(J18,"DDDD")=$U$42,TEXT(J18,"DDDD")=$U$43),$U$44,TEXT(J18,"DDDD")) -> יום רביעי | M18: =YEAR(TODAY())-YEAR(E18) -> 15 | N18: =I18-IF(OR(F18=$U$54,F18=$U$55),VLOOKUP(I18,$V$54:$W$59,2,TRUE),IF(F18=$U$61,VLOOKUP(I18,$V$61:$W$62,2,TRUE),$W$64))*I18 -> 4155.75 | O18: =IF(AND(G18=$U$67,H18<=$V$67),$W$67,IF(AND(G18=$U$67,H18>$V$67),$W$68,IF(AND(G18=$U$70,YEAR(E18)<=$V$70),$W$70,IF(AND(G18=$U$70,YEAR(E18)>$V$70,YEAR(E18)<=$V$72),$W$72,IF(AND(G18=$U$70,YEAR(E18)>$V$72),$W$73,$W$75))))) -> קורס AI | U18: 100 | V18: 101714
A19: 26 | B19: בארי חיה ואיציק | C19: רעות | D19: 32610 | E19: 40961 | F19: ד"ר | G19: מנהל תחום | H19: 4480 | I19: =VLOOKUP(G19,'[1]נתונים נוספים'!$B$5:$C$9,2,FALSE)*$V$2+H19 -> 5440 | J19: =IF(AND(OR(G19=$V$33,G19=$V$34,G19=$V$35),OR(F19=$U$33,F19=$U$34)),DATE(YEAR(D19)+$U$36,MONTH(D19),DAY(D19)),IF((YEAR(E19)-YEAR(D19))>$U$37,DATE(YEAR(TODAY())+$U$38,MONTH(TODAY()),DAY(TODAY())),DATE(YEAR(D19)+$U$39,MONTH(D19),DAY(D19)))) -> 57082 | K19: =MONTH(J19) -> 4 | L19: =IF(OR(TEXT(J19,"DDDD")=$U$42,TEXT(J19,"DDDD")=$U$43),$U$44,TEXT(J19,"DDDD")) -> יום רביעי | M19: =YEAR(TODAY())-YEAR(E19) -> 14 | N19: =I19-IF(OR(F19=$U$54,F19=$U$55),VLOOKUP(I19,$V$54:$W$59,2,TRUE),IF(F19=$U$61,VLOOKUP(I19,$V$61:$W$62,2,TRUE),$W$64))*I19 -> 5440 | O19: =IF(AND(G19=$U$67,H19<=$V$67),$W$67,IF(AND(G19=$U$67,H19>$V$67),$W$68,IF(AND(G19=$U$70,YEAR(E19)<=$V$70),$W$70,IF(AND(G19=$U$70,YEAR(E19)>$V$70,YEAR(E19)<=$V$72),$W$72,IF(AND(G19=$U$70,YEAR(E19)>$V$72),$W$73,$W$75))))) -> קורס קניינות ברשת | U19: 105 | V19: 102624
A20: 167 | B20: תותחני מנשה | C20: חיפה | D20: 32609 | E20: 41264 | F20: תיכונית | G20: פקיד | H20: 4327 | I20: =VLOOKUP(G20,'[1]נתונים נוספים'!$B$5:$C$9,2,FALSE)*$V$2+H20 -> 5127 | J20: =IF(AND(OR(G20=$V$33,G20=$V$34,G20=$V$35),OR(F20=$U$33,F20=$U$34)),DATE(YEAR(D20)+$U$36,MONTH(D20),DAY(D20)),IF((YEAR(E20)-YEAR(D20))>$U$37,DATE(YEAR(TODAY())+$U$38,MONTH(TODAY()),DAY(TODAY())),DATE(YEAR(D20)+$U$39,MONTH(D20),DAY(D20)))) -> 57081 | K20: =MONTH(J20) -> 4 | L20: =IF(OR(TEXT(J20,"DDDD")=$U$42,TEXT(J20,"DDDD")=$U$43),$U$44,TEXT(J20,"DDDD")) -> יום שלישי | M20: =YEAR(TODAY())-YEAR(E20) -> 14 | N20: =I20-IF(OR(F20=$U$54,F20=$U$55),VLOOKUP(I20,$V$54:$W$59,2,TRUE),IF(F20=$U$61,VLOOKUP(I20,$V$61:$W$62,2,TRUE),$W$64))*I20 -> 3845.25 | O20: =IF(AND(G20=$U$67,H20<=$V$67),$W$67,IF(AND(G20=$U$67,H20>$V$67),$W$68,IF(AND(G20=$U$70,YEAR(E20)<=$V$70),$W$70,IF(AND(G20=$U$70,YEAR(E20)>$V$70,YEAR(E20)<=$V$72),$W$72,IF(AND(G20=$U$70,YEAR(E20)>$V$72),$W$73,$W$75))))) -> ניהול טכנולוגי | U20: 110 | V20: 103534
A21: 151 | B21: שובל ציונה וגבי | C21: תל אביב-יפו | D21: 32596 | E21: 40927 | F21: תיכונית | G21: פקיד | H21: 5404 | I21: =VLOOKUP(G21,'[1]נתונים נוספים'!$B$5:$C$9,2,FALSE)*$V$2+H21 -> 6204 | J21: =IF(AND(OR(G21=$V$33,G21=$V$34,G21=$V$35),OR(F21=$U$33,F21=$U$34)),DATE(YEAR(D21)+$U$36,MONTH(D21),DAY(D21)),IF((YEAR(E21)-YEAR(D21))>$U$37,DATE(YEAR(TODAY())+$U$38,MONTH(TODAY()),DAY(TODAY())),DATE(YEAR(D21)+$U$39,MONTH(D21),DAY(D21)))) -> 57068 | K21: =MONTH(J21) -> 3 | L21: =IF(OR(TEXT(J21,"DDDD")=$U$42,TEXT(J21,"DDDD")=$U$43),$U$44,TEXT(J21,"DDDD")) -> יום רביעי | M21: =YEAR(TODAY())-YEAR(E21) -> 14 | N21: =I21-IF(OR(F21=$U$54,F21=$U$55),VLOOKUP(I21,$V$54:$W$59,2,TRUE),IF(F21=$U$61,VLOOKUP(I21,$V$61:$W$62,2,TRUE),$W$64))*I21 -> 4653 | O21: =IF(AND(G21=$U$67,H21<=$V$67),$W$67,IF(AND(G21=$U$67,H21>$V$67),$W$68,IF(AND(G21=$U$70,YEAR(E21)<=$V$70),$W$70,IF(AND(G21=$U$70,YEAR(E21)>$V$70,YEAR(E21)<=$V$72),$W$72,IF(AND(G21=$U$70,YEAR(E21)>$V$72),$W$73,$W$75))))) -> ניהול טכנולוגי | U21: 115 | V21: 104444
A22: 14 | B22: אלבז תמי ושמעון | C22: מודיעין | D22: 32533 | E22: 43997 | F22: ד"ר | G22: מנהל מחלקה | H22: 7825 | I22: =VLOOKUP(G22,'[1]נתונים נוספים'!$B$5:$C$9,2,FALSE)*$V$2+H22 -> 9265 | J22: =IF(AND(OR(G22=$V$33,G22=$V$34,G22=$V$35),OR(F22=$U$33,F22=$U$34)),DATE(YEAR(D22)+$U$36,MONTH(D22),DAY(D22)),IF((YEAR(E22)-YEAR(D22))>$U$37,DATE(YEAR(TODAY())+$U$38,MONTH(TODAY()),DAY(TODAY())),DATE(YEAR(D22)+$U$39,MONTH(D22),DAY(D22)))) -> 58100 | K22: =MONTH(J22) -> 1 | L22: =IF(OR(TEXT(J22,"DDDD")=$U$42,TEXT(J22,"DDDD")=$U$43),$U$44,TEXT(J22,"DDDD")) -> יקבע מועד אחר | M22: =YEAR(TODAY())-YEAR(E22) -> 6 | N22: =I22-IF(OR(F22=$U$54,F22=$U$55),VLOOKUP(I22,$V$54:$W$59,2,TRUE),IF(F22=$U$61,VLOOKUP(I22,$V$61:$W$62,2,TRUE),$W$64))*I22 -> 6485.5 | O22: =IF(AND(G22=$U$67,H22<=$V$67),$W$67,IF(AND(G22=$U$67,H22>$V$67),$W$68,IF(AND(G22=$U$70,YEAR(E22)<=$V$70),$W$70,IF(AND(G22=$U$70,YEAR(E22)>$V$70,YEAR(E22)<=$V$72),$W$72,IF(AND(G22=$U$70,YEAR(E22)>$V$72),$W$73,$W$75))))) -> קורס קניינות ברשת | U22: 120 | V22: 105354
A23: 126 | B23: עמירה יפה וברוך | C23: אופקים | D23: 32532 | E23: 41125 | F23: תיכונית | G23: סמנכ"ל | H23: 8305 | I23: =VLOOKUP(G23,'[1]נתונים נוספים'!$B$5:$C$9,2,FALSE)*$V$2+H23 -> 10145 | J23: =IF(AND(OR(G23=$V$33,G23=$V$34,G23=$V$35),OR(F23=$U$33,F23=$U$34)),DATE(YEAR(D23)+$U$36,MONTH(D23),DAY(D23)),IF((YEAR(E23)-YEAR(D23))>$U$37,DATE(YEAR(TODAY())+$U$38,MONTH(TODAY()),DAY(TODAY())),DATE(YEAR(D23)+$U$39,MONTH(D23),DAY(D23)))) -> 57003 | K23: =MONTH(J23) -> 1 | L23: =IF(OR(TEXT(J23,"DDDD")=$U$42,TEXT(J23,"DDDD")=$U$43),$U$44,TEXT(J23,"DDDD")) -> יום שני | M23: =YEAR(TODAY())-YEAR(E23) -> 14 | N23: =I23-IF(OR(F23=$U$54,F23=$U$55),VLOOKUP(I23,$V$54:$W$59,2,TRUE),IF(F23=$U$61,VLOOKUP(I23,$V$61:$W$62,2,TRUE),$W$64))*I23 -> 7608.75 | O23: =IF(AND(G23=$U$67,H23<=$V$67),$W$67,IF(AND(G23=$U$67,H23>$V$67),$W$68,IF(AND(G23=$U$70,YEAR(E23)<=$V$70),$W$70,IF(AND(G23=$U$70,YEAR(E23)>$V$70,YEAR(E23)<=$V$72),$W$72,IF(AND(G23=$U$70,YEAR(E23)>$V$72),$W$73,$W$75))))) -> קורס קניינות ברשת
A24: 235 | B24: סינגל אילן | C24: חיפה | D24: 32531 | E24: 41247 | F24: ד"ר | G24: מנהל תחום | H24: 7570 | I24: =VLOOKUP(G24,'[1]נתונים נוספים'!$B$5:$C$9,2,FALSE)*$V$2+H24 -> 8530 | J24: =IF(AND(OR(G24=$V$33,G24=$V$34,G24=$V$35),OR(F24=$U$33,F24=$U$34)),DATE(YEAR(D24)+$U$36,MONTH(D24),DAY(D24)),IF((YEAR(E24)-YEAR(D24))>$U$37,DATE(YEAR(TODAY())+$U$38,MONTH(TODAY()),DAY(TODAY())),DATE(YEAR(D24)+$U$39,MONTH(D24),DAY(D24)))) -> 57002 | K24: =MONTH(J24) -> 1 | L24: =IF(OR(TEXT(J24,"DDDD")=$U$42,TEXT(J24,"DDDD")=$U$43),$U$44,TEXT(J24,"DDDD")) -> יקבע מועד אחר | M24: =YEAR(TODAY())-YEAR(E24) -> 14 | N24: =I24-IF(OR(F24=$U$54,F24=$U$55),VLOOKUP(I24,$V$54:$W$59,2,TRUE),IF(F24=$U$61,VLOOKUP(I24,$V$61:$W$62,2,TRUE),$W$64))*I24 -> 6824 | O24: =IF(AND(G24=$U$67,H24<=$V$67),$W$67,IF(AND(G24=$U$67,H24>$V$67),$W$68,IF(AND(G24=$U$70,YEAR(E24)<=$V$70),$W$70,IF(AND(G24=$U$70,YEAR(E24)>$V$70,YEAR(E24)<=$V$72),$W$72,IF(AND(G24=$U$70,YEAR(E24)>$V$72),$W$73,$W$75))))) -> קורס קניינות ברשת
A25: 254 | B25: איריס מזרחי | C25: תל אביב-יפו | D25: 32531 | E25: 41073 | F25: בוגר | G25: ראש צוות | H25: 9724 | I25: =VLOOKUP(G25,'[1]נתונים נוספים'!$B$5:$C$9,2,FALSE)*$V$2+H25 -> 10924 | J25: =IF(AND(OR(G25=$V$33,G25=$V$34,G25=$V$35),OR(F25=$U$33,F25=$U$34)),DATE(YEAR(D25)+$U$36,MONTH(D25),DAY(D25)),IF((YEAR(E25)-YEAR(D25))>$U$37,DATE(YEAR(TODAY())+$U$38,MONTH(TODAY()),DAY(TODAY())),DATE(YEAR(D25)+$U$39,MONTH(D25),DAY(D25)))) -> 57002 | K25: =MONTH(J25) -> 1 | L25: =IF(OR(TEXT(J25,"DDDD")=$U$42,TEXT(J25,"DDDD")=$U$43),$U$44,TEXT(J25,"DDDD")) -> יקבע מועד אחר | M25: =YEAR(TODAY())-YEAR(E25) -> 14 | N25: =I25-IF(OR(F25=$U$54,F25=$U$55),VLOOKUP(I25,$V$54:$W$59,2,TRUE),IF(F25=$U$61,VLOOKUP(I25,$V$61:$W$62,2,TRUE),$W$64))*I25 -> 7646.8 | O25: =IF(AND(G25=$U$67,H25<=$V$67),$W$67,IF(AND(G25=$U$67,H25>$V$67),$W$68,IF(AND(G25=$U$70,YEAR(E25)<=$V$70),$W$70,IF(AND(G25=$U$70,YEAR(E25)>$V$70,YEAR(E25)<=$V$72),$W$72,IF(AND(G25=$U$70,YEAR(E25)>$V$72),$W$73,$W$75))))) -> קורס BI
A26: 96 | B26: לחדן פטרישה וחיים | C26: רעות | D26: 32525 | E26: 41196 | F26: ד"ר | G26: מנהל תחום | H26: 6365 | I26: =VLOOKUP(G26,'[1]נתונים נוספים'!$B$5:$C$9,2,FALSE)*$V$2+H26 -> 7325 | J26: =IF(AND(OR(G26=$V$33,G26=$V$34,G26=$V$35),OR(F26=$U$33,F26=$U$34)),DATE(YEAR(D26)+$U$36,MONTH(D26),DAY(D26)),IF((YEAR(E26)-YEAR(D26))>$U$37,DATE(YEAR(TODAY())+$U$38,MONTH(TODAY()),DAY(TODAY())),DATE(YEAR(D26)+$U$39,MONTH(D26),DAY(D26)))) -> 56996 | K26: =MONTH(J26) -> 1 | L26: =IF(OR(TEXT(J26,"DDDD")=$U$42,TEXT(J26,"DDDD")=$U$43),$U$44,TEXT(J26,"DDDD")) -> יום שני | M26: =YEAR(TODAY())-YEAR(E26) -> 14 | N26: =I26-IF(OR(F26=$U$54,F26=$U$55),VLOOKUP(I26,$V$54:$W$59,2,TRUE),IF(F26=$U$61,VLOOKUP(I26,$V$61:$W$62,2,TRUE),$W$64))*I26 -> 6299.5 | O26: =IF(AND(G26=$U$67,H26<=$V$67),$W$67,IF(AND(G26=$U$67,H26>$V$67),$W$68,IF(AND(G26=$U$70,YEAR(E26)<=$V$70),$W$70,IF(AND(G26=$U$70,YEAR(E26)>$V$70,YEAR(E26)<=$V$72),$W$72,IF(AND(G26=$U$70,YEAR(E26)>$V$72),$W$73,$W$75))))) -> קורס קניינות ברשת
A27: 214 | B27: כדורי משה | C27: רעננה | D27: 32523 | E27: 40675 | F27: בוגר | G27: פקיד | H27: 4949 | I27: =VLOOKUP(G27,'[1]נתונים נוספים'!$B$5:$C$9,2,FALSE)*$V$2+H27 -> 5749 | J27: =IF(AND(OR(G27=$V$33,G27=$V$34,G27=$V$35),OR(F27=$U$33,F27=$U$34)),DATE(YEAR(D27)+$U$36,MONTH(D27),DAY(D27)),IF((YEAR(E27)-YEAR(D27))>$U$37,DATE(YEAR(TODAY())+$U$38,MONTH(TODAY()),DAY(TODAY())),DATE(YEAR(D27)+$U$39,MONTH(D27),DAY(D27)))) -> 56994 | K27: =MONTH(J27) -> 1 | L27: =IF(OR(TEXT(J27,"DDDD")=$U$42,TEXT(J27,"DDDD")=$U$43),$U$44,TEXT(J27,"DDDD")) -> יקבע מועד אחר | M27: =YEAR(TODAY())-YEAR(E27) -> 15 | N27: =I27-IF(OR(F27=$U$54,F27=$U$55),VLOOKUP(I27,$V$54:$W$59,2,TRUE),IF(F27=$U$61,VLOOKUP(I27,$V$61:$W$62,2,TRUE),$W$64))*I27 -> 4599.2 | O27: =IF(AND(G27=$U$67,H27<=$V$67),$W$67,IF(AND(G27=$U$67,H27>$V$67),$W$68,IF(AND(G27=$U$70,YEAR(E27)<=$V$70),$W$70,IF(AND(G27=$U$70,YEAR(E27)>$V$70,YEAR(E27)<=$V$72),$W$72,IF(AND(G27=$U$70,YEAR(E27)>$V$72),$W$73,$W$75))))) -> קורס מחשבים כולל
A28: 68 | B28: חזיזה אתי ואלי | C28: אילת | D28: 32513 | E28: 40548 | F28: מוסמך | G28: מנהל מחלקה | H28: 4435 | I28: =VLOOKUP(G28,'[1]נתונים נוספים'!$B$5:$C$9,2,FALSE)*$V$2+H28 -> 5875 | J28: =IF(AND(OR(G28=$V$33,G28=$V$34,G28=$V$35),OR(F28=$U$33,F28=$U$34)),DATE(YEAR(D28)+$U$36,MONTH(D28),DAY(D28)),IF((YEAR(E28)-YEAR(D28))>$U$37,DATE(YEAR(TODAY())+$U$38,MONTH(TODAY()),DAY(TODAY())),DATE(YEAR(D28)+$U$39,MONTH(D28),DAY(D28)))) -> 58080 | K28: =MONTH(J28) -> 1 | L28: =IF(OR(TEXT(J28,"DDDD")=$U$42,TEXT(J28,"DDDD")=$U$43),$U$44,TEXT(J28,"DDDD")) -> יקבע מועד אחר | M28: =YEAR(TODAY())-YEAR(E28) -> 15 | N28: =I28-IF(OR(F28=$U$54,F28=$U$55),VLOOKUP(I28,$V$54:$W$59,2,TRUE),IF(F28=$U$61,VLOOKUP(I28,$V$61:$W$62,2,TRUE),$W$64))*I28 -> 5875 | O28: =IF(AND(G28=$U$67,H28<=$V$67),$W$67,IF(AND(G28=$U$67,H28>$V$67),$W$68,IF(AND(G28=$U$70,YEAR(E28)<=$V$70),$W$70,IF(AND(G28=$U$70,YEAR(E28)>$V$70,YEAR(E28)<=$V$72),$W$72,IF(AND(G28=$U$70,YEAR(E28)>$V$72),$W$73,$W$75))))) -> קורס קניינות ברשת
A29: 123 | B29: עברי דבי ודודי | C29: מצפה רמון | D29: 32503 | E29: 40545 | F29: תיכונית | G29: מנהל מחלקה | H29: 9934 | I29: =VLOOKUP(G29,'[1]נתונים נוספים'!$B$5:$C$9,2,FALSE)*$V$2+H29 -> 11374 | J29: =IF(AND(OR(G29=$V$33,G29=$V$34,G29=$V$35),OR(F29=$U$33,F29=$U$34)),DATE(YEAR(D29)+$U$36,MONTH(D29),DAY(D29)),IF((YEAR(E29)-YEAR(D29))>$U$37,DATE(YEAR(TODAY())+$U$38,MONTH(TODAY()),DAY(TODAY())),DATE(YEAR(D29)+$U$39,MONTH(D29),DAY(D29)))) -> 56974 | K29: =MONTH(J29) -> 12 | L29: =IF(OR(TEXT(J29,"DDDD")=$U$42,TEXT(J29,"DDDD")=$U$43),$U$44,TEXT(J29,"DDDD")) -> יקבע מועד אחר | M29: =YEAR(TODAY())-YEAR(E29) -> 15 | N29: =I29-IF(OR(F29=$U$54,F29=$U$55),VLOOKUP(I29,$V$54:$W$59,2,TRUE),IF(F29=$U$61,VLOOKUP(I29,$V$61:$W$62,2,TRUE),$W$64))*I29 -> 8530.5 | O29: =IF(AND(G29=$U$67,H29<=$V$67),$W$67,IF(AND(G29=$U$67,H29>$V$67),$W$68,IF(AND(G29=$U$70,YEAR(E29)<=$V$70),$W$70,IF(AND(G29=$U$70,YEAR(E29)>$V$70,YEAR(E29)<=$V$72),$W$72,IF(AND(G29=$U$70,YEAR(E29)>$V$72),$W$73,$W$75))))) -> קורס קניינות ברשת
A30: 41 | B30: בסעד עופרה ומשה | C30: הוד השרון | D30: 32467 | E30: 40557 | F30: בוגר | G30: ראש צוות | H30: 4433 | I30: =VLOOKUP(G30,'[1]נתונים נוספים'!$B$5:$C$9,2,FALSE)*$V$2+H30 -> 5633 | J30: =IF(AND(OR(G30=$V$33,G30=$V$34,G30=$V$35),OR(F30=$U$33,F30=$U$34)),DATE(YEAR(D30)+$U$36,MONTH(D30),DAY(D30)),IF((YEAR(E30)-YEAR(D30))>$U$37,DATE(YEAR(TODAY())+$U$38,MONTH(TODAY()),DAY(TODAY())),DATE(YEAR(D30)+$U$39,MONTH(D30),DAY(D30)))) -> 56938 | K30: =MONTH(J30) -> 11 | L30: =IF(OR(TEXT(J30,"DDDD")=$U$42,TEXT(J30,"DDDD")=$U$43),$U$44,TEXT(J30,"DDDD")) -> יקבע מועד אחר | M30: =YEAR(TODAY())-YEAR(E30) -> 15 | N30: =I30-IF(OR(F30=$U$54,F30=$U$55),VLOOKUP(I30,$V$54:$W$59,2,TRUE),IF(F30=$U$61,VLOOKUP(I30,$V$61:$W$62,2,TRUE),$W$64))*I30 -> 4506.4 | O30: =IF(AND(G30=$U$67,H30<=$V$67),$W$67,IF(AND(G30=$U$67,H30>$V$67),$W$68,IF(AND(G30=$U$70,YEAR(E30)<=$V$70),$W$70,IF(AND(G30=$U$70,YEAR(E30)>$V$70,YEAR(E30)<=$V$72),$W$72,IF(AND(G30=$U$70,YEAR(E30)>$V$72),$W$73,$W$75))))) -> קורס AI
A31: 43 | B31: מכלוף שי | C31: אופקים | D31: 32461 | E31: 41083 | F31: בוגר | G31: פקיד | H31: 9359 | I31: =VLOOKUP(G31,'[1]נתונים נוספים'!$B$5:$C$9,2,FALSE)*$V$2+H31 -> 10159 | J31: =IF(AND(OR(G31=$V$33,G31=$V$34,G31=$V$35),OR(F31=$U$33,F31=$U$34)),DATE(YEAR(D31)+$U$36,MONTH(D31),DAY(D31)),IF((YEAR(E31)-YEAR(D31))>$U$37,DATE(YEAR(TODAY())+$U$38,MONTH(TODAY()),DAY(TODAY())),DATE(YEAR(D31)+$U$39,MONTH(D31),DAY(D31)))) -> 56932 | K31: =MONTH(J31) -> 11 | L31: =IF(OR(TEXT(J31,"DDDD")=$U$42,TEXT(J31,"DDDD")=$U$43),$U$44,TEXT(J31,"DDDD")) -> יקבע מועד אחר | M31: =YEAR(TODAY())-YEAR(E31) -> 14 | N31: =I31-IF(OR(F31=$U$54,F31=$U$55),VLOOKUP(I31,$V$54:$W$59,2,TRUE),IF(F31=$U$61,VLOOKUP(I31,$V$61:$W$62,2,TRUE),$W$64))*I31 -> 7111.3 | O31: =IF(AND(G31=$U$67,H31<=$V$67),$W$67,IF(AND(G31=$U$67,H31>$V$67),$W$68,IF(AND(G31=$U$70,YEAR(E31)<=$V$70),$W$70,IF(AND(G31=$U$70,YEAR(E31)>$V$70,YEAR(E31)<=$V$72),$W$72,IF(AND(G31=$U$70,YEAR(E31)>$V$72),$W$73,$W$75))))) -> ניהול טכנולוגי
A32: 134 | B32: פנחס נעמה ויריב | C32: רעננה | D32: 32460 | E32: 40218 | F32: מוסמך | G32: ראש צוות | H32: 4295 | I32: =VLOOKUP(G32,'[1]נתונים נוספים'!$B$5:$C$9,2,FALSE)*$V$2+H32 -> 5495 | J32: =IF(AND(OR(G32=$V$33,G32=$V$34,G32=$V$35),OR(F32=$U$33,F32=$U$34)),DATE(YEAR(D32)+$U$36,MONTH(D32),DAY(D32)),IF((YEAR(E32)-YEAR(D32))>$U$37,DATE(YEAR(TODAY())+$U$38,MONTH(TODAY()),DAY(TODAY())),DATE(YEAR(D32)+$U$39,MONTH(D32),DAY(D32)))) -> 58027 | K32: =MONTH(J32) -> 11 | L32: =IF(OR(TEXT(J32,"DDDD")=$U$42,TEXT(J32,"DDDD")=$U$43),$U$44,TEXT(J32,"DDDD")) -> יום רביעי | M32: =YEAR(TODAY())-YEAR(E32) -> 16 | N32: =I32-IF(OR(F32=$U$54,F32=$U$55),VLOOKUP(I32,$V$54:$W$59,2,TRUE),IF(F32=$U$61,VLOOKUP(I32,$V$61:$W$62,2,TRUE),$W$64))*I32 -> 5495 | O32: =IF(AND(G32=$U$67,H32<=$V$67),$W$67,IF(AND(G32=$U$67,H32>$V$67),$W$68,IF(AND(G32=$U$70,YEAR(E32)<=$V$70),$W$70,IF(AND(G32=$U$70,YEAR(E32)>$V$70,YEAR(E32)<=$V$72),$W$72,IF(AND(G32=$U$70,YEAR(E32)>$V$72),$W$73,$W$75))))) -> קורס AI
A33: 198 | B33: קרקו יצחק | C33: אילת | D33: 32437 | E33: 40920 | F33: מוסמך | G33: פקיד | H33: 6696 | I33: =VLOOKUP(G33,'[1]נתונים נוספים'!$B$5:$C$9,2,FALSE)*$V$2+H33 -> 7496 | J33: =IF(AND(OR(G33=$V$33,G33=$V$34,G33=$V$35),OR(F33=$U$33,F33=$U$34)),DATE(YEAR(D33)+$U$36,MONTH(D33),DAY(D33)),IF((YEAR(E33)-YEAR(D33))>$U$37,DATE(YEAR(TODAY())+$U$38,MONTH(TODAY()),DAY(TODAY())),DATE(YEAR(D33)+$U$39,MONTH(D33),DAY(D33)))) -> 56908 | K33: =MONTH(J33) -> 10 | L33: =IF(OR(TEXT(J33,"DDDD")=$U$42,TEXT(J33,"DDDD")=$U$43),$U$44,TEXT(J33,"DDDD")) -> יום חמישי | M33: =YEAR(TODAY())-YEAR(E33) -> 14 | N33: =I33-IF(OR(F33=$U$54,F33=$U$55),VLOOKUP(I33,$V$54:$W$59,2,TRUE),IF(F33=$U$61,VLOOKUP(I33,$V$61:$W$62,2,TRUE),$W$64))*I33 -> 6446.56 | O33: =IF(AND(G33=$U$67,H33<=$V$67),$W$67,IF(AND(G33=$U$67,H33>$V$67),$W$68,IF(AND(G33=$U$70,YEAR(E33)<=$V$70),$W$70,IF(AND(G33=$U$70,YEAR(E33)>$V$70,YEAR(E33)<=$V$72),$W$72,IF(AND(G33=$U$70,YEAR(E33)>$V$72),$W$73,$W$75))))) -> ניהול טכנולוגי | U33: מוסמך | V33: סמנכ"ל
A34: 240 | B34: בן שושן עינת וחיים | C34: כפר סבא | D34: 32436 | E34: 41150 | F34: ד"ר | G34: ראש צוות | H34: 9837 | I34: =VLOOKUP(G34,'[1]נתונים נוספים'!$B$5:$C$9,2,FALSE)*$V$2+H34 -> 11037 | J34: =IF(AND(OR(G34=$V$33,G34=$V$34,G34=$V$35),OR(F34=$U$33,F34=$U$34)),DATE(YEAR(D34)+$U$36,MONTH(D34),DAY(D34)),IF((YEAR(E34)-YEAR(D34))>$U$37,DATE(YEAR(TODAY())+$U$38,MONTH(TODAY()),DAY(TODAY())),DATE(YEAR(D34)+$U$39,MONTH(D34),DAY(D34)))) -> 58003 | K34: =MONTH(J34) -> 10 | L34: =IF(OR(TEXT(J34,"DDDD")=$U$42,TEXT(J34,"DDDD")=$U$43),$U$44,TEXT(J34,"DDDD")) -> יקבע מועד אחר | M34: =YEAR(TODAY())-YEAR(E34) -> 14 | N34: =I34-IF(OR(F34=$U$54,F34=$U$55),VLOOKUP(I34,$V$54:$W$59,2,TRUE),IF(F34=$U$61,VLOOKUP(I34,$V$61:$W$62,2,TRUE),$W$64))*I34 -> 6622.2 | O34: =IF(AND(G34=$U$67,H34<=$V$67),$W$67,IF(AND(G34=$U$67,H34>$V$67),$W$68,IF(AND(G34=$U$70,YEAR(E34)<=$V$70),$W$70,IF(AND(G34=$U$70,YEAR(E34)>$V$70,YEAR(E34)<=$V$72),$W$72,IF(AND(G34=$U$70,YEAR(E34)>$V$72),$W$73,$W$75))))) -> קורס BI | U34: ד"ר | V34: מנהל מחלקה
A35: 35 | B35: בן-חיון יפעת ואבי | C35: פורדיס | D35: 32430 | E35: 40834 | F35: תיכונית | G35: מנהל תחום | H35: 9461 | I35: =VLOOKUP(G35,'[1]נתונים נוספים'!$B$5:$C$9,2,FALSE)*$V$2+H35 -> 10421 | J35: =IF(AND(OR(G35=$V$33,G35=$V$34,G35=$V$35),OR(F35=$U$33,F35=$U$34)),DATE(YEAR(D35)+$U$36,MONTH(D35),DAY(D35)),IF((YEAR(E35)-YEAR(D35))>$U$37,DATE(YEAR(TODAY())+$U$38,MONTH(TODAY()),DAY(TODAY())),DATE(YEAR(D35)+$U$39,MONTH(D35),DAY(D35)))) -> 56901 | K35: =MONTH(J35) -> 10 | L35: =IF(OR(TEXT(J35,"DDDD")=$U$42,TEXT(J35,"DDDD")=$U$43),$U$44,TEXT(J35,"DDDD")) -> יום חמישי | M35: =YEAR(TODAY())-YEAR(E35) -> 15 | N35: =I35-IF(OR(F35=$U$54,F35=$U$55),VLOOKUP(I35,$V$54:$W$59,2,TRUE),IF(F35=$U$61,VLOOKUP(I35,$V$61:$W$62,2,TRUE),$W$64))*I35 -> 7815.75 | O35: =IF(AND(G35=$U$67,H35<=$V$67),$W$67,IF(AND(G35=$U$67,H35>$V$67),$W$68,IF(AND(G35=$U$70,YEAR(E35)<=$V$70),$W$70,IF(AND(G35=$U$70,YEAR(E35)>$V$70,YEAR(E35)<=$V$72),$W$72,IF(AND(G35=$U$70,YEAR(E35)>$V$72),$W$73,$W$75))))) -> קורס קניינות ברשת | V35: ראש צוות
A36: 100 | B36: מור רויטל וחי | C36: מכבים | D36: 32421 | E36: 40344 | F36: בוגר | G36: פקיד | H36: 6745 | I36: =VLOOKUP(G36,'[1]נתונים נוספים'!$B$5:$C$9,2,FALSE)*$V$2+H36 -> 7545 | J36: =IF(AND(OR(G36=$V$33,G36=$V$34,G36=$V$35),OR(F36=$U$33,F36=$U$34)),DATE(YEAR(D36)+$U$36,MONTH(D36),DAY(D36)),IF((YEAR(E36)-YEAR(D36))>$U$37,DATE(YEAR(TODAY())+$U$38,MONTH(TODAY()),DAY(TODAY())),DATE(YEAR(D36)+$U$39,MONTH(D36),DAY(D36)))) -> 56892 | K36: =MONTH(J36) -> 10 | L36: =IF(OR(TEXT(J36,"DDDD")=$U$42,TEXT(J36,"DDDD")=$U$43),$U$44,TEXT(J36,"DDDD")) -> יום שלישי | M36: =YEAR(TODAY())-YEAR(E36) -> 16 | N36: =I36-IF(OR(F36=$U$54,F36=$U$55),VLOOKUP(I36,$V$54:$W$59,2,TRUE),IF(F36=$U$61,VLOOKUP(I36,$V$61:$W$62,2,TRUE),$W$64))*I36 -> 6036 | O36: =IF(AND(G36=$U$67,H36<=$V$67),$W$67,IF(AND(G36=$U$67,H36>$V$67),$W$68,IF(AND(G36=$U$70,YEAR(E36)<=$V$70),$W$70,IF(AND(G36=$U$70,YEAR(E36)>$V$70,YEAR(E36)<=$V$72),$W$72,IF(AND(G36=$U$70,YEAR(E36)>$V$72),$W$73,$W$75))))) -> קורס תכנות | U36: 70
A37: 121 | B37: סמסון יהודית ושלום | C37: נען | D37: 32392 | E37: 40593 | F37: בוגר | G37: סמנכ"ל | H37: 8207 | I37: =VLOOKUP(G37,'[1]נתונים נוספים'!$B$5:$C$9,2,FALSE)*$V$2+H37 -> 10047 | J37: =IF(AND(OR(G37=$V$33,G37=$V$34,G37=$V$35),OR(F37=$U$33,F37=$U$34)),DATE(YEAR(D37)+$U$36,MONTH(D37),DAY(D37)),IF((YEAR(E37)-YEAR(D37))>$U$37,DATE(YEAR(TODAY())+$U$38,MONTH(TODAY()),DAY(TODAY())),DATE(YEAR(D37)+$U$39,MONTH(D37),DAY(D37)))) -> 56863 | K37: =MONTH(J37) -> 9 | L37: =IF(OR(TEXT(J37,"DDDD")=$U$42,TEXT(J37,"DDDD")=$U$43),$U$44,TEXT(J37,"DDDD")) -> יום שני | M37: =YEAR(TODAY())-YEAR(E37) -> 15 | N37: =I37-IF(OR(F37=$U$54,F37=$U$55),VLOOKUP(I37,$V$54:$W$59,2,TRUE),IF(F37=$U$61,VLOOKUP(I37,$V$61:$W$62,2,TRUE),$W$64))*I37 -> 7032.9 | O37: =IF(AND(G37=$U$67,H37<=$V$67),$W$67,IF(AND(G37=$U$67,H37>$V$67),$W$68,IF(AND(G37=$U$70,YEAR(E37)<=$V$70),$W$70,IF(AND(G37=$U$70,YEAR(E37)>$V$70,YEAR(E37)<=$V$72),$W$72,IF(AND(G37=$U$70,YEAR(E37)>$V$72),$W$73,$W$75))))) -> קורס קניינות ברשת | U37: 55
A38: 86 | B38: אשכול אריאל | C38: נס ציונה | D38: 32387 | E38: 40618 | F38: תיכונית | G38: סמנכ"ל | H38: 5642 | I38: =VLOOKUP(G38,'[1]נתונים נוספים'!$B$5:$C$9,2,FALSE)*$V$2+H38 -> 7482 | J38: =IF(AND(OR(G38=$V$33,G38=$V$34,G38=$V$35),OR(F38=$U$33,F38=$U$34)),DATE(YEAR(D38)+$U$36,MONTH(D38),DAY(D38)),IF((YEAR(E38)-YEAR(D38))>$U$37,DATE(YEAR(TODAY())+$U$38,MONTH(TODAY()),DAY(TODAY())),DATE(YEAR(D38)+$U$39,MONTH(D38),DAY(D38)))) -> 56858 | K38: =MONTH(J38) -> 9 | L38: =IF(OR(TEXT(J38,"DDDD")=$U$42,TEXT(J38,"DDDD")=$U$43),$U$44,TEXT(J38,"DDDD")) -> יום רביעי | M38: =YEAR(TODAY())-YEAR(E38) -> 15 | N38: =I38-IF(OR(F38=$U$54,F38=$U$55),VLOOKUP(I38,$V$54:$W$59,2,TRUE),IF(F38=$U$61,VLOOKUP(I38,$V$61:$W$62,2,TRUE),$W$64))*I38 -> 5611.5 | O38: =IF(AND(G38=$U$67,H38<=$V$67),$W$67,IF(AND(G38=$U$67,H38>$V$67),$W$68,IF(AND(G38=$U$70,YEAR(E38)<=$V$70),$W$70,IF(AND(G38=$U$70,YEAR(E38)>$V$70,YEAR(E38)<=$V$72),$W$72,IF(AND(G38=$U$70,YEAR(E38)>$V$72),$W$73,$W$75))))) -> קורס קניינות ברשת | U38: 3
A39: 178 | B39: בסטקר שרון | C39: רעננה | D39: 32383 | E39: 40791 | F39: בוגר | G39: פקיד | H39: 9086 | I39: =VLOOKUP(G39,'[1]נתונים נוספים'!$B$5:$C$9,2,FALSE)*$V$2+H39 -> 9886 | J39: =IF(AND(OR(G39=$V$33,G39=$V$34,G39=$V$35),OR(F39=$U$33,F39=$U$34)),DATE(YEAR(D39)+$U$36,MONTH(D39),DAY(D39)),IF((YEAR(E39)-YEAR(D39))>$U$37,DATE(YEAR(TODAY())+$U$38,MONTH(TODAY()),DAY(TODAY())),DATE(YEAR(D39)+$U$39,MONTH(D39),DAY(D39)))) -> 56854 | K39: =MONTH(J39) -> 8 | L39: =IF(OR(TEXT(J39,"DDDD")=$U$42,TEXT(J39,"DDDD")=$U$43),$U$44,TEXT(J39,"DDDD")) -> יקבע מועד אחר | M39: =YEAR(TODAY())-YEAR(E39) -> 15 | N39: =I39-IF(OR(F39=$U$54,F39=$U$55),VLOOKUP(I39,$V$54:$W$59,2,TRUE),IF(F39=$U$61,VLOOKUP(I39,$V$61:$W$62,2,TRUE),$W$64))*I39 -> 7908.8 | O39: =IF(AND(G39=$U$67,H39<=$V$67),$W$67,IF(AND(G39=$U$67,H39>$V$67),$W$68,IF(AND(G39=$U$70,YEAR(E39)<=$V$70),$W$70,IF(AND(G39=$U$70,YEAR(E39)>$V$70,YEAR(E39)<=$V$72),$W$72,IF(AND(G39=$U$70,YEAR(E39)>$V$72),$W$73,$W$75))))) -> קורס מחשבים כולל | U39: 67
A40: 239 | B40: בן דוד אורנה ורונן | C40: הבונים | D40: 32383 | E40: 40573 | F40: תיכונית | G40: סמנכ"ל | H40: 7479 | I40: =VLOOKUP(G40,'[1]נתונים נוספים'!$B$5:$C$9,2,FALSE)*$V$2+H40 -> 9319 | J40: =IF(AND(OR(G40=$V$33,G40=$V$34,G40=$V$35),OR(F40=$U$33,F40=$U$34)),DATE(YEAR(D40)+$U$36,MONTH(D40),DAY(D40)),IF((YEAR(E40)-YEAR(D40))>$U$37,DATE(YEAR(TODAY())+$U$38,MONTH(TODAY()),DAY(TODAY())),DATE(YEAR(D40)+$U$39,MONTH(D40),DAY(D40)))) -> 56854 | K40: =MONTH(J40) -> 8 | L40: =IF(OR(TEXT(J40,"DDDD")=$U$42,TEXT(J40,"DDDD")=$U$43),$U$44,TEXT(J40,"DDDD")) -> יקבע מועד אחר | M40: =YEAR(TODAY())-YEAR(E40) -> 15 | N40: =I40-IF(OR(F40=$U$54,F40=$U$55),VLOOKUP(I40,$V$54:$W$59,2,TRUE),IF(F40=$U$61,VLOOKUP(I40,$V$61:$W$62,2,TRUE),$W$64))*I40 -> 6989.25 | O40: =IF(AND(G40=$U$67,H40<=$V$67),$W$67,IF(AND(G40=$U$67,H40>$V$67),$W$68,IF(AND(G40=$U$70,YEAR(E40)<=$V$70),$W$70,IF(AND(G40=$U$70,YEAR(E40)>$V$70,YEAR(E40)<=$V$72),$W$72,IF(AND(G40=$U$70,YEAR(E40)>$V$72),$W$73,$W$75))))) -> קורס קניינות ברשת
A41: 37 | B41: בן-עמי אתי | C41: החותרים | D41: 32379 | E41: 41132 | F41: תיכונית | G41: מנהל מחלקה | H41: 5722 | I41: =VLOOKUP(G41,'[1]נתונים נוספים'!$B$5:$C$9,2,FALSE)*$V$2+H41 -> 7162 | J41: =IF(AND(OR(G41=$V$33,G41=$V$34,G41=$V$35),OR(F41=$U$33,F41=$U$34)),DATE(YEAR(D41)+$U$36,MONTH(D41),DAY(D41)),IF((YEAR(E41)-YEAR(D41))>$U$37,DATE(YEAR(TODAY())+$U$38,MONTH(TODAY()),DAY(TODAY())),DATE(YEAR(D41)+$U$39,MONTH(D41),DAY(D41)))) -> 56850 | K41: =MONTH(J41) -> 8 | L41: =IF(OR(TEXT(J41,"DDDD")=$U$42,TEXT(J41,"DDDD")=$U$43),$U$44,TEXT(J41,"DDDD")) -> יום שלישי | M41: =YEAR(TODAY())-YEAR(E41) -> 14 | N41: =I41-IF(OR(F41=$U$54,F41=$U$55),VLOOKUP(I41,$V$54:$W$59,2,TRUE),IF(F41=$U$61,VLOOKUP(I41,$V$61:$W$62,2,TRUE),$W$64))*I41 -> 5371.5 | O41: =IF(AND(G41=$U$67,H41<=$V$67),$W$67,IF(AND(G41=$U$67,H41>$V$67),$W$68,IF(AND(G41=$U$70,YEAR(E41)<=$V$70),$W$70,IF(AND(G41=$U$70,YEAR(E41)>$V$70,YEAR(E41)<=$V$72),$W$72,IF(AND(G41=$U$70,YEAR(E41)>$V$72),$W$73,$W$75))))) -> קורס קניינות ברשת
A42: 160 | B42: שעיה יואב וסנדרה | C42: רעננה | D42: 32371 | E42: 40602 | F42: מוסמך | G42: ראש צוות | H42: 6100 | I42: =VLOOKUP(G42,'[1]נתונים נוספים'!$B$5:$C$9,2,FALSE)*$V$2+H42 -> 7300 | J42: =IF(AND(OR(G42=$V$33,G42=$V$34,G42=$V$35),OR(F42=$U$33,F42=$U$34)),DATE(YEAR(D42)+$U$36,MONTH(D42),DAY(D42)),IF((YEAR(E42)-YEAR(D42))>$U$37,DATE(YEAR(TODAY())+$U$38,MONTH(TODAY()),DAY(TODAY())),DATE(YEAR(D42)+$U$39,MONTH(D42),DAY(D42)))) -> 57938 | K42: =MONTH(J42) -> 8 | L42: =IF(OR(TEXT(J42,"DDDD")=$U$42,TEXT(J42,"DDDD")=$U$43),$U$44,TEXT(J42,"DDDD")) -> יום שישי | M42: =YEAR(TODAY())-YEAR(E42) -> 15 | N42: =I42-IF(OR(F42=$U$54,F42=$U$55),VLOOKUP(I42,$V$54:$W$59,2,TRUE),IF(F42=$U$61,VLOOKUP(I42,$V$61:$W$62,2,TRUE),$W$64))*I42 -> 6278 | O42: =IF(AND(G42=$U$67,H42<=$V$67),$W$67,IF(AND(G42=$U$67,H42>$V$67),$W$68,IF(AND(G42=$U$70,YEAR(E42)<=$V$70),$W$70,IF(AND(G42=$U$70,YEAR(E42)>$V$70,YEAR(E42)<=$V$72),$W$72,IF(AND(G42=$U$70,YEAR(E42)>$V$72),$W$73,$W$75))))) -> קורס BI | U42: שבת
A43: 84 | B43: כהן יעל ואבי | C43: אופקים | D43: 32350 | E43: 40851 | F43: בוגר | G43: סמנכ"ל | H43: 7195 | I43: =VLOOKUP(G43,'[1]נתונים נוספים'!$B$5:$C$9,2,FALSE)*$V$2+H43 -> 9035 | J43: =IF(AND(OR(G43=$V$33,G43=$V$34,G43=$V$35),OR(F43=$U$33,F43=$U$34)),DATE(YEAR(D43)+$U$36,MONTH(D43),DAY(D43)),IF((YEAR(E43)-YEAR(D43))>$U$37,DATE(YEAR(TODAY())+$U$38,MONTH(TODAY()),DAY(TODAY())),DATE(YEAR(D43)+$U$39,MONTH(D43),DAY(D43)))) -> 56821 | K43: =MONTH(J43) -> 7 | L43: =IF(OR(TEXT(J43,"DDDD")=$U$42,TEXT(J43,"DDDD")=$U$43),$U$44,TEXT(J43,"DDDD")) -> יום שני | M43: =YEAR(TODAY())-YEAR(E43) -> 15 | N43: =I43-IF(OR(F43=$U$54,F43=$U$55),VLOOKUP(I43,$V$54:$W$59,2,TRUE),IF(F43=$U$61,VLOOKUP(I43,$V$61:$W$62,2,TRUE),$W$64))*I43 -> 7228 | O43: =IF(AND(G43=$U$67,H43<=$V$67),$W$67,IF(AND(G43=$U$67,H43>$V$67),$W$68,IF(AND(G43=$U$70,YEAR(E43)<=$V$70),$W$70,IF(AND(G43=$U$70,YEAR(E43)>$V$70,YEAR(E43)<=$V$72),$W$72,IF(AND(G43=$U$70,YEAR(E43)>$V$72),$W$73,$W$75))))) -> קורס קניינות ברשת | U43: יום ראשון
A44: 187 | B44: פרץ אילן | C44: אילת | D44: 32331 | E44: 41055 | F44: תיכונית | G44: ראש צוות | H44: 4264 | I44: =VLOOKUP(G44,'[1]נתונים נוספים'!$B$5:$C$9,2,FALSE)*$V$2+H44 -> 5464 | J44: =IF(AND(OR(G44=$V$33,G44=$V$34,G44=$V$35),OR(F44=$U$33,F44=$U$34)),DATE(YEAR(D44)+$U$36,MONTH(D44),DAY(D44)),IF((YEAR(E44)-YEAR(D44))>$U$37,DATE(YEAR(TODAY())+$U$38,MONTH(TODAY()),DAY(TODAY())),DATE(YEAR(D44)+$U$39,MONTH(D44),DAY(D44)))) -> 56802 | K44: =MONTH(J44) -> 7 | L44: =IF(OR(TEXT(J44,"DDDD")=$U$42,TEXT(J44,"DDDD")=$U$43),$U$44,TEXT(J44,"DDDD")) -> יום רביעי | M44: =YEAR(TODAY())-YEAR(E44) -> 14 | N44: =I44-IF(OR(F44=$U$54,F44=$U$55),VLOOKUP(I44,$V$54:$W$59,2,TRUE),IF(F44=$U$61,VLOOKUP(I44,$V$61:$W$62,2,TRUE),$W$64))*I44 -> 4098 | O44: =IF(AND(G44=$U$67,H44<=$V$67),$W$67,IF(AND(G44=$U$67,H44>$V$67),$W$68,IF(AND(G44=$U$70,YEAR(E44)<=$V$70),$W$70,IF(AND(G44=$U$70,YEAR(E44)>$V$70,YEAR(E44)<=$V$72),$W$72,IF(AND(G44=$U$70,YEAR(E44)>$V$72),$W$73,$W$75))))) -> קורס AI | U44: יקבע מועד אחר
A45: 74 | B45: יגודייב צבי | C45: נס ציונה | D45: 32330 | E45: 40949 | F45: בוגר | G45: פקיד | H45: 5755 | I45: =VLOOKUP(G45,'[1]נתונים נוספים'!$B$5:$C$9,2,FALSE)*$V$2+H45 -> 6555 | J45: =IF(AND(OR(G45=$V$33,G45=$V$34,G45=$V$35),OR(F45=$U$33,F45=$U$34)),DATE(YEAR(D45)+$U$36,MONTH(D45),DAY(D45)),IF((YEAR(E45)-YEAR(D45))>$U$37,DATE(YEAR(TODAY())+$U$38,MONTH(TODAY()),DAY(TODAY())),DATE(YEAR(D45)+$U$39,MONTH(D45),DAY(D45)))) -> 56801 | K45: =MONTH(J45) -> 7 | L45: =IF(OR(TEXT(J45,"DDDD")=$U$42,TEXT(J45,"DDDD")=$U$43),$U$44,TEXT(J45,"DDDD")) -> יום שלישי | M45: =YEAR(TODAY())-YEAR(E45) -> 14 | N45: =I45-IF(OR(F45=$U$54,F45=$U$55),VLOOKUP(I45,$V$54:$W$59,2,TRUE),IF(F45=$U$61,VLOOKUP(I45,$V$61:$W$62,2,TRUE),$W$64))*I45 -> 5244 | O45: =IF(AND(G45=$U$67,H45<=$V$67),$W$67,IF(AND(G45=$U$67,H45>$V$67),$W$68,IF(AND(G45=$U$70,YEAR(E45)<=$V$70),$W$70,IF(AND(G45=$U$70,YEAR(E45)>$V$70,YEAR(E45)<=$V$72),$W$72,IF(AND(G45=$U$70,YEAR(E45)>$V$72),$W$73,$W$75))))) -> ניהול טכנולוגי
A46: 38 | B46: בן-עמי יפה ויוסי | C46: ירושלים | D46: 32311 | E46: 40249 | F46: מוסמך | G46: מנהל תחום | H46: 5540 | I46: =VLOOKUP(G46,'[1]נתונים נוספים'!$B$5:$C$9,2,FALSE)*$V$2+H46 -> 6500 | J46: =IF(AND(OR(G46=$V$33,G46=$V$34,G46=$V$35),OR(F46=$U$33,F46=$U$34)),DATE(YEAR(D46)+$U$36,MONTH(D46),DAY(D46)),IF((YEAR(E46)-YEAR(D46))>$U$37,DATE(YEAR(TODAY())+$U$38,MONTH(TODAY()),DAY(TODAY())),DATE(YEAR(D46)+$U$39,MONTH(D46),DAY(D46)))) -> 56782 | K46: =MONTH(J46) -> 6 | L46: =IF(OR(TEXT(J46,"DDDD")=$U$42,TEXT(J46,"DDDD")=$U$43),$U$44,TEXT(J46,"DDDD")) -> יום חמישי | M46: =YEAR(TODAY())-YEAR(E46) -> 16 | N46: =I46-IF(OR(F46=$U$54,F46=$U$55),VLOOKUP(I46,$V$54:$W$59,2,TRUE),IF(F46=$U$61,VLOOKUP(I46,$V$61:$W$62,2,TRUE),$W$64))*I46 -> 5850 | O46: =IF(AND(G46=$U$67,H46<=$V$67),$W$67,IF(AND(G46=$U$67,H46>$V$67),$W$68,IF(AND(G46=$U$70,YEAR(E46)<=$V$70),$W$70,IF(AND(G46=$U$70,YEAR(E46)>$V$70,YEAR(E46)<=$V$72),$W$72,IF(AND(G46=$U$70,YEAR(E46)>$V$72),$W$73,$W$75))))) -> קורס קניינות ברשת
A47: 3 | B47: הדר יוסי | C47: מגדיאל | D47: 32298 | E47: 40848 | F47: תיכונית | G47: מנהל מחלקה | H47: 4046 | I47: =VLOOKUP(G47,'[1]נתונים נוספים'!$B$5:$C$9,2,FALSE)*$V$2+H47 -> 5486 | J47: =IF(AND(OR(G47=$V$33,G47=$V$34,G47=$V$35),OR(F47=$U$33,F47=$U$34)),DATE(YEAR(D47)+$U$36,MONTH(D47),DAY(D47)),IF((YEAR(E47)-YEAR(D47))>$U$37,DATE(YEAR(TODAY())+$U$38,MONTH(TODAY()),DAY(TODAY())),DATE(YEAR(D47)+$U$39,MONTH(D47),DAY(D47)))) -> 56769 | K47: =MONTH(J47) -> 6 | L47: =IF(OR(TEXT(J47,"DDDD")=$U$42,TEXT(J47,"DDDD")=$U$43),$U$44,TEXT(J47,"DDDD")) -> יום שישי | M47: =YEAR(TODAY())-YEAR(E47) -> 15 | N47: =I47-IF(OR(F47=$U$54,F47=$U$55),VLOOKUP(I47,$V$54:$W$59,2,TRUE),IF(F47=$U$61,VLOOKUP(I47,$V$61:$W$62,2,TRUE),$W$64))*I47 -> 4114.5 | O47: =IF(AND(G47=$U$67,H47<=$V$67),$W$67,IF(AND(G47=$U$67,H47>$V$67),$W$68,IF(AND(G47=$U$70,YEAR(E47)<=$V$70),$W$70,IF(AND(G47=$U$70,YEAR(E47)>$V$70,YEAR(E47)<=$V$72),$W$72,IF(AND(G47=$U$70,YEAR(E47)>$V$72),$W$73,$W$75))))) -> קורס קניינות ברשת
A48: 44 | B48: ברוך לאה ורפי | C48: תל אביב-יפו | D48: 32235 | E48: 40397 | F48: בוגר | G48: מנהל תחום | H48: 6585 | I48: =VLOOKUP(G48,'[1]נתונים נוספים'!$B$5:$C$9,2,FALSE)*$V$2+H48 -> 7545 | J48: =IF(AND(OR(G48=$V$33,G48=$V$34,G48=$V$35),OR(F48=$U$33,F48=$U$34)),DATE(YEAR(D48)+$U$36,MONTH(D48),DAY(D48)),IF((YEAR(E48)-YEAR(D48))>$U$37,DATE(YEAR(TODAY())+$U$38,MONTH(TODAY()),DAY(TODAY())),DATE(YEAR(D48)+$U$39,MONTH(D48),DAY(D48)))) -> 56706 | K48: =MONTH(J48) -> 4 | L48: =IF(OR(TEXT(J48,"DDDD")=$U$42,TEXT(J48,"DDDD")=$U$43),$U$44,TEXT(J48,"DDDD")) -> יום שישי | M48: =YEAR(TODAY())-YEAR(E48) -> 16 | N48: =I48-IF(OR(F48=$U$54,F48=$U$55),VLOOKUP(I48,$V$54:$W$59,2,TRUE),IF(F48=$U$61,VLOOKUP(I48,$V$61:$W$62,2,TRUE),$W$64))*I48 -> 6036 | O48: =IF(AND(G48=$U$67,H48<=$V$67),$W$67,IF(AND(G48=$U$67,H48>$V$67),$W$68,IF(AND(G48=$U$70,YEAR(E48)<=$V$70),$W$70,IF(AND(G48=$U$70,YEAR(E48)>$V$70,YEAR(E48)<=$V$72),$W$72,IF(AND(G48=$U$70,YEAR(E48)>$V$72),$W$73,$W$75))))) -> קורס קניינות ברשת | U48: ממוצע שכר בסיס | V48: =AVERAGE(H2:H60) -> 6901.5254 | W48: 500 | X48: 10 | Y48: מודיעין
A49: 200 | B49: הממזג מאור | C49: מכבים | D49: 32223 | E49: 40913 | F49: ד"ר | G49: סמנכ"ל | H49: 8356 | I49: =VLOOKUP(G49,'[1]נתונים נוספים'!$B$5:$C$9,2,FALSE)*$V$2+H49 -> 10196 | J49: =IF(AND(OR(G49=$V$33,G49=$V$34,G49=$V$35),OR(F49=$U$33,F49=$U$34)),DATE(YEAR(D49)+$U$36,MONTH(D49),DAY(D49)),IF((YEAR(E49)-YEAR(D49))>$U$37,DATE(YEAR(TODAY())+$U$38,MONTH(TODAY()),DAY(TODAY())),DATE(YEAR(D49)+$U$39,MONTH(D49),DAY(D49)))) -> 57790 | K49: =MONTH(J49) -> 3 | L49: =IF(OR(TEXT(J49,"DDDD")=$U$42,TEXT(J49,"DDDD")=$U$43),$U$44,TEXT(J49,"DDDD")) -> יום חמישי | M49: =YEAR(TODAY())-YEAR(E49) -> 14 | N49: =I49-IF(OR(F49=$U$54,F49=$U$55),VLOOKUP(I49,$V$54:$W$59,2,TRUE),IF(F49=$U$61,VLOOKUP(I49,$V$61:$W$62,2,TRUE),$W$64))*I49 -> 6117.6 | O49: =IF(AND(G49=$U$67,H49<=$V$67),$W$67,IF(AND(G49=$U$67,H49>$V$67),$W$68,IF(AND(G49=$U$70,YEAR(E49)<=$V$70),$W$70,IF(AND(G49=$U$70,YEAR(E49)>$V$70,YEAR(E49)<=$V$72),$W$72,IF(AND(G49=$U$70,YEAR(E49)>$V$72),$W$73,$W$75))))) -> קורס קניינות ברשת
A50: 219 | B50: רוקח זאב | C50: החותרים | D50: 32150 | E50: 40694 | F50: תיכונית | G50: פקיד | H50: 6471 | I50: =VLOOKUP(G50,'[1]נתונים נוספים'!$B$5:$C$9,2,FALSE)*$V$2+H50 -> 7271 | J50: =IF(AND(OR(G50=$V$33,G50=$V$34,G50=$V$35),OR(F50=$U$33,F50=$U$34)),DATE(YEAR(D50)+$U$36,MONTH(D50),DAY(D50)),IF((YEAR(E50)-YEAR(D50))>$U$37,DATE(YEAR(TODAY())+$U$38,MONTH(TODAY()),DAY(TODAY())),DATE(YEAR(D50)+$U$39,MONTH(D50),DAY(D50)))) -> 56622 | K50: =MONTH(J50) -> 1 | L50: =IF(OR(TEXT(J50,"DDDD")=$U$42,TEXT(J50,"DDDD")=$U$43),$U$44,TEXT(J50,"DDDD")) -> יום שישי | M50: =YEAR(TODAY())-YEAR(E50) -> 15 | N50: =I50-IF(OR(F50=$U$54,F50=$U$55),VLOOKUP(I50,$V$54:$W$59,2,TRUE),IF(F50=$U$61,VLOOKUP(I50,$V$61:$W$62,2,TRUE),$W$64))*I50 -> 5453.25 | O50: =IF(AND(G50=$U$67,H50<=$V$67),$W$67,IF(AND(G50=$U$67,H50>$V$67),$W$68,IF(AND(G50=$U$70,YEAR(E50)<=$V$70),$W$70,IF(AND(G50=$U$70,YEAR(E50)>$V$70,YEAR(E50)<=$V$72),$W$72,IF(AND(G50=$U$70,YEAR(E50)>$V$72),$W$73,$W$75))))) -> קורס מחשבים כולל
A51: 225 | B51: דודפור עמרם ושלומית | C51: אילת | D51: 32061 | E51: 40908 | F51: תיכונית | G51: ראש צוות | H51: 4255 | I51: =VLOOKUP(G51,'[1]נתונים נוספים'!$B$5:$C$9,2,FALSE)*$V$2+H51 -> 5455 | J51: =IF(AND(OR(G51=$V$33,G51=$V$34,G51=$V$35),OR(F51=$U$33,F51=$U$34)),DATE(YEAR(D51)+$U$36,MONTH(D51),DAY(D51)),IF((YEAR(E51)-YEAR(D51))>$U$37,DATE(YEAR(TODAY())+$U$38,MONTH(TODAY()),DAY(TODAY())),DATE(YEAR(D51)+$U$39,MONTH(D51),DAY(D51)))) -> 56533 | K51: =MONTH(J51) -> 10 | L51: =IF(OR(TEXT(J51,"DDDD")=$U$42,TEXT(J51,"DDDD")=$U$43),$U$44,TEXT(J51,"DDDD")) -> יקבע מועד אחר | M51: =YEAR(TODAY())-YEAR(E51) -> 15 | N51: =I51-IF(OR(F51=$U$54,F51=$U$55),VLOOKUP(I51,$V$54:$W$59,2,TRUE),IF(F51=$U$61,VLOOKUP(I51,$V$61:$W$62,2,TRUE),$W$64))*I51 -> 4091.25 | O51: =IF(AND(G51=$U$67,H51<=$V$67),$W$67,IF(AND(G51=$U$67,H51>$V$67),$W$68,IF(AND(G51=$U$70,YEAR(E51)<=$V$70),$W$70,IF(AND(G51=$U$70,YEAR(E51)>$V$70,YEAR(E51)<=$V$72),$W$72,IF(AND(G51=$U$70,YEAR(E51)>$V$72),$W$73,$W$75))))) -> קורס AI
A52: 81 | B52: כהן חיים ודוקטורי אורה | C52: כפר סבא | D52: 32034 | E52: 41017 | F52: מוסמך | G52: מנהל תחום | H52: 5567 | I52: =VLOOKUP(G52,'[1]נתונים נוספים'!$B$5:$C$9,2,FALSE)*$V$2+H52 -> 6527 | J52: =IF(AND(OR(G52=$V$33,G52=$V$34,G52=$V$35),OR(F52=$U$33,F52=$U$34)),DATE(YEAR(D52)+$U$36,MONTH(D52),DAY(D52)),IF((YEAR(E52)-YEAR(D52))>$U$37,DATE(YEAR(TODAY())+$U$38,MONTH(TODAY()),DAY(TODAY())),DATE(YEAR(D52)+$U$39,MONTH(D52),DAY(D52)))) -> 56506 | K52: =MONTH(J52) -> 9 | L52: =IF(OR(TEXT(J52,"DDDD")=$U$42,TEXT(J52,"DDDD")=$U$43),$U$44,TEXT(J52,"DDDD")) -> יום שני | M52: =YEAR(TODAY())-YEAR(E52) -> 14 | N52: =I52-IF(OR(F52=$U$54,F52=$U$55),VLOOKUP(I52,$V$54:$W$59,2,TRUE),IF(F52=$U$61,VLOOKUP(I52,$V$61:$W$62,2,TRUE),$W$64))*I52 -> 5874.3 | O52: =IF(AND(G52=$U$67,H52<=$V$67),$W$67,IF(AND(G52=$U$67,H52>$V$67),$W$68,IF(AND(G52=$U$70,YEAR(E52)<=$V$70),$W$70,IF(AND(G52=$U$70,YEAR(E52)>$V$70,YEAR(E52)<=$V$72),$W$72,IF(AND(G52=$U$70,YEAR(E52)>$V$72),$W$73,$W$75))))) -> קורס קניינות ברשת | U52: =AND(C2<>$Y$48,H2>$V$48-$W$48,H2<$V$48+$W$48,M2>$X$48) -> FALSE
A53: 195 | B53: כהן קרן ודורון | C53: מכבים | D53: 31995 | E53: 40095 | F53: מוסמך | G53: פקיד | H53: 9294 | I53: =VLOOKUP(G53,'[1]נתונים נוספים'!$B$5:$C$9,2,FALSE)*$V$2+H53 -> 10094 | J53: =IF(AND(OR(G53=$V$33,G53=$V$34,G53=$V$35),OR(F53=$U$33,F53=$U$34)),DATE(YEAR(D53)+$U$36,MONTH(D53),DAY(D53)),IF((YEAR(E53)-YEAR(D53))>$U$37,DATE(YEAR(TODAY())+$U$38,MONTH(TODAY()),DAY(TODAY())),DATE(YEAR(D53)+$U$39,MONTH(D53),DAY(D53)))) -> 56467 | K53: =MONTH(J53) -> 8 | L53: =IF(OR(TEXT(J53,"DDDD")=$U$42,TEXT(J53,"DDDD")=$U$43),$U$44,TEXT(J53,"DDDD")) -> יום חמישי | M53: =YEAR(TODAY())-YEAR(E53) -> 17 | N53: =I53-IF(OR(F53=$U$54,F53=$U$55),VLOOKUP(I53,$V$54:$W$59,2,TRUE),IF(F53=$U$61,VLOOKUP(I53,$V$61:$W$62,2,TRUE),$W$64))*I53 -> 6056.4 | O53: =IF(AND(G53=$U$67,H53<=$V$67),$W$67,IF(AND(G53=$U$67,H53>$V$67),$W$68,IF(AND(G53=$U$70,YEAR(E53)<=$V$70),$W$70,IF(AND(G53=$U$70,YEAR(E53)>$V$70,YEAR(E53)<=$V$72),$W$72,IF(AND(G53=$U$70,YEAR(E53)>$V$72),$W$73,$W$75))))) -> קורס תכנות
A54: 131 | B54: פדידה יהודית ואלי | C54: תל אביב-יפו | D54: 31933 | E54: 41183 | F54: בוגר | G54: פקיד | H54: 9795 | I54: =VLOOKUP(G54,'[1]נתונים נוספים'!$B$5:$C$9,2,FALSE)*$V$2+H54 -> 10595 | J54: =IF(AND(OR(G54=$V$33,G54=$V$34,G54=$V$35),OR(F54=$U$33,F54=$U$34)),DATE(YEAR(D54)+$U$36,MONTH(D54),DAY(D54)),IF((YEAR(E54)-YEAR(D54))>$U$37,DATE(YEAR(TODAY())+$U$38,MONTH(TODAY()),DAY(TODAY())),DATE(YEAR(D54)+$U$39,MONTH(D54),DAY(D54)))) -> 56405 | K54: =MONTH(J54) -> 6 | L54: =IF(OR(TEXT(J54,"DDDD")=$U$42,TEXT(J54,"DDDD")=$U$43),$U$44,TEXT(J54,"DDDD")) -> יום שישי | M54: =YEAR(TODAY())-YEAR(E54) -> 14 | N54: =I54-IF(OR(F54=$U$54,F54=$U$55),VLOOKUP(I54,$V$54:$W$59,2,TRUE),IF(F54=$U$61,VLOOKUP(I54,$V$61:$W$62,2,TRUE),$W$64))*I54 -> 7416.5 | O54: =IF(AND(G54=$U$67,H54<=$V$67),$W$67,IF(AND(G54=$U$67,H54>$V$67),$W$68,IF(AND(G54=$U$70,YEAR(E54)<=$V$70),$W$70,IF(AND(G54=$U$70,YEAR(E54)>$V$70,YEAR(E54)<=$V$72),$W$72,IF(AND(G54=$U$70,YEAR(E54)>$V$72),$W$73,$W$75))))) -> ניהול טכנולוגי | U54: מוסמך | V54: 0 | W54: 0
A55: 203 | B55: לוויטין בוריס | C55: ראשון לציון | D55: 31867 | E55: 41023 | F55: ד"ר | G55: מנהל מחלקה | H55: 6304 | I55: =VLOOKUP(G55,'[1]נתונים נוספים'!$B$5:$C$9,2,FALSE)*$V$2+H55 -> 7744 | J55: =IF(AND(OR(G55=$V$33,G55=$V$34,G55=$V$35),OR(F55=$U$33,F55=$U$34)),DATE(YEAR(D55)+$U$36,MONTH(D55),DAY(D55)),IF((YEAR(E55)-YEAR(D55))>$U$37,DATE(YEAR(TODAY())+$U$38,MONTH(TODAY()),DAY(TODAY())),DATE(YEAR(D55)+$U$39,MONTH(D55),DAY(D55)))) -> 57435 | K55: =MONTH(J55) -> 3 | L55: =IF(OR(TEXT(J55,"DDDD")=$U$42,TEXT(J55,"DDDD")=$U$43),$U$44,TEXT(J55,"DDDD")) -> יקבע מועד אחר | M55: =YEAR(TODAY())-YEAR(E55) -> 14 | N55: =I55-IF(OR(F55=$U$54,F55=$U$55),VLOOKUP(I55,$V$54:$W$59,2,TRUE),IF(F55=$U$61,VLOOKUP(I55,$V$61:$W$62,2,TRUE),$W$64))*I55 -> 6659.84 | O55: =IF(AND(G55=$U$67,H55<=$V$67),$W$67,IF(AND(G55=$U$67,H55>$V$67),$W$68,IF(AND(G55=$U$70,YEAR(E55)<=$V$70),$W$70,IF(AND(G55=$U$70,YEAR(E55)>$V$70,YEAR(E55)<=$V$72),$W$72,IF(AND(G55=$U$70,YEAR(E55)>$V$72),$W$73,$W$75))))) -> קורס קניינות ברשת | U55: ד"ר | V55: 6000 | W55: 0.1
A56: 25 | B56: דרזנר אריה | C56: נס ציונה | D56: 31848 | E56: 40637 | F56: בוגר | G56: פקיד | H56: 5743 | I56: =VLOOKUP(G56,'[1]נתונים נוספים'!$B$5:$C$9,2,FALSE)*$V$2+H56 -> 6543 | J56: =IF(AND(OR(G56=$V$33,G56=$V$34,G56=$V$35),OR(F56=$U$33,F56=$U$34)),DATE(YEAR(D56)+$U$36,MONTH(D56),DAY(D56)),IF((YEAR(E56)-YEAR(D56))>$U$37,DATE(YEAR(TODAY())+$U$38,MONTH(TODAY()),DAY(TODAY())),DATE(YEAR(D56)+$U$39,MONTH(D56),DAY(D56)))) -> 56320 | K56: =MONTH(J56) -> 3 | L56: =IF(OR(TEXT(J56,"DDDD")=$U$42,TEXT(J56,"DDDD")=$U$43),$U$44,TEXT(J56,"DDDD")) -> יום חמישי | M56: =YEAR(TODAY())-YEAR(E56) -> 15 | N56: =I56-IF(OR(F56=$U$54,F56=$U$55),VLOOKUP(I56,$V$54:$W$59,2,TRUE),IF(F56=$U$61,VLOOKUP(I56,$V$61:$W$62,2,TRUE),$W$64))*I56 -> 5234.4 | O56: =IF(AND(G56=$U$67,H56<=$V$67),$W$67,IF(AND(G56=$U$67,H56>$V$67),$W$68,IF(AND(G56=$U$70,YEAR(E56)<=$V$70),$W$70,IF(AND(G56=$U$70,YEAR(E56)>$V$70,YEAR(E56)<=$V$72),$W$72,IF(AND(G56=$U$70,YEAR(E56)>$V$72),$W$73,$W$75))))) -> קורס מחשבים כולל | V56: 7000 | W56: 0.14
A57: 171 | B57: אלפסי אליהו | C57: ירושלים | D57: 31825 | E57: 40902 | F57: בוגר | G57: ראש צוות | H57: 9539 | I57: =VLOOKUP(G57,'[1]נתונים נוספים'!$B$5:$C$9,2,FALSE)*$V$2+H57 -> 10739 | J57: =IF(AND(OR(G57=$V$33,G57=$V$34,G57=$V$35),OR(F57=$U$33,F57=$U$34)),DATE(YEAR(D57)+$U$36,MONTH(D57),DAY(D57)),IF((YEAR(E57)-YEAR(D57))>$U$37,DATE(YEAR(TODAY())+$U$38,MONTH(TODAY()),DAY(TODAY())),DATE(YEAR(D57)+$U$39,MONTH(D57),DAY(D57)))) -> 56297 | K57: =MONTH(J57) -> 2 | L57: =IF(OR(TEXT(J57,"DDDD")=$U$42,TEXT(J57,"DDDD")=$U$43),$U$44,TEXT(J57,"DDDD")) -> יום שלישי | M57: =YEAR(TODAY())-YEAR(E57) -> 15 | N57: =I57-IF(OR(F57=$U$54,F57=$U$55),VLOOKUP(I57,$V$54:$W$59,2,TRUE),IF(F57=$U$61,VLOOKUP(I57,$V$61:$W$62,2,TRUE),$W$64))*I57 -> 7517.3 | O57: =IF(AND(G57=$U$67,H57<=$V$67),$W$67,IF(AND(G57=$U$67,H57>$V$67),$W$68,IF(AND(G57=$U$70,YEAR(E57)<=$V$70),$W$70,IF(AND(G57=$U$70,YEAR(E57)>$V$70,YEAR(E57)<=$V$72),$W$72,IF(AND(G57=$U$70,YEAR(E57)>$V$72),$W$73,$W$75))))) -> קורס BI | V57: 8000 | W57: 0.2
A58: 29 | B58: ביטן גד | C58: תל אביב-יפו | D58: 31815 | E58: 41171 | F58: ד"ר | G58: מנהל תחום | H58: 7433 | I58: =VLOOKUP(G58,'[1]נתונים נוספים'!$B$5:$C$9,2,FALSE)*$V$2+H58 -> 8393 | J58: =IF(AND(OR(G58=$V$33,G58=$V$34,G58=$V$35),OR(F58=$U$33,F58=$U$34)),DATE(YEAR(D58)+$U$36,MONTH(D58),DAY(D58)),IF((YEAR(E58)-YEAR(D58))>$U$37,DATE(YEAR(TODAY())+$U$38,MONTH(TODAY()),DAY(TODAY())),DATE(YEAR(D58)+$U$39,MONTH(D58),DAY(D58)))) -> 56287 | K58: =MONTH(J58) -> 2 | L58: =IF(OR(TEXT(J58,"DDDD")=$U$42,TEXT(J58,"DDDD")=$U$43),$U$44,TEXT(J58,"DDDD")) -> יקבע מועד אחר | M58: =YEAR(TODAY())-YEAR(E58) -> 14 | N58: =I58-IF(OR(F58=$U$54,F58=$U$55),VLOOKUP(I58,$V$54:$W$59,2,TRUE),IF(F58=$U$61,VLOOKUP(I58,$V$61:$W$62,2,TRUE),$W$64))*I58 -> 6714.4 | O58: =IF(AND(G58=$U$67,H58<=$V$67),$W$67,IF(AND(G58=$U$67,H58>$V$67),$W$68,IF(AND(G58=$U$70,YEAR(E58)<=$V$70),$W$70,IF(AND(G58=$U$70,YEAR(E58)>$V$70,YEAR(E58)<=$V$72),$W$72,IF(AND(G58=$U$70,YEAR(E58)>$V$72),$W$73,$W$75))))) -> קורס קניינות ברשת | V58: 9000 | W58: 0.3
A59: 15 | B59: אלגלי אתי ויעקב | C59: שהם | D59: 31812 | E59: 40852 | F59: תיכונית | G59: פקיד | H59: 9248 | I59: =VLOOKUP(G59,'[1]נתונים נוספים'!$B$5:$C$9,2,FALSE)*$V$2+H59 -> 10048 | J59: =IF(AND(OR(G59=$V$33,G59=$V$34,G59=$V$35),OR(F59=$U$33,F59=$U$34)),DATE(YEAR(D59)+$U$36,MONTH(D59),DAY(D59)),IF((YEAR(E59)-YEAR(D59))>$U$37,DATE(YEAR(TODAY())+$U$38,MONTH(TODAY()),DAY(TODAY())),DATE(YEAR(D59)+$U$39,MONTH(D59),DAY(D59)))) -> 56284 | K59: =MONTH(J59) -> 2 | L59: =IF(OR(TEXT(J59,"DDDD")=$U$42,TEXT(J59,"DDDD")=$U$43),$U$44,TEXT(J59,"DDDD")) -> יום רביעי | M59: =YEAR(TODAY())-YEAR(E59) -> 15 | N59: =I59-IF(OR(F59=$U$54,F59=$U$55),VLOOKUP(I59,$V$54:$W$59,2,TRUE),IF(F59=$U$61,VLOOKUP(I59,$V$61:$W$62,2,TRUE),$W$64))*I59 -> 7536 | O59: =IF(AND(G59=$U$67,H59<=$V$67),$W$67,IF(AND(G59=$U$67,H59>$V$67),$W$68,IF(AND(G59=$U$70,YEAR(E59)<=$V$70),$W$70,IF(AND(G59=$U$70,YEAR(E59)>$V$70,YEAR(E59)<=$V$72),$W$72,IF(AND(G59=$U$70,YEAR(E59)>$V$72),$W$73,$W$75))))) -> קורס מחשבים כולל | V59: 10000 | W59: 0.4
A60: 278 | B60: גרין ענבר ועידן | C60: תל אביב-יפו | D60: 31810 | E60: 40888 | F60: ד"ר | G60: מנהל מחלקה | H60: 9589 | I60: =VLOOKUP(G60,'[1]נתונים נוספים'!$B$5:$C$9,2,FALSE)*$V$2+H60 -> 11029 | J60: =IF(AND(OR(G60=$V$33,G60=$V$34,G60=$V$35),OR(F60=$U$33,F60=$U$34)),DATE(YEAR(D60)+$U$36,MONTH(D60),DAY(D60)),IF((YEAR(E60)-YEAR(D60))>$U$37,DATE(YEAR(TODAY())+$U$38,MONTH(TODAY()),DAY(TODAY())),DATE(YEAR(D60)+$U$39,MONTH(D60),DAY(D60)))) -> 57378 | K60: =MONTH(J60) -> 2 | L60: =IF(OR(TEXT(J60,"DDDD")=$U$42,TEXT(J60,"DDDD")=$U$43),$U$44,TEXT(J60,"DDDD")) -> יום שישי | M60: =YEAR(TODAY())-YEAR(E60) -> 15 | N60: =I60-IF(OR(F60=$U$54,F60=$U$55),VLOOKUP(I60,$V$54:$W$59,2,TRUE),IF(F60=$U$61,VLOOKUP(I60,$V$61:$W$62,2,TRUE),$W$64))*I60 -> 6617.4 | O60: =IF(AND(G60=$U$67,H60<=$V$67),$W$67,IF(AND(G60=$U$67,H60>$V$67),$W$68,IF(AND(G60=$U$70,YEAR(E60)<=$V$70),$W$70,IF(AND(G60=$U$70,YEAR(E60)>$V$70,YEAR(E60)<=$V$72),$W$72,IF(AND(G60=$U$70,YEAR(E60)>$V$72),$W$73,$W$75))))) -> קורס קניינות ברשת
U61: בוגר | V61: 0 | W61: 0.2
V62: 10000 | W62: 0.3
W64: 0.25
U67: ראש צוות | V67: 5000 | W67: קורס AI
W68: קורס BI
U70: פקיד | V70: 2010 | W70: קורס תכנות
V72: 2011 | W72: קורס מחשבים כולל
W73: ניהול טכנולוגי
W75: קורס קניינות ברשת

Sheet CountIf
A1: מספר משקיע | B1: מתנה למשקיע
A2: 1855 | B2: תווי קניה
A3: 1856 | B3: חופשה בפריז
A4: 1857 | B4: תווי קניה
A5: 1858 | B5: סט סירים
A6: 1859 | B6: תווי קניה
A7: 1860 | B7: חופשה בפריז
A8: 1861 | B8: חופשה בפריז
A9: 1862 | B9: חופשה בפריז
A10: 1863 | B10: חופשה בפריז
A11: 1864 | B11: ללא מתנה
A12: 1865 | B12: תווי קניה
A13: 1866 | B13: כרטיס להופעה
... A26: 1879 | B26: ללא מתנה

Sheet הקפאה+IF
A1: שם משפחה | B1: שם פרטי | C1: שכר בדולר | D1: שכר בש"ח | E1: מס הכנסה בש"ח | F1: שכר חודשי נטו | N1: ממועד ב 2025:
A2: רונן | B2: עדי | C2: 2042.7957 | D2: =C2*$H$23 -> 7251.9247 | E2: 966.53333 | F2: =(D2-E2)+IF(C2>$C$24,$B$24,$B$25) -> 7172.8914
A3: דובר | B3: רונן | C3: 2814.4086 | D3: =C3*$H$23 -> 9991.1505 | E3: 1444.9333 | F3: =(D3-E3)+IF(C3>$C$24,$B$24,$B$25) -> 9433.7172
A4: דוד | B4: יוסי | C4: 1865.1613 | D4: =C4*$H$23 -> 6621.3226 | E4: 856.4 | F4: =(D4-E4)+IF(C4>$C$24,$B$24,$B$25) -> 6208.6726
A5: אלפסי | B5: מנחם | C5: 1691.3978 | D5: =C5*$H$23 -> 6004.4624 | E5: 748.66667 | F5: =(D5-E5)+IF(C5>$C$24,$B$24,$B$25) -> 5699.5457
A6: ארנס | B6: לימור | C6: 1775.8065 | D6: =C6*$H$23 -> 6304.1129 | E6: 801 | F6: =(D6-E6)+IF(C6>$C$24,$B$24,$B$25) -> 5946.8629
A7: ברוס | B7: פלג | C7: 2446.6667 | D7: =C7*$H$23 -> 8685.6667 | E7: 1216.9333 | F7: =(D7-E7)+IF(C7>$C$24,$B$24,$B$25) -> 8356.2333
A8: כהן | B8: דקלה | C8: 2484.086 | D8: =C8*$H$23 -> 8818.5054 | E8: 1240.1333 | F8: =(D8-E8)+IF(C8>$C$24,$B$24,$B$25) -> 8465.872
A9: לוי | B9: נגה | C9: 2827.957 | D9: =C9*$H$23 -> 10039.247 | E9: 1453.3333 | F9: =(D9-E9)+IF(C9>$C$24,$B$24,$B$25) -> 9473.414
A10: כהן | B10: חוה | C10: 3101.0753 | D10: =C10*$H$23 -> 11008.817 | E10: 1622.6667 | F10: =(D10-E10)+IF(C10>$C$24,$B$24,$B$25) -> 10273.651
A11: חנקין | B11: ענבר | C11: 3302.3656 | D11: =C11*$H$23 -> 11723.398 | E11: 1747.4667 | F11: =(D11-E11)+IF(C11>$C$24,$B$24,$B$25) -> 10863.431
A12: מזרחי | B12: אתי | C12: 3366.6667 | D12: =C12*$H$23 -> 11951.667 | E12: 1787.3333 | F12: =(D12-E12)+IF(C12>$C$24,$B$24,$B$25) -> 11051.833
A13: רגב | B13: ורד | C13: 2582.1505 | D13: =C13*$H$23 -> 9166.6344 | E13: 1300.9333 | F13: =(D13-E13)+IF(C13>$C$24,$B$24,$B$25) -> 8753.2011
... A21: לוי | B21: מיה | C21: 1270.7527 | D21: =C21*$H$23 -> 4511.172 | E21: 540.9 | F21: =(D21-E21)+IF(C21>$C$24,$B$24,$B$25) -> 4414.022
A23: מענק בדולר | B23: מענק בשח | F23: נתון: | G23: שער הדולר | H23: 3.55
A24: 250 | B24: =$A$24*$H$23 -> 887.5 | C24: 2000 | H24: מענק בדולרים | N24: 2000
A25: 125 | B25: =$A$25*$H$23 -> 443.75 | H25: 250
H26: 125
G28: תא עזר לתנאי | H28: 2000

Sheet frequency
A1: מספר משקיע | B1: שם המשקיע | C1: מעמד משקיע | D1: תחילת ההשקעה | E1: סכום השקעה | F1: קרן השקעה | G1: דמי ניהול מחושב | H1: ערך השקעה נכון להיום | I1: גידול השקעה בשקלים | J1: שווי מס מכירה בשקלים | K1: שם חודש תחילת השקעה במלל | L1: תאריך ביקורת דוחות | M1: מתנה למשקיע | N1: שם המשקיע
A2: 1855 | B2: NI | C2: שכיר | D2: 43723 | E2: 2500 | F2: 10 | G2: 0.009 | H2: 16761.878 | I2: =(H2-E2)*$B$28*(1-G2) -> 43813.915 | J2: =VLOOKUP(F2,'[2]נתונים נוספים'!$A$4:$D$9,VLOOKUP([3]FREQUENCY!C2,'[2]נתונים נוספים'!$F$4:$G$6,2,0),0)*[3]FREQUENCY!$B$28*H2 -> 7794.2732 | K2: =TEXT(D2,"mmmm") -> ספטמבר | L2: =IF(AND(C2=$L$32,E2<$L$33),DATE(YEAR(D2)+$L$34,MONTH(D2),$L$35),IF(OR(F2=$L$40,F2=$L$41),DATE($L$36,$L$37,DAY(D2)),DATE(YEAR(D2),MONTH(D2)+$L$38,DAY(D2)+$L$39))) -> 44440 | M2: =IF(C2=$M$33,IF(E2<=$M$34,$M$35,$M$36),IF(C2=$M$32,IF(YEAR(D2)<=$M$37,$M$39,IF(YEAR(D2)<=$M$38,$M$40,$M$41)),$M$42)) -> תווי קניה | N2: =B2 -> NI
A3: 1856 | B3: KF | C3: עצמאי | D3: 42075 | E3: 146726 | F3: 13 | G3: 0.0029 | H3: 214094.11 | I3: =(H3-E3)*$B$28*(1-G3) -> 208235.51 | J3: =VLOOKUP(F3,'[2]נתונים נוספים'!$A$4:$D$9,VLOOKUP([3]FREQUENCY!C3,'[2]נתונים נוספים'!$F$4:$G$6,2,0),0)*[3]FREQUENCY!$B$28*H3 -> 142693.73 | K3: =TEXT(D3,"mmmm") -> מרץ | L3: =IF(AND(C3=$L$32,E3<$L$33),DATE(YEAR(D3)+$L$34,MONTH(D3),$L$35),IF(OR(F3=$L$40,F3=$L$41),DATE($L$36,$L$37,DAY(D3)),DATE(YEAR(D3),MONTH(D3)+$L$38,DAY(D3)+$L$39))) -> 42332 | M3: =IF(C3=$M$33,IF(E3<=$M$34,$M$35,$M$36),IF(C3=$M$32,IF(YEAR(D3)<=$M$37,$M$39,IF(YEAR(D3)<=$M$38,$M$40,$M$41)),$M$42)) -> חופשה בפריז | N3: =B3 -> KF
A4: 1857 | B4: CC | C4: שכיר | D4: 43007 | E4: 253094 | F4: 10 | G4: 0.006 | H4: 307637.34 | I4: =(H4-E4)*$B$28*(1-G4) -> 168069.84 | J4: =VLOOKUP(F4,'[2]נתונים נוספים'!$A$4:$D$9,VLOOKUP([3]FREQUENCY!C4,'[2]נתונים נוספים'!$F$4:$G$6,2,0),0)*[3]FREQUENCY!$B$28*H4 -> 143051.36 | K4: =TEXT(D4,"mmmm") -> ספטמבר | L4: =IF(AND(C4=$L$32,E4<$L$33),DATE(YEAR(D4)+$L$34,MONTH(D4),$L$35),IF(OR(F4=$L$40,F4=$L$41),DATE($L$36,$L$37,DAY(D4)),DATE(YEAR(D4),MONTH(D4)+$L$38,DAY(D4)+$L$39))) -> 43261 | M4: =IF(C4=$M$33,IF(E4<=$M$34,$M$35,$M$36),IF(C4=$M$32,IF(YEAR(D4)<=$M$37,$M$39,IF(YEAR(D4)<=$M$38,$M$40,$M$41)),$M$42)) -> תווי קניה | N4: =B4 -> CC
A5: 1858 | B5: BJ | C5: שכיר | D5: 42367 | E5: 70131 | F5: 14 | G5: 0.001 | H5: 332458.1 | I5: =(H5-E5)*$B$28*(1-G5) -> 812400.8 | J5: =VLOOKUP(F5,'[2]נתונים נוספים'!$A$4:$D$9,VLOOKUP([3]FREQUENCY!C5,'[2]נתונים נוספים'!$F$4:$G$6,2,0),0)*[3]FREQUENCY!$B$28*H5 -> 164899.22 | K5: =TEXT(D5,"mmmm") -> דצמבר | L5: =IF(AND(C5=$L$32,E5<$L$33),DATE(YEAR(D5)+$L$34,MONTH(D5),$L$35),IF(OR(F5=$L$40,F5=$L$41),DATE($L$36,$L$37,DAY(D5)),DATE(YEAR(D5),MONTH(D5)+$L$38,DAY(D5)+$L$39))) -> 44649 | M5: =IF(C5=$M$33,IF(E5<=$M$34,$M$35,$M$36),IF(C5=$M$32,IF(YEAR(D5)<=$M$37,$M$39,IF(YEAR(D5)<=$M$38,$M$40,$M$41)),$M$42)) -> סט סירים | N5: =B5 -> BJ
A6: 1859 | B6: DE | C6: שכיר | D6: 43866 | E6: 63372 | F6: 15 | G6: 0.001 | H6: 1229262 | I6: =(H6-E6)*$B$28*(1-G6) -> 3610644.7 | J6: =VLOOKUP(F6,'[2]נתונים נוספים'!$A$4:$D$9,VLOOKUP([3]FREQUENCY!C6,'[2]נתונים נוספים'!$F$4:$G$6,2,0),0)*[3]FREQUENCY!$B$28*H6 -> 819303.11 | K6: =TEXT(D6,"mmmm") -> פברואר | L6: =IF(AND(C6=$L$32,E6<$L$33),DATE(YEAR(D6)+$L$34,MONTH(D6),$L$35),IF(OR(F6=$L$40,F6=$L$41),DATE($L$36,$L$37,DAY(D6)),DATE(YEAR(D6),MONTH(D6)+$L$38,DAY(D6)+$L$39))) -> 44625 | M6: =IF(C6=$M$33,IF(E6<=$M$34,$M$35,$M$36),IF(C6=$M$32,IF(YEAR(D6)<=$M$37,$M$39,IF(YEAR(D6)<=$M$38,$M$40,$M$41)),$M$42)) -> תווי קניה | N6: =B6 -> DE
A7: 1860 | B7: BJ | C7: עצמאי | D7: 43604 | E7: 72483 | F7: 15 | G7: 0.001 | H7: 1877660.4 | I7: =(H7-E7)*$B$28*(1-G7) -> 5590453.9 | J7: =VLOOKUP(F7,'[2]נתונים נוספים'!$A$4:$D$9,VLOOKUP([3]FREQUENCY!C7,'[2]נתונים נוספים'!$F$4:$G$6,2,0),0)*[3]FREQUENCY!$B$28*H7 -> 582074.73 | K7: =TEXT(D7,"mmmm") -> מאי | L7: =IF(AND(C7=$L$32,E7<$L$33),DATE(YEAR(D7)+$L$34,MONTH(D7),$L$35),IF(OR(F7=$L$40,F7=$L$41),DATE($L$36,$L$37,DAY(D7)),DATE(YEAR(D7),MONTH(D7)+$L$38,DAY(D7)+$L$39))) -> 44639 | M7: =IF(C7=$M$33,IF(E7<=$M$34,$M$35,$M$36),IF(C7=$M$32,IF(YEAR(D7)<=$M$37,$M$39,IF(YEAR(D7)<=$M$38,$M$40,$M$41)),$M$42)) -> חופשה בפריז | N7: =B7 -> BJ
A8: 1861 | B8: CK | C8: עצמאי | D8: 42562 | E8: 108877 | F8: 13 | G8: 0.0029 | H8: 986671.12 | I8: =(H8-E8)*$B$28*(1-G8) -> 2713270.4 | J8: =VLOOKUP(F8,'[2]נתונים נוספים'!$A$4:$D$9,VLOOKUP([3]FREQUENCY!C8,'[2]נתונים נוספים'!$F$4:$G$6,2,0),0)*[3]FREQUENCY!$B$28*H8 -> 657616.3 | K8: =TEXT(D8,"mmmm") -> יולי | L8: =IF(AND(C8=$L$32,E8<$L$33),DATE(YEAR(D8)+$L$34,MONTH(D8),$L$35),IF(OR(F8=$L$40,F8=$L$41),DATE($L$36,$L$37,DAY(D8)),DATE(YEAR(D8),MONTH(D8)+$L$38,DAY(D8)+$L$39))) -> 42817 | M8: =IF(C8=$M$33,IF(E8<=$M$34,$M$35,$M$36),IF(C8=$M$32,IF(YEAR(D8)<=$M$37,$M$39,IF(YEAR(D8)<=$M$38,$M$40,$M$41)),$M$42)) -> חופשה בפריז | N8: =B8 -> CK
A9: 1862 | B9: JK | C9: עצמאי | D9: 44321 | E9: 96681 | F9: 10 | G9: 0.007 | H9: 191421.77 | I9: =(H9-E9)*$B$28*(1-G9) -> 291640.5 | J9: =VLOOKUP(F9,'[2]נתונים נוספים'!$A$4:$D$9,VLOOKUP([3]FREQUENCY!C9,'[2]נתונים נוספים'!$F$4:$G$6,2,0),0)*[3]FREQUENCY!$B$28*H9 -> 89011.122 | K9: =TEXT(D9,"mmmm") -> מאי | L9: =IF(AND(C9=$L$32,E9<$L$33),DATE(YEAR(D9)+$L$34,MONTH(D9),$L$35),IF(OR(F9=$L$40,F9=$L$41),DATE($L$36,$L$37,DAY(D9)),DATE(YEAR(D9),MONTH(D9)+$L$38,DAY(D9)+$L$39))) -> 44578 | M9: =IF(C9=$M$33,IF(E9<=$M$34,$M$35,$M$36),IF(C9=$M$32,IF(YEAR(D9)<=$M$37,$M$39,IF(YEAR(D9)<=$M$38,$M$40,$M$41)),$M$42)) -> חופשה בפריז | N9: =B9 -> JK
A10: 1863 | B10: DJ | C10: עצמאי | D10: 43400 | E10: 66590 | F10: 15 | G10: 0.001 | H10: 377756.68 | I10: =(H10-E10)*$B$28*(1-G10) -> 963652.1 | J10: =VLOOKUP(F10,'[2]נתונים נוספים'!$A$4:$D$9,VLOOKUP([3]FREQUENCY!C10,'[2]נתונים נוספים'!$F$4:$G$6,2,0),0)*[3]FREQUENCY!$B$28*H10 -> 117104.57 | K10: =TEXT(D10,"mmmm") -> אוקטובר | L10: =IF(AND(C10=$L$32,E10<$L$33),DATE(YEAR(D10)+$L$34,MONTH(D10),$L$35),IF(OR(F10=$L$40,F10=$L$41),DATE($L$36,$L$37,DAY(D10)),DATE(YEAR(D10),MONTH(D10)+$L$38,DAY(D10)+$L$39))) -> 44647 | M10: =IF(C10=$M$33,IF(E10<=$M$34,$M$35,$M$36),IF(C10=$M$32,IF(YEAR(D10)<=$M$37,$M$39,IF(YEAR(D10)<=$M$38,$M$40,$M$41)),$M$42)) -> חופשה בפריז | N10: =B10 -> DJ
A11: 1864 | B11: LB | C11: בעל שליטה | D11: 43977 | E11: 224708 | F11: 10 | G11: 0.006 | H11: 3453180.5 | I11: =(H11-E11)*$B$28*(1-G11) -> 9948215.2 | J11: =VLOOKUP(F11,'[2]נתונים נוספים'!$A$4:$D$9,VLOOKUP([3]FREQUENCY!C11,'[2]נתונים נוספים'!$F$4:$G$6,2,0),0)*[3]FREQUENCY!$B$28*H11 -> 1070486 | K11: =TEXT(D11,"mmmm") -> מאי | L11: =IF(AND(C11=$L$32,E11<$L$33),DATE(YEAR(D11)+$L$34,MONTH(D11),$L$35),IF(OR(F11=$L$40,F11=$L$41),DATE($L$36,$L$37,DAY(D11)),DATE(YEAR(D11),MONTH(D11)+$L$38,DAY(D11)+$L$39))) -> 44234 | M11: =IF(C11=$M$33,IF(E11<=$M$34,$M$35,$M$36),IF(C11=$M$32,IF(YEAR(D11)<=$M$37,$M$39,IF(YEAR(D11)<=$M$38,$M$40,$M$41)),$M$42)) -> ללא מתנה | N11: =B11 -> LB
A12: 1865 | B12: LM | C12: שכיר | D12: 44029 | E12: 49492 | F12: 14 | G12: 0.0011 | H12: 2044762.1 | I12: =(H12-E12)*$B$28*(1-G12) -> 6178533.3 | J12: =VLOOKUP(F12,'[2]נתונים נוספים'!$A$4:$D$9,VLOOKUP([3]FREQUENCY!C12,'[2]נתונים נוספים'!$F$4:$G$6,2,0),0)*[3]FREQUENCY!$B$28*H12 -> 1014202 | K12: =TEXT(D12,"mmmm") -> יולי | L12: =IF(AND(C12=$L$32,E12<$L$33),DATE(YEAR(D12)+$L$34,MONTH(D12),$L$35),IF(OR(F12=$L$40,F12=$L$41),DATE($L$36,$L$37,DAY(D12)),DATE(YEAR(D12),MONTH(D12)+$L$38,DAY(D12)+$L$39))) -> 44743 | M12: =IF(C12=$M$33,IF(E12<=$M$34,$M$35,$M$36),IF(C12=$M$32,IF(YEAR(D12)<=$M$37,$M$39,IF(YEAR(D12)<=$M$38,$M$40,$M$41)),$M$42)) -> תווי קניה | N12: =B12 -> LM
A13: 1866 | B13: BK | C13: שכיר | D13: 40661 | E13: 76982 | F13: 13 | G13: 0.0039 | H13: 2617985.4 | I13: =(H13-E13)*$B$28*(1-G13) -> 7846389.9 | J13: =VLOOKUP(F13,'[2]נתונים נוספים'!$A$4:$D$9,VLOOKUP([3]FREQUENCY!C13,'[2]נתונים נוספים'!$F$4:$G$6,2,0),0)*[3]FREQUENCY!$B$28*H13 -> 1866623.6 | K13: =TEXT(D13,"mmmm") -> אפריל | L13: =IF(AND(C13=$L$32,E13<$L$33),DATE(YEAR(D13)+$L$34,MONTH(D13),$L$35),IF(OR(F13=$L$40,F13=$L$41),DATE($L$36,$L$37,DAY(D13)),DATE(YEAR(D13),MONTH(D13)+$L$38,DAY(D13)+$L$39))) -> 40917 | M13: =IF(C13=$M$33,IF(E13<=$M$34,$M$35,$M$36),IF(C13=$M$32,IF(YEAR(D13)<=$M$37,$M$39,IF(YEAR(D13)<=$M$38,$M$40,$M$41)),$M$42)) -> כרטיס להופעה | N13: =B13 -> BK
... A26: 1879 | B26: GI | C26: בעל שליטה | D26: 40875 | E26: 131191 | F26: 10 | G26: 0.006 | H26: 203520.3 | I26: =(H26-E26)*$B$28*(1-G26) -> 222875.5 | J26: =VLOOKUP(F26,'[2]נתונים נוספים'!$A$4:$D$9,VLOOKUP([3]FREQUENCY!C26,'[2]נתונים נוספים'!$F$4:$G$6,2,0),0)*[3]FREQUENCY!$B$28*H26 -> 63091.293 | K26: =TEXT(D26,"mmmm") -> נובמבר | L26: =IF(AND(C26=$L$32,E26<$L$33),DATE(YEAR(D26)+$L$34,MONTH(D26),$L$35),IF(OR(F26=$L$40,F26=$L$41),DATE($L$36,$L$37,DAY(D26)),DATE(YEAR(D26),MONTH(D26)+$L$38,DAY(D26)+$L$39))) -> 41130 | M26: =IF(C26=$M$33,IF(E26<=$M$34,$M$35,$M$36),IF(C26=$M$32,IF(YEAR(D26)<=$M$37,$M$39,IF(YEAR(D26)<=$M$38,$M$40,$M$41)),$M$42)) -> ללא מתנה | N26: =B26 -> GI
A28: שער הדולר | B28: 3.1 | T28: דוגמה נוספת
L31: =MIN(L2:L26) -> 40688
L32: שכיר | M32: שכיר
L33: 55000 | M33: עצמאי
L34: 2 | M34: 65000
L35: 1 | M35: חופשה באילת
L36: 2022 | M36: חופשה בפריז
L37: 3 | M37: 2012
L38: 8 | M38: 2016
L39: 12 | M39: כרטיס להופעה
L40: 14 | M40: סט סירים
L41: 15 | M41: תווי קניה
M42: ללא מתנה
M44: סט סירים
M46: =COUNTIF(M2:M26,M44) -> 4

Sheet עיצוב מותנה
A1: קוד לקוח | B1: שם פרטי לקוח | C1: שם משפחה לקוח | D1: עיר מגורים לקוח | E1: תאריך התקשרות | F1: הכנסות מצטברות | G1: סיבת התקשרות | H1: הכנסה מצטברת נטו | I1: סיום התקשרות | J1: יום סיום התקשרות | K1: סה"כ הכנסה נטו מצטברת ב-$
A2: 7425 | B2: לירוי | C2: לוי | D2: מירון | E2: 45406 | F2: 92634 | G2: הגשת דוחות | H2: =F2-(VLOOKUP(F2,$O$4:$Q$11,3,TRUE)+(F2-VLOOKUP(F2,$O$4:$Q$11,1,TRUE))*VLOOKUP(F2,$O$4:$Q$11,2,TRUE)) -> 64830.4 | I2: =EOMONTH(E2,18) -> 45961 | J2: =IF(I2<=TODAY(), $Q$16,IF(OR(TEXT(I2,"DDDD")=$P$13,TEXT(I2,"DDDD")=$P$14),$Q$13,TEXT(I2,"DDDD"))) -> אנא פנה בדחיפות לחברה | K2: =H2/'עיצוב מותנה'!$F$53 -> 18522.971
A3: 8279 | B3: זינה | C3: כהן | D3: ברקת | E3: 44816 | F3: 56995 | G3: הגשת דוחות | H3: =F3-(VLOOKUP(F3,$O$4:$Q$11,3,TRUE)+(F3-VLOOKUP(F3,$O$4:$Q$11,1,TRUE))*VLOOKUP(F3,$O$4:$Q$11,2,TRUE)) -> 43447 | I3: =EOMONTH(E3,18) -> 45382 | J3: =IF(I3<=TODAY(), $Q$16,IF(OR(TEXT(I3,"DDDD")=$P$13,TEXT(I3,"DDDD")=$P$14),$Q$13,TEXT(I3,"DDDD"))) -> אנא פנה בדחיפות לחברה | K3: =H3/'עיצוב מותנה'!$F$53 -> 12413.429 | O3: מדרגה | P3: מס | Q3: מצטבר
A4: 8652 | B4: אביתר | C4: עמאש | D4: פקיעין חדשה | E4: 44340 | F4: 46998 | G4: ביקורת שנתית | H4: =F4-(VLOOKUP(F4,$O$4:$Q$11,3,TRUE)+(F4-VLOOKUP(F4,$O$4:$Q$11,1,TRUE))*VLOOKUP(F4,$O$4:$Q$11,2,TRUE)) -> 37448.8 | I4: =EOMONTH(E4,18) -> 44895 | J4: =IF(I4<=TODAY(), $Q$16,IF(OR(TEXT(I4,"DDDD")=$P$13,TEXT(I4,"DDDD")=$P$14),$Q$13,TEXT(I4,"DDDD"))) -> אנא פנה בדחיפות לחברה | K4: =H4/'עיצוב מותנה'!$F$53 -> 10699.657 | O4: 0 | P4: 0 | Q4: =P4*O4 -> 0
A5: 4599 | B5: שמעון | C5: חלפון | D5: העוגן | E5: 44212 | F5: 36490 | G5: ייעוץ פיננסי | H5: =F5-(VLOOKUP(F5,$O$4:$Q$11,3,TRUE)+(F5-VLOOKUP(F5,$O$4:$Q$11,1,TRUE))*VLOOKUP(F5,$O$4:$Q$11,2,TRUE)) -> 30968.5 | I5: =EOMONTH(E5,18) -> 44773 | J5: =IF(I5<=TODAY(), $Q$16,IF(OR(TEXT(I5,"DDDD")=$P$13,TEXT(I5,"DDDD")=$P$14),$Q$13,TEXT(I5,"DDDD"))) -> אנא פנה בדחיפות לחברה | K5: =H5/'עיצוב מותנה'!$F$53 -> 8848.1429 | O5: 10000 | P5: 0.1 | Q5: =(O5-O4)*P4+Q4 -> 0
A6: 3185 | B6: אדל | C6: חסן | D6: ורד יריחו | E6: 44235 | F6: 69142 | G6: ביקורת שנתית | H6: =F6-(VLOOKUP(F6,$O$4:$Q$11,3,TRUE)+(F6-VLOOKUP(F6,$O$4:$Q$11,1,TRUE))*VLOOKUP(F6,$O$4:$Q$11,2,TRUE)) -> 50735.2 | I6: =EOMONTH(E6,18) -> 44804 | J6: =IF(I6<=TODAY(), $Q$16,IF(OR(TEXT(I6,"DDDD")=$P$13,TEXT(I6,"DDDD")=$P$14),$Q$13,TEXT(I6,"DDDD"))) -> אנא פנה בדחיפות לחברה | K6: =H6/'עיצוב מותנה'!$F$53 -> 14495.771 | O6: 15000 | P6: 0.15 | Q6: =(O6-O5)*P5+Q5 -> 500
A7: 1455 | B7: נעמה | C7: אברמוב | D7: הסוללים | E7: 45462 | F7: 18144 | G7: הכנת משכורות | H7: =F7-(VLOOKUP(F7,$O$4:$Q$11,3,TRUE)+(F7-VLOOKUP(F7,$O$4:$Q$11,1,TRUE))*VLOOKUP(F7,$O$4:$Q$11,2,TRUE)) -> 17172.4 | I7: =EOMONTH(E7,18) -> 46022 | J7: =IF(I7<=TODAY(), $Q$16,IF(OR(TEXT(I7,"DDDD")=$P$13,TEXT(I7,"DDDD")=$P$14),$Q$13,TEXT(I7,"DDDD"))) -> אנא פנה בדחיפות לחברה | K7: =H7/'עיצוב מותנה'!$F$53 -> 4906.4 | O7: 20000 | P7: 0.2 | Q7: =(O7-O6)*P6+Q6 -> 1250
A8: 9895 | B8: נויה | C8: חסן | D8: שומרה | E8: 45389 | F8: 68691 | G8: ביקורת שנתית | H8: =F8-(VLOOKUP(F8,$O$4:$Q$11,3,TRUE)+(F8-VLOOKUP(F8,$O$4:$Q$11,1,TRUE))*VLOOKUP(F8,$O$4:$Q$11,2,TRUE)) -> 50464.6 | I8: =EOMONTH(E8,18) -> 45961 | J8: =IF(I8<=TODAY(), $Q$16,IF(OR(TEXT(I8,"DDDD")=$P$13,TEXT(I8,"DDDD")=$P$14),$Q$13,TEXT(I8,"DDDD"))) -> אנא פנה בדחיפות לחברה | K8: =H8/'עיצוב מותנה'!$F$53 -> 14418.457 | O8: 25000 | P8: 0.25 | Q8: =(O8-O7)*P7+Q7 -> 2250
A9: 3838 | B9: עילאי | C9: מור | D9: סגולה | E9: 44043 | F9: 18465 | G9: ייעוץ פיננסי | H9: =F9-(VLOOKUP(F9,$O$4:$Q$11,3,TRUE)+(F9-VLOOKUP(F9,$O$4:$Q$11,1,TRUE))*VLOOKUP(F9,$O$4:$Q$11,2,TRUE)) -> 17445.25 | I9: =EOMONTH(E9,18) -> 44592 | J9: =IF(I9<=TODAY(), $Q$16,IF(OR(TEXT(I9,"DDDD")=$P$13,TEXT(I9,"DDDD")=$P$14),$Q$13,TEXT(I9,"DDDD"))) -> אנא פנה בדחיפות לחברה | K9: =H9/'עיצוב מותנה'!$F$53 -> 4984.3571 | O9: 30000 | P9: 0.3 | Q9: =(O9-O8)*P8+Q8 -> 3500
A10: 3146 | B10: אדל | C10: שחר | D10: צורית | E10: 44927 | F10: 60040 | G10: הכנת משכורות | H10: =F10-(VLOOKUP(F10,$O$4:$Q$11,3,TRUE)+(F10-VLOOKUP(F10,$O$4:$Q$11,1,TRUE))*VLOOKUP(F10,$O$4:$Q$11,2,TRUE)) -> 45274 | I10: =EOMONTH(E10,18) -> 45504 | J10: =IF(I10<=TODAY(), $Q$16,IF(OR(TEXT(I10,"DDDD")=$P$13,TEXT(I10,"DDDD")=$P$14),$Q$13,TEXT(I10,"DDDD"))) -> אנא פנה בדחיפות לחברה | K10: =H10/'עיצוב מותנה'!$F$53 -> 12935.429 | O10: 35000 | P10: 0.35 | Q10: =(O10-O9)*P9+Q9 -> 5000
A11: 8697 | B11: גור | C11: רחמים | D11: אודם | E11: 44751 | F11: 99630 | G11: הגשת דוחות | H11: =F11-(VLOOKUP(F11,$O$4:$Q$11,3,TRUE)+(F11-VLOOKUP(F11,$O$4:$Q$11,1,TRUE))*VLOOKUP(F11,$O$4:$Q$11,2,TRUE)) -> 69028 | I11: =EOMONTH(E11,18) -> 45322 | J11: =IF(I11<=TODAY(), $Q$16,IF(OR(TEXT(I11,"DDDD")=$P$13,TEXT(I11,"DDDD")=$P$14),$Q$13,TEXT(I11,"DDDD"))) -> אנא פנה בדחיפות לחברה | K11: =H11/'עיצוב מותנה'!$F$53 -> 19722.286 | O11: 40000 | P11: 0.4 | Q11: =(O11-O10)*P10+Q10 -> 6750
A12: 7126 | B12: יותם | C12: איסקוב | D12: אל סייד | E12: 44447 | F12: 80327 | G12: הגשת דוחות | H12: =F12-(VLOOKUP(F12,$O$4:$Q$11,3,TRUE)+(F12-VLOOKUP(F12,$O$4:$Q$11,1,TRUE))*VLOOKUP(F12,$O$4:$Q$11,2,TRUE)) -> 57446.2 | I12: =EOMONTH(E12,18) -> 45016 | J12: =IF(I12<=TODAY(), $Q$16,IF(OR(TEXT(I12,"DDDD")=$P$13,TEXT(I12,"DDDD")=$P$14),$Q$13,TEXT(I12,"DDDD"))) -> אנא פנה בדחיפות לחברה | K12: =H12/'עיצוב מותנה'!$F$53 -> 16413.2
A13: 1668 | B13: רות | C13: פלדמן | D13: בית חנניה | E13: 44246 | F13: 45453 | G13: ביקורת שנתית | H13: =F13-(VLOOKUP(F13,$O$4:$Q$11,3,TRUE)+(F13-VLOOKUP(F13,$O$4:$Q$11,1,TRUE))*VLOOKUP(F13,$O$4:$Q$11,2,TRUE)) -> 36521.8 | I13: =EOMONTH(E13,18) -> 44804 | J13: =IF(I13<=TODAY(), $Q$16,IF(OR(TEXT(I13,"DDDD")=$P$13,TEXT(I13,"DDDD")=$P$14),$Q$13,TEXT(I13,"DDDD"))) -> אנא פנה בדחיפות לחברה | K13: =H13/'עיצוב מותנה'!$F$53 -> 10434.8 | P13: Friday | Q13: מועד ההתקשרות יחל בתחילת השבוע
A14: 6820 | B14: אמיר | C14: הראל | D14: זוהר | E14: 45125 | F14: 39845 | G14: ייעוץ פיננסי | H14: =F14-(VLOOKUP(F14,$O$4:$Q$11,3,TRUE)+(F14-VLOOKUP(F14,$O$4:$Q$11,1,TRUE))*VLOOKUP(F14,$O$4:$Q$11,2,TRUE)) -> 33149.25 | I14: =EOMONTH(E14,18) -> 45688 | J14: =IF(I14<=TODAY(), $Q$16,IF(OR(TEXT(I14,"DDDD")=$P$13,TEXT(I14,"DDDD")=$P$14),$Q$13,TEXT(I14,"DDDD"))) -> אנא פנה בדחיפות לחברה | K14: =H14/'עיצוב מותנה'!$F$53 -> 9471.2143 | P14: Saturday
A15: 9913 | B15: מוחמד | C15: חדד | D15: פוריה - נווה עובד | E15: 45544 | F15: 39649 | G15: ייעוץ פיננסי | H15: =F15-(VLOOKUP(F15,$O$4:$Q$11,3,TRUE)+(F15-VLOOKUP(F15,$O$4:$Q$11,1,TRUE))*VLOOKUP(F15,$O$4:$Q$11,2,TRUE)) -> 33021.85 | I15: =EOMONTH(E15,18) -> 46112 | J15: =IF(I15<=TODAY(), $Q$16,IF(OR(TEXT(I15,"DDDD")=$P$13,TEXT(I15,"DDDD")=$P$14),$Q$13,TEXT(I15,"DDDD"))) -> יום שלישי | K15: =H15/'עיצוב מותנה'!$F$53 -> 9434.8143
A16: 6959 | B16: תמר | C16: סבח | D16: מעונה | E16: 44407 | F16: 59080 | G16: ייעוץ פיננסי | H16: =F16-(VLOOKUP(F16,$O$4:$Q$11,3,TRUE)+(F16-VLOOKUP(F16,$O$4:$Q$11,1,TRUE))*VLOOKUP(F16,$O$4:$Q$11,2,TRUE)) -> 44698 | I16: =EOMONTH(E16,18) -> 44957 | J16: =IF(I16<=TODAY(), $Q$16,IF(OR(TEXT(I16,"DDDD")=$P$13,TEXT(I16,"DDDD")=$P$14),$Q$13,TEXT(I16,"DDDD"))) -> אנא פנה בדחיפות לחברה | K16: =H16/'עיצוב מותנה'!$F$53 -> 12770.857 | Q16: אנא פנה בדחיפות לחברה
A17: 2545 | B17: ראובן | C17: כהן | D17: צפרירים | E17: 44198 | F17: 44039 | G17: ייעוץ פיננסי | H17: =F17-(VLOOKUP(F17,$O$4:$Q$11,3,TRUE)+(F17-VLOOKUP(F17,$O$4:$Q$11,1,TRUE))*VLOOKUP(F17,$O$4:$Q$11,2,TRUE)) -> 35673.4 | I17: =EOMONTH(E17,18) -> 44773 | J17: =IF(I17<=TODAY(), $Q$16,IF(OR(TEXT(I17,"DDDD")=$P$13,TEXT(I17,"DDDD")=$P$14),$Q$13,TEXT(I17,"DDDD"))) -> אנא פנה בדחיפות לחברה | K17: =H17/'עיצוב מותנה'!$F$53 -> 10192.4
A18: 8665 | B18: נועה | C18: ג'בארין | D18: צורית | E18: 44323 | F18: 88374 | G18: הכנת משכורות | H18: =F18-(VLOOKUP(F18,$O$4:$Q$11,3,TRUE)+(F18-VLOOKUP(F18,$O$4:$Q$11,1,TRUE))*VLOOKUP(F18,$O$4:$Q$11,2,TRUE)) -> 62274.4 | I18: =EOMONTH(E18,18) -> 44895 | J18: =IF(I18<=TODAY(), $Q$16,IF(OR(TEXT(I18,"DDDD")=$P$13,TEXT(I18,"DDDD")=$P$14),$Q$13,TEXT(I18,"DDDD"))) -> אנא פנה בדחיפות לחברה | K18: =H18/'עיצוב מותנה'!$F$53 -> 17792.686
A19: 7462 | B19: אדם | C19: אטיאס | D19: עספיא | E19: 45097 | F19: 16410 | G19: ייעוץ פיננסי | H19: =F19-(VLOOKUP(F19,$O$4:$Q$11,3,TRUE)+(F19-VLOOKUP(F19,$O$4:$Q$11,1,TRUE))*VLOOKUP(F19,$O$4:$Q$11,2,TRUE)) -> 15698.5 | I19: =EOMONTH(E19,18) -> 45657 | J19: =IF(I19<=TODAY(), $Q$16,IF(OR(TEXT(I19,"DDDD")=$P$13,TEXT(I19,"DDDD")=$P$14),$Q$13,TEXT(I19,"DDDD"))) -> אנא פנה בדחיפות לחברה | K19: =H19/'עיצוב מותנה'!$F$53 -> 4485.2857 | P19: עיר מגורים לקוח | Q19: סיבת התקשרות
A20: 8168 | B20: רחל | C20: דנינו | D20: פוריה - נווה עובד | E20: 44821 | F20: 77854 | G20: הגשת דוחות | H20: =F20-(VLOOKUP(F20,$O$4:$Q$11,3,TRUE)+(F20-VLOOKUP(F20,$O$4:$Q$11,1,TRUE))*VLOOKUP(F20,$O$4:$Q$11,2,TRUE)) -> 55962.4 | I20: =EOMONTH(E20,18) -> 45382 | J20: =IF(I20<=TODAY(), $Q$16,IF(OR(TEXT(I20,"DDDD")=$P$13,TEXT(I20,"DDDD")=$P$14),$Q$13,TEXT(I20,"DDDD"))) -> אנא פנה בדחיפות לחברה | K20: =H20/'עיצוב מותנה'!$F$53 -> 15989.257 | P20: ורד יריחו | Q20: ביקורת שנתית
A21: 9731 | B21: שגיא | C21: כהן | D21: גבעת כ"ח | E21: 44806 | F21: 62929 | G21: הכנת משכורות | H21: =F21-(VLOOKUP(F21,$O$4:$Q$11,3,TRUE)+(F21-VLOOKUP(F21,$O$4:$Q$11,1,TRUE))*VLOOKUP(F21,$O$4:$Q$11,2,TRUE)) -> 47007.4 | I21: =EOMONTH(E21,18) -> 45382 | J21: =IF(I21<=TODAY(), $Q$16,IF(OR(TEXT(I21,"DDDD")=$P$13,TEXT(I21,"DDDD")=$P$14),$Q$13,TEXT(I21,"DDDD"))) -> אנא פנה בדחיפות לחברה | K21: =H21/'עיצוב מותנה'!$F$53 -> 13430.686 | P21: צורית | Q21: ביקורת שנתית
A22: 4149 | B22: תמר | C22: עזרן | D22: עספיא | E22: 43748 | F22: 46340 | G22: הגשת דוחות | H22: =F22-(VLOOKUP(F22,$O$4:$Q$11,3,TRUE)+(F22-VLOOKUP(F22,$O$4:$Q$11,1,TRUE))*VLOOKUP(F22,$O$4:$Q$11,2,TRUE)) -> 37054 | I22: =EOMONTH(E22,18) -> 44316 | J22: =IF(I22<=TODAY(), $Q$16,IF(OR(TEXT(I22,"DDDD")=$P$13,TEXT(I22,"DDDD")=$P$14),$Q$13,TEXT(I22,"DDDD"))) -> אנא פנה בדחיפות לחברה | K22: =H22/'עיצוב מותנה'!$F$53 -> 10586.857 | P22: מעונה | Q22: ייעוץ פיננסי
A23: 8583 | B23: שאם | C23: סואעד | D23: דוב"ב | E23: 44162 | F23: 40406 | G23: ייעוץ פיננסי | H23: =F23-(VLOOKUP(F23,$O$4:$Q$11,3,TRUE)+(F23-VLOOKUP(F23,$O$4:$Q$11,1,TRUE))*VLOOKUP(F23,$O$4:$Q$11,2,TRUE)) -> 33493.6 | I23: =EOMONTH(E23,18) -> 44712 | J23: =IF(I23<=TODAY(), $Q$16,IF(OR(TEXT(I23,"DDDD")=$P$13,TEXT(I23,"DDDD")=$P$14),$Q$13,TEXT(I23,"DDDD"))) -> אנא פנה בדחיפות לחברה | K23: =H23/'עיצוב מותנה'!$F$53 -> 9569.6 | P23: משמר העמק | Q23: ייעוץ פיננסי
A24: 3322 | B24: מיכל | C24: בן עזרא | D24: פוריידיס | E24: 44421 | F24: 93981 | G24: ייעוץ פיננסי | H24: =F24-(VLOOKUP(F24,$O$4:$Q$11,3,TRUE)+(F24-VLOOKUP(F24,$O$4:$Q$11,1,TRUE))*VLOOKUP(F24,$O$4:$Q$11,2,TRUE)) -> 65638.6 | I24: =EOMONTH(E24,18) -> 44985 | J24: =IF(I24<=TODAY(), $Q$16,IF(OR(TEXT(I24,"DDDD")=$P$13,TEXT(I24,"DDDD")=$P$14),$Q$13,TEXT(I24,"DDDD"))) -> אנא פנה בדחיפות לחברה | K24: =H24/'עיצוב מותנה'!$F$53 -> 18753.886
A25: 5639 | B25: רפאל | C25: אברהם | D25: כסלון | E25: 44086 | F25: 34298 | G25: הכנת משכורות | H25: =F25-(VLOOKUP(F25,$O$4:$Q$11,3,TRUE)+(F25-VLOOKUP(F25,$O$4:$Q$11,1,TRUE))*VLOOKUP(F25,$O$4:$Q$11,2,TRUE)) -> 29508.6 | I25: =EOMONTH(E25,18) -> 44651 | J25: =IF(I25<=TODAY(), $Q$16,IF(OR(TEXT(I25,"DDDD")=$P$13,TEXT(I25,"DDDD")=$P$14),$Q$13,TEXT(I25,"DDDD"))) -> אנא פנה בדחיפות לחברה | K25: =H25/'עיצוב מותנה'!$F$53 -> 8431.0286
A26: 6931 | B26: מג'ד | C26: ארביב | D26: נתיב השיירה | E26: 44716 | F26: 34974 | G26: מיסוי | H26: =F26-(VLOOKUP(F26,$O$4:$Q$11,3,TRUE)+(F26-VLOOKUP(F26,$O$4:$Q$11,1,TRUE))*VLOOKUP(F26,$O$4:$Q$11,2,TRUE)) -> 29981.8 | I26: =EOMONTH(E26,18) -> 45291 | J26: =IF(I26<=TODAY(), $Q$16,IF(OR(TEXT(I26,"DDDD")=$P$13,TEXT(I26,"DDDD")=$P$14),$Q$13,TEXT(I26,"DDDD"))) -> אנא פנה בדחיפות לחברה | K26: =H26/'עיצוב מותנה'!$F$53 -> 8566.2286 | P26: תאריך התקשרות | Q26: עיר מגורים לקוח
A27: 1100 | B27: אלמא | C27: קאסם | D27: ורד יריחו | E27: 43776 | F27: 37460 | G27: הגשת דוחות | H27: =F27-(VLOOKUP(F27,$O$4:$Q$11,3,TRUE)+(F27-VLOOKUP(F27,$O$4:$Q$11,1,TRUE))*VLOOKUP(F27,$O$4:$Q$11,2,TRUE)) -> 31599 | I27: =EOMONTH(E27,18) -> 44347 | J27: =IF(I27<=TODAY(), $Q$16,IF(OR(TEXT(I27,"DDDD")=$P$13,TEXT(I27,"DDDD")=$P$14),$Q$13,TEXT(I27,"DDDD"))) -> אנא פנה בדחיפות לחברה | K27: =H27/'עיצוב מותנה'!$F$53 -> 9028.2857 | P27: <1/1/2023
A28: 8716 | B28: עמית | C28: ברזילי | D28: תלמי אליהו | E28: 44648 | F28: 91972 | G28: הגשת דוחות | H28: =F28-(VLOOKUP(F28,$O$4:$Q$11,3,TRUE)+(F28-VLOOKUP(F28,$O$4:$Q$11,1,TRUE))*VLOOKUP(F28,$O$4:$Q$11,2,TRUE)) -> 64433.2 | I28: =EOMONTH(E28,18) -> 45199 | J28: =IF(I28<=TODAY(), $Q$16,IF(OR(TEXT(I28,"DDDD")=$P$13,TEXT(I28,"DDDD")=$P$14),$Q$13,TEXT(I28,"DDDD"))) -> אנא פנה בדחיפות לחברה | K28: =H28/'עיצוב מותנה'!$F$53 -> 18409.486 | Q28: צפרירים
A29: 2100 | B29: אלון | C29: שרביט | D29: חשמונאים | E29: 44529 | F29: 45647 | G29: הכנת משכורות | H29: =F29-(VLOOKUP(F29,$O$4:$Q$11,3,TRUE)+(F29-VLOOKUP(F29,$O$4:$Q$11,1,TRUE))*VLOOKUP(F29,$O$4:$Q$11,2,TRUE)) -> 36638.2 | I29: =EOMONTH(E29,18) -> 45077 | J29: =IF(I29<=TODAY(), $Q$16,IF(OR(TEXT(I29,"DDDD")=$P$13,TEXT(I29,"DDDD")=$P$14),$Q$13,TEXT(I29,"DDDD"))) -> אנא פנה בדחיפות לחברה | K29: =H29/'עיצוב מותנה'!$F$53 -> 10468.057 | Q29: עספיא
A30: 2557 | B30: נהוראי | C30: שטיין | D30: הר אדר | E30: 44724 | F30: 38276 | G30: ביקורת שנתית | H30: =F30-(VLOOKUP(F30,$O$4:$Q$11,3,TRUE)+(F30-VLOOKUP(F30,$O$4:$Q$11,1,TRUE))*VLOOKUP(F30,$O$4:$Q$11,2,TRUE)) -> 32129.4 | I30: =EOMONTH(E30,18) -> 45291 | J30: =IF(I30<=TODAY(), $Q$16,IF(OR(TEXT(I30,"DDDD")=$P$13,TEXT(I30,"DDDD")=$P$14),$Q$13,TEXT(I30,"DDDD"))) -> אנא פנה בדחיפות לחברה | K30: =H30/'עיצוב מותנה'!$F$53 -> 9179.8286 | Q30: חשמונאים
A31: 8177 | B31: עלמה | C31: הררי | D31: טל-אל | E31: 43873 | F31: 71095 | G31: ביקורת שנתית | H31: =F31-(VLOOKUP(F31,$O$4:$Q$11,3,TRUE)+(F31-VLOOKUP(F31,$O$4:$Q$11,1,TRUE))*VLOOKUP(F31,$O$4:$Q$11,2,TRUE)) -> 51907 | I31: =EOMONTH(E31,18) -> 44439 | J31: =IF(I31<=TODAY(), $Q$16,IF(OR(TEXT(I31,"DDDD")=$P$13,TEXT(I31,"DDDD")=$P$14),$Q$13,TEXT(I31,"DDDD"))) -> אנא פנה בדחיפות לחברה | K31: =H31/'עיצוב מותנה'!$F$53 -> 14830.571
A32: 9043 | B32: נחמן | C32: חדאד | D32: משמר העמק | E32: 45039 | F32: 35185 | G32: ייעוץ פיננסי | H32: =F32-(VLOOKUP(F32,$O$4:$Q$11,3,TRUE)+(F32-VLOOKUP(F32,$O$4:$Q$11,1,TRUE))*VLOOKUP(F32,$O$4:$Q$11,2,TRUE)) -> 30120.25 | I32: =EOMONTH(E32,18) -> 45596 | J32: =IF(I32<=TODAY(), $Q$16,IF(OR(TEXT(I32,"DDDD")=$P$13,TEXT(I32,"DDDD")=$P$14),$Q$13,TEXT(I32,"DDDD"))) -> אנא פנה בדחיפות לחברה | K32: =H32/'עיצוב מותנה'!$F$53 -> 8605.7857 | N32: סך ההכנסה נטו מהלקוחות שעונים לתנאים : | Q32: =DSUM($A$1:$J$51,H1,$P$26:$Q$30) -> 1414550.4
A33: 2940 | B33: איילה | C33: קרן | D33: נירן | E33: 44814 | F33: 34103 | G33: הגשת דוחות | H33: =F33-(VLOOKUP(F33,$O$4:$Q$11,3,TRUE)+(F33-VLOOKUP(F33,$O$4:$Q$11,1,TRUE))*VLOOKUP(F33,$O$4:$Q$11,2,TRUE)) -> 29372.1 | I33: =EOMONTH(E33,18) -> 45382 | J33: =IF(I33<=TODAY(), $Q$16,IF(OR(TEXT(I33,"DDDD")=$P$13,TEXT(I33,"DDDD")=$P$14),$Q$13,TEXT(I33,"DDDD"))) -> אנא פנה בדחיפות לחברה | K33: =H33/'עיצוב מותנה'!$F$53 -> 8392.0286 | N33: מספר הלקוחחות שעונים לתנאים : | Q33: =DCOUNT($A$1:$J$51,A1,$P$26:$Q$30) -> 34
A34: 6325 | B34: עלמה | C34: טאהא | D34: עין השופט | E34: 44994 | F34: 33853 | G34: הכנת משכורות | H34: =F34-(VLOOKUP(F34,$O$4:$Q$11,3,TRUE)+(F34-VLOOKUP(F34,$O$4:$Q$11,1,TRUE))*VLOOKUP(F34,$O$4:$Q$11,2,TRUE)) -> 29197.1 | I34: =EOMONTH(E34,18) -> 45565 | J34: =IF(I34<=TODAY(), $Q$16,IF(OR(TEXT(I34,"DDDD")=$P$13,TEXT(I34,"DDDD")=$P$14),$Q$13,TEXT(I34,"DDDD"))) -> אנא פנה בדחיפות לחברה | K34: =H34/'עיצוב מותנה'!$F$53 -> 8342.0286
A35: 3363 | B35: נויה | C35: מחמוד | D35: אביחיל | E35: 44300 | F35: 17796 | G35: מיסוי | H35: =F35-(VLOOKUP(F35,$O$4:$Q$11,3,TRUE)+(F35-VLOOKUP(F35,$O$4:$Q$11,1,TRUE))*VLOOKUP(F35,$O$4:$Q$11,2,TRUE)) -> 16876.6 | I35: =EOMONTH(E35,18) -> 44865 | J35: =IF(I35<=TODAY(), $Q$16,IF(OR(TEXT(I35,"DDDD")=$P$13,TEXT(I35,"DDDD")=$P$14),$Q$13,TEXT(I35,"DDDD"))) -> אנא פנה בדחיפות לחברה | K35: =H35/'עיצוב מותנה'!$F$53 -> 4821.8857
A36: 9371 | B36: אורין | C36: אבו ריא | D36: נטע | E36: 44047 | F36: 67184 | G36: ייעוץ פיננסי | H36: =F36-(VLOOKUP(F36,$O$4:$Q$11,3,TRUE)+(F36-VLOOKUP(F36,$O$4:$Q$11,1,TRUE))*VLOOKUP(F36,$O$4:$Q$11,2,TRUE)) -> 49560.4 | I36: =EOMONTH(E36,18) -> 44620 | J36: =IF(I36<=TODAY(), $Q$16,IF(OR(TEXT(I36,"DDDD")=$P$13,TEXT(I36,"DDDD")=$P$14),$Q$13,TEXT(I36,"DDDD"))) -> אנא פנה בדחיפות לחברה | K36: =H36/'עיצוב מותנה'!$F$53 -> 14160.114 | P36: עיר מגורים לקוח
A37: 6909 | B37: שמואל | C37: זכריה | D37: מרחביה | E37: 45005 | F37: 25505 | G37: מיסוי | H37: =F37-(VLOOKUP(F37,$O$4:$Q$11,3,TRUE)+(F37-VLOOKUP(F37,$O$4:$Q$11,1,TRUE))*VLOOKUP(F37,$O$4:$Q$11,2,TRUE)) -> 23128.75 | I37: =EOMONTH(E37,18) -> 45565 | J37: =IF(I37<=TODAY(), $Q$16,IF(OR(TEXT(I37,"DDDD")=$P$13,TEXT(I37,"DDDD")=$P$14),$Q$13,TEXT(I37,"DDDD"))) -> אנא פנה בדחיפות לחברה | K37: =H37/'עיצוב מותנה'!$F$53 -> 6608.2143 | P37: אודם
A38: 4367 | B38: נהוראי | C38: לוי | D38: כפר מסריק | E38: 45540 | F38: 32359 | G38: הגשת דוחות | H38: =F38-(VLOOKUP(F38,$O$4:$Q$11,3,TRUE)+(F38-VLOOKUP(F38,$O$4:$Q$11,1,TRUE))*VLOOKUP(F38,$O$4:$Q$11,2,TRUE)) -> 28151.3 | I38: =EOMONTH(E38,18) -> 46112 | J38: =IF(I38<=TODAY(), $Q$16,IF(OR(TEXT(I38,"DDDD")=$P$13,TEXT(I38,"DDDD")=$P$14),$Q$13,TEXT(I38,"DDDD"))) -> יום שלישי | K38: =H38/'עיצוב מותנה'!$F$53 -> 8043.2286 | P38: תלמי אליהו
A39: 8192 | B39: יהונתן | C39: מדר | D39: צורית | E39: 45488 | F39: 71321 | G39: ביקורת שנתית | H39: =F39-(VLOOKUP(F39,$O$4:$Q$11,3,TRUE)+(F39-VLOOKUP(F39,$O$4:$Q$11,1,TRUE))*VLOOKUP(F39,$O$4:$Q$11,2,TRUE)) -> 52042.6 | I39: =EOMONTH(E39,18) -> 46053 | J39: =IF(I39<=TODAY(), $Q$16,IF(OR(TEXT(I39,"DDDD")=$P$13,TEXT(I39,"DDDD")=$P$14),$Q$13,TEXT(I39,"DDDD"))) -> שבת | K39: =H39/'עיצוב מותנה'!$F$53 -> 14869.314 | P39: העוגן
A40: 8345 | B40: אלמא | C40: דמרי | D40: צורית | E40: 45171 | F40: 81110 | G40: ביקורת שנתית | H40: =F40-(VLOOKUP(F40,$O$4:$Q$11,3,TRUE)+(F40-VLOOKUP(F40,$O$4:$Q$11,1,TRUE))*VLOOKUP(F40,$O$4:$Q$11,2,TRUE)) -> 57916 | I40: =EOMONTH(E40,18) -> 45747 | J40: =IF(I40<=TODAY(), $Q$16,IF(OR(TEXT(I40,"DDDD")=$P$13,TEXT(I40,"DDDD")=$P$14),$Q$13,TEXT(I40,"DDDD"))) -> אנא פנה בדחיפות לחברה | K40: =H40/'עיצוב מותנה'!$F$53 -> 16547.429 | P40: זוהר
A41: 4957 | B41: הודיה | C41: מזרחי | D41: חשמונאים | E41: 44581 | F41: 66042 | G41: מיסוי | H41: =F41-(VLOOKUP(F41,$O$4:$Q$11,3,TRUE)+(F41-VLOOKUP(F41,$O$4:$Q$11,1,TRUE))*VLOOKUP(F41,$O$4:$Q$11,2,TRUE)) -> 48875.2 | I41: =EOMONTH(E41,18) -> 45138 | J41: =IF(I41<=TODAY(), $Q$16,IF(OR(TEXT(I41,"DDDD")=$P$13,TEXT(I41,"DDDD")=$P$14),$Q$13,TEXT(I41,"DDDD"))) -> אנא פנה בדחיפות לחברה | K41: =H41/'עיצוב מותנה'!$F$53 -> 13964.343
A42: 4884 | B42: עמליה | C42: סבג | D42: תלמי אליהו | E42: 44873 | F42: 95922 | G42: הגשת דוחות | H42: =F42-(VLOOKUP(F42,$O$4:$Q$11,3,TRUE)+(F42-VLOOKUP(F42,$O$4:$Q$11,1,TRUE))*VLOOKUP(F42,$O$4:$Q$11,2,TRUE)) -> 66803.2 | I42: =EOMONTH(E42,18) -> 45443 | J42: =IF(I42<=TODAY(), $Q$16,IF(OR(TEXT(I42,"DDDD")=$P$13,TEXT(I42,"DDDD")=$P$14),$Q$13,TEXT(I42,"DDDD"))) -> אנא פנה בדחיפות לחברה | K42: =H42/'עיצוב מותנה'!$F$53 -> 19086.629 | N42: סה"כ הכנסה נטו בדולים לעומדים בתנאים : | R42: =DSUM(A1:K51,K1,P36:P40) -> 75537.757
A43: 2962 | B43: ליהי | C43: גרוס | D43: נתיב השיירה | E43: 45188 | F43: 34222 | G43: מיסוי | H43: =F43-(VLOOKUP(F43,$O$4:$Q$11,3,TRUE)+(F43-VLOOKUP(F43,$O$4:$Q$11,1,TRUE))*VLOOKUP(F43,$O$4:$Q$11,2,TRUE)) -> 29455.4 | I43: =EOMONTH(E43,18) -> 45747 | J43: =IF(I43<=TODAY(), $Q$16,IF(OR(TEXT(I43,"DDDD")=$P$13,TEXT(I43,"DDDD")=$P$14),$Q$13,TEXT(I43,"DDDD"))) -> אנא פנה בדחיפות לחברה | K43: =H43/'עיצוב מותנה'!$F$53 -> 8415.8286 | Q43: 3.5 | R43: 75537.757
A44: 6595 | B44: אדל | C44: ביטון | D44: עזר | E44: 43737 | F44: 72678 | G44: הכנת משכורות | H44: =F44-(VLOOKUP(F44,$O$4:$Q$11,3,TRUE)+(F44-VLOOKUP(F44,$O$4:$Q$11,1,TRUE))*VLOOKUP(F44,$O$4:$Q$11,2,TRUE)) -> 52856.8 | I44: =EOMONTH(E44,18) -> 44286 | J44: =IF(I44<=TODAY(), $Q$16,IF(OR(TEXT(I44,"DDDD")=$P$13,TEXT(I44,"DDDD")=$P$14),$Q$13,TEXT(I44,"DDDD"))) -> אנא פנה בדחיפות לחברה | K44: =H44/'עיצוב מותנה'!$F$53 -> 15101.943 | Q44: 3.55 | R44: 74473.845
A45: 6311 | B45: עבד | C45: נוימן | D45: שומרה | E45: 45480 | F45: 79903 | G45: הגשת דוחות | H45: =F45-(VLOOKUP(F45,$O$4:$Q$11,3,TRUE)+(F45-VLOOKUP(F45,$O$4:$Q$11,1,TRUE))*VLOOKUP(F45,$O$4:$Q$11,2,TRUE)) -> 57191.8 | I45: =EOMONTH(E45,18) -> 46053 | J45: =IF(I45<=TODAY(), $Q$16,IF(OR(TEXT(I45,"DDDD")=$P$13,TEXT(I45,"DDDD")=$P$14),$Q$13,TEXT(I45,"DDDD"))) -> שבת | K45: =H45/'עיצוב מותנה'!$F$53 -> 16340.514 | Q45: 3.6 | R45: 73439.486
A46: 8473 | B46: אריאל | C46: חיים | D46: מירון | E46: 45364 | F46: 69665 | G46: ביקורת שנתית | H46: =F46-(VLOOKUP(F46,$O$4:$Q$11,3,TRUE)+(F46-VLOOKUP(F46,$O$4:$Q$11,1,TRUE))*VLOOKUP(F46,$O$4:$Q$11,2,TRUE)) -> 51049 | I46: =EOMONTH(E46,18) -> 45930 | J46: =IF(I46<=TODAY(), $Q$16,IF(OR(TEXT(I46,"DDDD")=$P$13,TEXT(I46,"DDDD")=$P$14),$Q$13,TEXT(I46,"DDDD"))) -> אנא פנה בדחיפות לחברה | K46: =H46/'עיצוב מותנה'!$F$53 -> 14585.429 | Q46: 3.65 | R46: 72433.466
A47: 5117 | B47: עדי | C47: חדד | D47: גונן | E47: 44813 | F47: 42327 | G47: הגשת דוחות | H47: =F47-(VLOOKUP(F47,$O$4:$Q$11,3,TRUE)+(F47-VLOOKUP(F47,$O$4:$Q$11,1,TRUE))*VLOOKUP(F47,$O$4:$Q$11,2,TRUE)) -> 34646.2 | I47: =EOMONTH(E47,18) -> 45382 | J47: =IF(I47<=TODAY(), $Q$16,IF(OR(TEXT(I47,"DDDD")=$P$13,TEXT(I47,"DDDD")=$P$14),$Q$13,TEXT(I47,"DDDD"))) -> אנא פנה בדחיפות לחברה | K47: =H47/'עיצוב מותנה'!$F$53 -> 9898.9143 | Q47: 3.7 | R47: 71454.635
A48: 3786 | B48: ליאור | C48: לוי | D48: עספיא | E48: 44445 | F48: 40371 | G48: הכנת משכורות | H48: =F48-(VLOOKUP(F48,$O$4:$Q$11,3,TRUE)+(F48-VLOOKUP(F48,$O$4:$Q$11,1,TRUE))*VLOOKUP(F48,$O$4:$Q$11,2,TRUE)) -> 33472.6 | I48: =EOMONTH(E48,18) -> 45016 | J48: =IF(I48<=TODAY(), $Q$16,IF(OR(TEXT(I48,"DDDD")=$P$13,TEXT(I48,"DDDD")=$P$14),$Q$13,TEXT(I48,"DDDD"))) -> אנא פנה בדחיפות לחברה | K48: =H48/'עיצוב מותנה'!$F$53 -> 9563.6 | Q48: 3.75 | R48: 70501.907
A49: 8059 | B49: דניאל | C49: סויסה | D49: שתולים | E49: 45537 | F49: 61807 | G49: הכנת משכורות | H49: =F49-(VLOOKUP(F49,$O$4:$Q$11,3,TRUE)+(F49-VLOOKUP(F49,$O$4:$Q$11,1,TRUE))*VLOOKUP(F49,$O$4:$Q$11,2,TRUE)) -> 46334.2 | I49: =EOMONTH(E49,18) -> 46112 | J49: =IF(I49<=TODAY(), $Q$16,IF(OR(TEXT(I49,"DDDD")=$P$13,TEXT(I49,"DDDD")=$P$14),$Q$13,TEXT(I49,"DDDD"))) -> יום שלישי | K49: =H49/'עיצוב מותנה'!$F$53 -> 13238.343 | Q49: 3.8 | R49: 69574.25
A50: 6470 | B50: שלו | C50: כהן | D50: עדי | E50: 44330 | F50: 52973 | G50: ייעוץ פיננסי | H50: =F50-(VLOOKUP(F50,$O$4:$Q$11,3,TRUE)+(F50-VLOOKUP(F50,$O$4:$Q$11,1,TRUE))*VLOOKUP(F50,$O$4:$Q$11,2,TRUE)) -> 41033.8 | I50: =EOMONTH(E50,18) -> 44895 | J50: =IF(I50<=TODAY(), $Q$16,IF(OR(TEXT(I50,"DDDD")=$P$13,TEXT(I50,"DDDD")=$P$14),$Q$13,TEXT(I50,"DDDD"))) -> אנא פנה בדחיפות לחברה | K50: =H50/'עיצוב מותנה'!$F$53 -> 11723.943
A51: 5893 | B51: דניאלה | C51: מרעי | D51: עמוקה | E51: 44650 | F51: 27087 | G51: ייעוץ פיננסי | H51: =F51-(VLOOKUP(F51,$O$4:$Q$11,3,TRUE)+(F51-VLOOKUP(F51,$O$4:$Q$11,1,TRUE))*VLOOKUP(F51,$O$4:$Q$11,2,TRUE)) -> 24315.25 | I51: =EOMONTH(E51,18) -> 45199 | J51: =IF(I51<=TODAY(), $Q$16,IF(OR(TEXT(I51,"DDDD")=$P$13,TEXT(I51,"DDDD")=$P$14),$Q$13,TEXT(I51,"DDDD"))) -> אנא פנה בדחיפות לחברה | K51: =H51/'עיצוב מותנה'!$F$53 -> 6947.2143
Q52: סה"כ הכנזה נטו | R52: כמות לקוחות
E53: שער הדולר | F53: 3.5 | P53: הגשת דוחות | Q53: =SUMIF($G$2:$G$51,P53,$H$2:$H$51) -> 639964.8 | R53: =COUNTIF($G$2:$G$51,P53) -> 13
P54: הגשת דוחות | Q54: =SUMIF($G$2:$G$51,P54,$H$2:$H$51) -> 639964.8 | R54: =COUNTIF($G$2:$G$51,P54) -> 13
P55: ביקורת שנתית | Q55: =SUMIF($G$2:$G$51,P55,$H$2:$H$51) -> 420214.4 | R55: =COUNTIF($G$2:$G$51,P55) -> 9
P56: ייעוץ פיננסי | Q56: =SUMIF($G$2:$G$51,P56,$H$2:$H$51) -> 454816.65 | R56: =COUNTIF($G$2:$G$51,P56) -> 13
P57: הכנת משכורות | Q57: =SUMIF($G$2:$G$51,P57,$H$2:$H$51) -> 399735.7 | R57: =COUNTIF($G$2:$G$51,P57) -> 10
P58: מיסוי | Q58: =SUMIF($G$2:$G$51,P58,$H$2:$H$51) -> 148317.75 | R58: =COUNTIF($G$2:$G$51,P58) -> 5
P60: סיבת התקשרות מינימלית | R60: =_xlfn.XLOOKUP(MIN(R53:R58),R53:R58,P53:P58) -> מיסוי

Sheet לקוחות בנק
A1: מספר ת.ז | B1: שם פרטי | C1: שם משפחה | D1: כתובת דוא"ל | E1: תאריך הצטרפות | F1: גיל | G1: אזור מגורים | H1: מסלול לקוח | I1: מספר חודשי ותק | J1: משכורת חודשית ממוצעת | K1: מענק ללקוח בשח | L1: תאריך משיכת מענק
A2: 6056565 | B2: צחי | C2: כהן | D2: JXIELUBY@colman.ac.il | E2: 43604 | F2: 23 | G2: מרכז | H2: בסיסי | I2: 60 | J2: 15750 | K2: {=_xlfn.XLOOKUP(I2,$R$4:$R$8,_xlfn.XLOOKUP(H2,$S$3:$U$3,$S$4:$U$8,,0),,-1)*J2} -> 2835 | R2: טבלת מספר 1: | X2: ממועד ב 2025
A3: 4430571 | B3: אורן | C3: וידר | D3: RFANLGI22@gmail.com | E3: 43504 | F3: 34 | G3: מרכז | H3: פרמיום | I3: 95 | J3: 12750 | K3: {=_xlfn.XLOOKUP(I3,$R$4:$R$8,_xlfn.XLOOKUP(H3,$S$3:$U$3,$S$4:$U$8,,0),,-1)*J3} -> 2805 | R3: חודשי ותק/מסלול | S3: בסיסי | T3: פרמיום | U3: עסקי
A4: 3427449 | B4: בני | C4: קוזניץ | D4: BD12BUB@colman.ac.il | E4: 43166 | F4: 47 | G4: צפון | H4: עסקי | I4: 31 | J4: 114000 | K4: {=_xlfn.XLOOKUP(I4,$R$4:$R$8,_xlfn.XLOOKUP(H4,$S$3:$U$3,$S$4:$U$8,,0),,-1)*J4} -> 22800 | R4: 0 | S4: 0.12 | T4: 0.14 | U4: 0.16
A5: 5830124 | B5: צביקה | C5: אברמוביץ | D5: R5HJ9DT@gmail.com | E5: 44132 | F5: 26 | G5: דרום | H5: עסקי | I5: 26 | J5: 77500 | K5: {=_xlfn.XLOOKUP(I5,$R$4:$R$8,_xlfn.XLOOKUP(H5,$S$3:$U$3,$S$4:$U$8,,0),,-1)*J5} -> 15500 | R5: 15 | S5: 0.15 | T5: 0.18 | U5: 0.2
A6: 3192167 | B6: חן | C6: אבני | D6: JXI45LUBY@colman.ac.il | E6: 44493 | F6: 57 | G6: דרום | H6: עסקי | I6: 99 | J6: 63000 | K6: {=_xlfn.XLOOKUP(I6,$R$4:$R$8,_xlfn.XLOOKUP(H6,$S$3:$U$3,$S$4:$U$8,,0),,-1)*J6} -> 17640 | R6: 40 | S6: 0.18 | T6: 0.2 | U6: 0.25
A7: 5145835 | B7: משה | C7: לוי | D7: GILIUU8@gmail.com | E7: 43978 | F7: 48 | G7: מרכז | H7: בסיסי | I7: 75 | J7: 30125 | K7: {=_xlfn.XLOOKUP(I7,$R$4:$R$8,_xlfn.XLOOKUP(H7,$S$3:$U$3,$S$4:$U$8,,0),,-1)*J7} -> 6025 | R7: 70 | S7: 0.2 | T7: 0.22 | U7: 0.28
A8: 5915445 | B8: מני | C8: פורת | D8: FFNGQQWT@ynet.co.il | E8: 44071 | F8: 18 | G8: צפון | H8: בסיסי | I8: 81 | J8: 23375 | K8: {=_xlfn.XLOOKUP(I8,$R$4:$R$8,_xlfn.XLOOKUP(H8,$S$3:$U$3,$S$4:$U$8,,0),,-1)*J8} -> 4675 | R8: 110 | S8: 0.25 | T8: 0.3 | U8: 0.32
A9: 5464769 | B9: שי | C9: פסט | D9: QW3@hotmail.com | E9: 43497 | F9: 37 | G9: מרכז | H9: בסיסי | I9: 66 | J9: 35625 | K9: {=_xlfn.XLOOKUP(I9,$R$4:$R$8,_xlfn.XLOOKUP(H9,$S$3:$U$3,$S$4:$U$8,,0),,-1)*J9} -> 6412.5
A10: 3992335 | B10: ליאור | C10: פינקלשטייו | D10: NYIAVES@colman.ac.il | E10: 44845 | F10: 62 | G10: צפון | H10: עסקי | I10: 63 | J10: 9500 | K10: {=_xlfn.XLOOKUP(I10,$R$4:$R$8,_xlfn.XLOOKUP(H10,$S$3:$U$3,$S$4:$U$8,,0),,-1)*J10} -> 2375 | R10: נתונים לשאלה 2 א
A11: 4633026 | B11: אבינועם | C11: זוהר | D11: GIMI89FG@walla.co.il | E11: 45030 | F11: 30 | G11: מרכז | H11: עסקי | I11: 86 | J11: 8250 | K11: {=_xlfn.XLOOKUP(I11,$R$4:$R$8,_xlfn.XLOOKUP(H11,$S$3:$U$3,$S$4:$U$8,,0),,-1)*J11} -> 2310 | R11: מדרגה | S11: אחוז | T11: מצטבר
A12: 6790786 | B12: עומרי | C12: חרד | D12: RAV8O@walla.co.il | E12: 42875 | F12: 49 | G12: מרכז | H12: פרמיום | I12: 121 | J12: 12500 | K12: {=_xlfn.XLOOKUP(I12,$R$4:$R$8,_xlfn.XLOOKUP(H12,$S$3:$U$3,$S$4:$U$8,,0),,-1)*J12} -> 3750 | R12: 0 | S12: 0.025 | T12: 0
A13: 5828005 | B13: אלי | C13: זונשיין | D13: JAKI89@gmail.com | E13: 44265 | F13: 32 | G13: דרום | H13: פרמיום | I13: 8 | J13: 26500 | K13: {=_xlfn.XLOOKUP(I13,$R$4:$R$8,_xlfn.XLOOKUP(H13,$S$3:$U$3,$S$4:$U$8,,0),,-1)*J13} -> 3710 | R13: 10000 | S13: 0.04 | T13: =(R13-R12)*S12+T12 -> 250
A14: 6934852 | B14: חזי | C14: אביגד | D14: MYGLDVTD@colman.ac.il | E14: 45594 | F14: 31 | G14: צפון | H14: בסיסי | I14: 83 | J14: 8625 | K14: {=_xlfn.XLOOKUP(I14,$R$4:$R$8,_xlfn.XLOOKUP(H14,$S$3:$U$3,$S$4:$U$8,,0),,-1)*J14} -> 1725 | R14: 25000 | S14: 0.05 | T14: =(R14-R13)*S13+T13 -> 850
A15: 4708795 | B15: איתמר | C15: גרינפלד | D15: AUTBPAME@gmail.com | E15: 40295 | F15: 26 | G15: מרכז | H15: עסקי | I15: 21 | J15: 42500 | K15: {=_xlfn.XLOOKUP(I15,$R$4:$R$8,_xlfn.XLOOKUP(H15,$S$3:$U$3,$S$4:$U$8,,0),,-1)*J15} -> 8500 | R15: 50000 | S15: 0.075 | T15: =(R15-R14)*S14+T14 -> 2100
A16: 4853519 | B16: מייקל | C16: קלושנר | D16: TUTUU7@yahoo.com | E16: 43440 | F16: 65 | G16: מרכז | H16: עסקי | I16: 106 | J16: 30250 | K16: {=_xlfn.XLOOKUP(I16,$R$4:$R$8,_xlfn.XLOOKUP(H16,$S$3:$U$3,$S$4:$U$8,,0),,-1)*J16} -> 8470 | R16: 100000 | S16: 0.1 | T16: =(R16-R15)*S15+T15 -> 5850
A17: 5769687 | B17: אפרת | C17: שטיין | D17: PADI5@yahoo.com | E17: 40534 | F17: 36 | G17: מרכז | H17: בסיסי | I17: 87 | J17: 8500 | K17: {=_xlfn.XLOOKUP(I17,$R$4:$R$8,_xlfn.XLOOKUP(H17,$S$3:$U$3,$S$4:$U$8,,0),,-1)*J17} -> 1700
A18: 5720158 | B18: אשר | C18: בנימיני | D18: WTUUETX@gmail.com | E18: 44419 | F18: 27 | G18: דרום | H18: בסיסי | I18: 19 | J18: 58125 | K18: {=_xlfn.XLOOKUP(I18,$R$4:$R$8,_xlfn.XLOOKUP(H18,$S$3:$U$3,$S$4:$U$8,,0),,-1)*J18} -> 8718.75 | R18: תאי עזר לשאלה 1ב- | T18: תא עזר לחישוב משכרת שנתית ממוצעת (שאלה 4ב) | Y18: 12
A19: 5521822 | B19: כרמית | C19: חזי | D19: TUKU7K@yahoo.com | E19: 43641 | F19: 27 | G19: דרום | H19: פרמיום | I19: 95 | J19: 16000 | K19: {=_xlfn.XLOOKUP(I19,$R$4:$R$8,_xlfn.XLOOKUP(H19,$S$3:$U$3,$S$4:$U$8,,0),,-1)*J19} -> 3520 | R19: 2020 | V19: 2020
A20: 3907601 | B20: הילה | C20: אהרוני | D20: GT67JK@yahoo.com | E20: 45562 | F20: 59 | G20: מרכז | H20: עסקי | I20: 23 | J20: 95750 | K20: {=_xlfn.XLOOKUP(I20,$R$4:$R$8,_xlfn.XLOOKUP(H20,$S$3:$U$3,$S$4:$U$8,,0),,-1)*J20} -> 19150 | R20: 2025 | V20: 2025
A21: 5127949 | B21: אוהד | C21: בן משה | D21: YACM@hotmail.com | E21: 43235 | F21: 23 | G21: צפון | H21: בסיסי | I21: 74 | J21: 6000 | K21: {=_xlfn.XLOOKUP(I21,$R$4:$R$8,_xlfn.XLOOKUP(H21,$S$3:$U$3,$S$4:$U$8,,0),,-1)*J21} -> 1200 | R21: 10 | V21: 10
A22: 3083848 | B22: יהונתן | C22: ארייב | D22: TAB@hotmail.com | E22: 41908 | F22: 18 | G22: מרכז | H22: בסיסי | I22: 9 | J22: 11000 | K22: {=_xlfn.XLOOKUP(I22,$R$4:$R$8,_xlfn.XLOOKUP(H22,$S$3:$U$3,$S$4:$U$8,,0),,-1)*J22} -> 1320 | R22: 1 | V22: 1
A23: 4115321 | B23: ניר | C23: בן שטרית | D23: HRNFSEKR@gmail.com | E23: 43335 | F23: 53 | G23: מרכז | H23: בסיסי | I23: 54 | J23: 20000 | K23: {=_xlfn.XLOOKUP(I23,$R$4:$R$8,_xlfn.XLOOKUP(H23,$S$3:$U$3,$S$4:$U$8,,0),,-1)*J23} -> 3600 | R23: 6 | V23: 6
A24: 5073393 | B24: מיכאלה | C24: בן דרור | D24: TIMO5GH@yahoo.com | E24: 44491 | F24: 36 | G24: צפון | H24: עסקי | I24: 22 | J24: 6000 | K24: {=_xlfn.XLOOKUP(I24,$R$4:$R$8,_xlfn.XLOOKUP(H24,$S$3:$U$3,$S$4:$U$8,,0),,-1)*J24} -> 1200 | R24: 1 | V24: 1
A25: 3791707 | B25: ליאור | C25: עציץ | D25: BEXLDPPA11@ynet.co.il | E25: 40426 | F25: 32 | G25: דרום | H25: עסקי | I25: 113 | J25: 18750 | K25: {=_xlfn.XLOOKUP(I25,$R$4:$R$8,_xlfn.XLOOKUP(H25,$S$3:$U$3,$S$4:$U$8,,0),,-1)*J25} -> 6000 | R25: 0 | V25: 0
A26: 5609175 | B26: מיכאל | C26: דוידוביץ | D26: EAUDGT@colman.ac.il | E26: 39528 | F26: 33 | G26: צפון | H26: בסיסי | I26: 64 | J26: 36375 | K26: {=_xlfn.XLOOKUP(I26,$R$4:$R$8,_xlfn.XLOOKUP(H26,$S$3:$U$3,$S$4:$U$8,,0),,-1)*J26} -> 6547.5
A27: 5989536 | B27: דניאלה | C27: חיון | D27: ACDC1@ynet.co.il | E27: 39502 | F27: 52 | G27: צפון | H27: עסקי | I27: 28 | J27: 34750 | K27: {=_xlfn.XLOOKUP(I27,$R$4:$R$8,_xlfn.XLOOKUP(H27,$S$3:$U$3,$S$4:$U$8,,0),,-1)*J27} -> 6950
A28: 4100161 | B28: ליטל | C28: הלוי | D28: GH77JK@yahoo.com | E28: 43649 | F28: 21 | G28: מרכז | H28: בסיסי | I28: 88 | J28: 7125 | K28: {=_xlfn.XLOOKUP(I28,$R$4:$R$8,_xlfn.XLOOKUP(H28,$S$3:$U$3,$S$4:$U$8,,0),,-1)*J28} -> 1425
A29: 5763159 | B29: אדווה | C29: לוין | D29: XIJDGGVC@gmail.com | E29: 39551 | F29: 42 | G29: דרום | H29: פרמיום | I29: 103 | J29: 35175 | K29: {=_xlfn.XLOOKUP(I29,$R$4:$R$8,_xlfn.XLOOKUP(H29,$S$3:$U$3,$S$4:$U$8,,0),,-1)*J29} -> 7738.5
A30: 3539546 | B30: שרון | C30: הווארד | D30: RV7HQO33@ynet.co.il | E30: 39882 | F30: 19 | G30: מרכז | H30: בסיסי | I30: 59 | J30: 2625 | K30: {=_xlfn.XLOOKUP(I30,$R$4:$R$8,_xlfn.XLOOKUP(H30,$S$3:$U$3,$S$4:$U$8,,0),,-1)*J30} -> 472.5
A31: 5664243 | B31: יוני | C31: ניסים | D31: KIEAUDGT@colman.ac.il | E31: 44186 | F31: 58 | G31: מרכז | H31: פרמיום | I31: 58 | J31: 6500 | K31: {=_xlfn.XLOOKUP(I31,$R$4:$R$8,_xlfn.XLOOKUP(H31,$S$3:$U$3,$S$4:$U$8,,0),,-1)*J31} -> 1300
A32: 5678581 | B32: אורנה | C32: יצחקי | D32: YIDOJL@gmail.com | E32: 44265 | F32: 27 | G32: צפון | H32: בסיסי | I32: 110 | J32: 13000 | K32: {=_xlfn.XLOOKUP(I32,$R$4:$R$8,_xlfn.XLOOKUP(H32,$S$3:$U$3,$S$4:$U$8,,0),,-1)*J32} -> 3250
A33: 4220283 | B33: חני | C33: לבקוביץ | D33: MYG66YU@colman.ac.il | E33: 45228 | F33: 19 | G33: צפון | H33: עסקי | I33: 103 | J33: 15250 | K33: {=_xlfn.XLOOKUP(I33,$R$4:$R$8,_xlfn.XLOOKUP(H33,$S$3:$U$3,$S$4:$U$8,,0),,-1)*J33} -> 4270
A34: 3591027 | B34: לילך | C34: סונין | D34: GGHH77JK@yahoo.com | E34: 43436 | F34: 20 | G34: מרכז | H34: בסיסי | I34: 8 | J34: 16500 | K34: {=_xlfn.XLOOKUP(I34,$R$4:$R$8,_xlfn.XLOOKUP(H34,$S$3:$U$3,$S$4:$U$8,,0),,-1)*J34} -> 1980
A35: 4241247 | B35: אלון | C35: סוטון | D35: ELVLSUAM@gmail.com | E35: 44450 | F35: 65 | G35: מרכז | H35: בסיסי | I35: 14 | J35: 6625 | K35: {=_xlfn.XLOOKUP(I35,$R$4:$R$8,_xlfn.XLOOKUP(H35,$S$3:$U$3,$S$4:$U$8,,0),,-1)*J35} -> 795
A36: 4280247 | B36: רוית | C36: ישראל | D36: RAV77@ynet.co.il | E36: 45447 | F36: 40 | G36: מרכז | H36: פרמיום | I36: 56 | J36: 7500 | K36: {=_xlfn.XLOOKUP(I36,$R$4:$R$8,_xlfn.XLOOKUP(H36,$S$3:$U$3,$S$4:$U$8,,0),,-1)*J36} -> 1500
A38: שאלה 2 ב-
A39: =SUM(P2:P36) -> 0
B41: =A39 -> 0 | C41: 90000 | D41: 95000 | E41: 100000 | F41: 105000 | G41: 110000 | H41: 115000 | I41: 120000 | J41: 125000 | P41: שער האירו | Q41: 3.75 | R41: ממוצע חודשי ותק | T41: =AVERAGE($I$2:$I$36) -> 63.085714
B42: 0.005 | C42: 0 | D42: 0 | E42: 0 | F42: 0 | G42: 0 | H42: 0 | I42: 0 | J42: 0
B43: 0.0075 | C43: 0 | D43: 0 | E43: 0 | F43: 0 | G43: 0 | H43: 0 | I43: 0 | J43: 0 | P43: גיל | Q43: אזור מגורים | R43: מסלול לקוח | S43: מספר חודשי ותק | T43: משכורת חודשית ממוצעת באירו
B44: 0.01 | C44: 0 | D44: 0 | E44: 0 | F44: 0 | G44: 0 | H44: 0 | I44: 0 | J44: 0 | P44: >=18 | Q44: צפון
B45: 0.0125 | C45: 0 | D45: 0 | E45: 0 | F45: 0 | G45: 0 | H45: 0 | I45: 0 | J45: 0 | P45: >=18 | Q45: דרום
B46: 0.015 | C46: 0 | D46: 0 | E46: 0 | F46: 0 | G46: 0 | H46: 0 | I46: 0 | J46: 0 | T46: >5000
B47: 0.0175 | C47: 0 | D47: 0 | E47: 0 | F47: 0 | G47: 0 | H47: 0 | I47: 0 | J47: 0 | R47: פרמיום | S47: >63.0857142857143
B48: 0.02 | C48: 0 | D48: 0 | E48: 0 | F48: 0 | G48: 0 | H48: 0 | I48: 0 | J48: 0 | R48: עסקי | S48: >63.0857142857143
B49: 0.0225 | C49: 0 | D49: 0 | E49: 0 | F49: 0 | G49: 0 | H49: 0 | I49: 0 | J49: 0
B50: 0.025 | C50: 0 | D50: 0 | E50: 0 | F50: 0 | G50: 0 | H50: 0 | I50: 0 | J50: 0
B51: 0.0275 | C51: 0 | D51: 0 | E51: 0 | F51: 0 | G51: 0 | H51: 0 | I51: 0 | J51: 0
B52: 0.03 | C52: 0 | D52: 0 | E52: 0 | F52: 0 | G52: 0 | H52: 0 | I52: 0 | J52: 0

Sheet IF בתוך IF
A1: מספר משקיע | B1: שם המשקיע | C1: מעמד משקיע | D1: תחילת ההשקעה | E1: סכום השקעה ראשוני | F1: קרן השקעה | G1: דמי ניהול | H1: ערך השקעה נכון ליום 31/12/21 | I1: גידול השקעה בשקלים | J1: ערך השקעה לסוף שנת 2022 | K1: שווי מס מכירה בשקלים | L1: שם חודש תחילת השקעה במלל | M1: תאריך ביקורת דוחות | Y1: מתנה למשקיעים
A2: 1855 | B2: NI | C2: שכיר | D2: 43723 | E2: 2500 | F2: 10 | G2: 0.009 | H2: 16761.878 | I2: =(H2-E2)*'[4]נתונים נוספים'!$B$3 -> 44211.821 | J2: =H2*(1+$J$29)*(1-G2*$J$30) -> 19137.371 | K2: =VLOOKUP(F2,'[4]נתונים נוספים'!$A$7:$D$12,VLOOKUP([4]השקעות!C2,'[4]נתונים נוספים'!$F$7:$G$9,2,0),0)*'[4]נתונים נוספים'!$B$3*H2 -> 7794.2732 | L2: =TEXT(D2,"mmmm") -> ספטמבר | M2: =IF(AND(C2=$AA$34,E2<$AA$35),DATE(YEAR(D2)+$AA$36,MONTH(D2)+$AA$37,$AA$38),IF(OR(F2=$AA$43,F2=$AA$44),DATE($AA$39,$AA$40,DAY(D2)),DATE(YEAR(D2),MONTH(D2)+$AA$41,DAY(D2)+$AA$42))) -> 44469 | AA2: תנאי 1
A3: 1856 | B3: KF | C3: עצמאי | D3: 42075 | E3: 146726 | F3: 13 | G3: 0.0029 | H3: 214094.11 | I3: =(H3-E3)*'[4]נתונים נוספים'!$B$3 -> 208841.15 | J3: =H3*(1+$J$29)*(1-G3*$J$30) -> 245637.03 | K3: =VLOOKUP(F3,'[4]נתונים נוספים'!$A$7:$D$12,VLOOKUP([4]השקעות!C3,'[4]נתונים נוספים'!$F$7:$G$9,2,0),0)*'[4]נתונים נוספים'!$B$3*H3 -> 142693.73 | L3: =TEXT(D3,"mmmm") -> מרץ | M3: =IF(AND(C3=$AA$34,E3<$AA$35),DATE(YEAR(D3)+$AA$36,MONTH(D3)+$AA$37,$AA$38),IF(OR(F3=$AA$43,F3=$AA$44),DATE($AA$39,$AA$40,DAY(D3)),DATE(YEAR(D3),MONTH(D3)+$AA$41,DAY(D3)+$AA$42))) -> 42332 | AA3: עצמאי | AE3: עצמאי
A4: 1857 | B4: CC | C4: שכיר | D4: 43007 | E4: 253094 | F4: 10 | G4: 0.006 | H4: 307637.34 | I4: =(H4-E4)*'[4]נתונים נוספים'!$B$3 -> 169084.35 | J4: =H4*(1+$J$29)*(1-G4*$J$30) -> 352084.78 | K4: =VLOOKUP(F4,'[4]נתונים נוספים'!$A$7:$D$12,VLOOKUP([4]השקעות!C4,'[4]נתונים נוספים'!$F$7:$G$9,2,0),0)*'[4]נתונים נוספים'!$B$3*H4 -> 143051.36 | L4: =TEXT(D4,"mmmm") -> ספטמבר | M4: =IF(AND(C4=$AA$34,E4<$AA$35),DATE(YEAR(D4)+$AA$36,MONTH(D4)+$AA$37,$AA$38),IF(OR(F4=$AA$43,F4=$AA$44),DATE($AA$39,$AA$40,DAY(D4)),DATE(YEAR(D4),MONTH(D4)+$AA$41,DAY(D4)+$AA$42))) -> 43261 | AA4: 65000 | AB4: חופשה באילת | AE4: 65000
A5: 1858 | B5: BJ | C5: שכיר | D5: 42367 | E5: 70131 | F5: 14 | G5: 0.001 | H5: 332458.1 | I5: =(H5-E5)*'[4]נתונים נוספים'!$B$3 -> 813214.01 | J5: =H5*(1+$J$29)*(1-G5*$J$30) -> 382020.95 | K5: =VLOOKUP(F5,'[4]נתונים נוספים'!$A$7:$D$12,VLOOKUP([4]השקעות!C5,'[4]נתונים נוספים'!$F$7:$G$9,2,0),0)*'[4]נתונים נוספים'!$B$3*H5 -> 164899.22 | L5: =TEXT(D5,"mmmm") -> דצמבר | M5: =IF(AND(C5=$AA$34,E5<$AA$35),DATE(YEAR(D5)+$AA$36,MONTH(D5)+$AA$37,$AA$38),IF(OR(F5=$AA$43,F5=$AA$44),DATE($AA$39,$AA$40,DAY(D5)),DATE(YEAR(D5),MONTH(D5)+$AA$41,DAY(D5)+$AA$42))) -> 44649 | AE5: חופשה באילת
A6: 1859 | B6: DE | C6: שכיר | D6: 43866 | E6: 63372 | F6: 15 | G6: 0.001 | H6: 1229262 | I6: =(H6-E6)*'[4]נתונים נוספים'!$B$3 -> 3614258.9 | J6: =H6*(1+$J$29)*(1-G6*$J$30) -> 1412520.4 | K6: =VLOOKUP(F6,'[4]נתונים נוספים'!$A$7:$D$12,VLOOKUP([4]השקעות!C6,'[4]נתונים נוספים'!$F$7:$G$9,2,0),0)*'[4]נתונים נוספים'!$B$3*H6 -> 819303.11 | L6: =TEXT(D6,"mmmm") -> פברואר | M6: =IF(AND(C6=$AA$34,E6<$AA$35),DATE(YEAR(D6)+$AA$36,MONTH(D6)+$AA$37,$AA$38),IF(OR(F6=$AA$43,F6=$AA$44),DATE($AA$39,$AA$40,DAY(D6)),DATE(YEAR(D6),MONTH(D6)+$AA$41,DAY(D6)+$AA$42))) -> 44625
A7: 1860 | B7: BP | C7: עצמאי | D7: 43604 | E7: 72483 | F7: 15 | G7: 0.001 | H7: 1877660.4 | I7: =(H7-E7)*'[4]נתונים נוספים'!$B$3 -> 5596050 | J7: =H7*(1+$J$29)*(1-G7*$J$30) -> 2157582 | K7: =VLOOKUP(F7,'[4]נתונים נוספים'!$A$7:$D$12,VLOOKUP([4]השקעות!C7,'[4]נתונים נוספים'!$F$7:$G$9,2,0),0)*'[4]נתונים נוספים'!$B$3*H7 -> 582074.73 | L7: =TEXT(D7,"mmmm") -> מאי | M7: =IF(AND(C7=$AA$34,E7<$AA$35),DATE(YEAR(D7)+$AA$36,MONTH(D7)+$AA$37,$AA$38),IF(OR(F7=$AA$43,F7=$AA$44),DATE($AA$39,$AA$40,DAY(D7)),DATE(YEAR(D7),MONTH(D7)+$AA$41,DAY(D7)+$AA$42))) -> 44639 | AE7: 65000
A8: 1861 | B8: CK | C8: עצמאי | D8: 42562 | E8: 108877 | F8: 13 | G8: 0.0029 | H8: 986671.12 | I8: =(H8-E8)*'[4]נתונים נוספים'!$B$3 -> 2721161.8 | J8: =H8*(1+$J$29)*(1-G8*$J$30) -> 1132039.4 | K8: =VLOOKUP(F8,'[4]נתונים נוספים'!$A$7:$D$12,VLOOKUP([4]השקעות!C8,'[4]נתונים נוספים'!$F$7:$G$9,2,0),0)*'[4]נתונים נוספים'!$B$3*H8 -> 657616.3 | L8: =TEXT(D8,"mmmm") -> יולי | M8: =IF(AND(C8=$AA$34,E8<$AA$35),DATE(YEAR(D8)+$AA$36,MONTH(D8)+$AA$37,$AA$38),IF(OR(F8=$AA$43,F8=$AA$44),DATE($AA$39,$AA$40,DAY(D8)),DATE(YEAR(D8),MONTH(D8)+$AA$41,DAY(D8)+$AA$42))) -> 42817 | AA8: תנאי 2 | AE8: חופשה בפריז
A9: 1862 | B9: JK | C9: עצמאי | D9: 44321 | E9: 96681 | F9: 10 | G9: 0.007 | H9: 191421.77 | I9: =(H9-E9)*'[4]נתונים נוספים'!$B$3 -> 293696.38 | J9: =H9*(1+$J$29)*(1-G9*$J$30) -> 218902.28 | K9: =VLOOKUP(F9,'[4]נתונים נוספים'!$A$7:$D$12,VLOOKUP([4]השקעות!C9,'[4]נתונים נוספים'!$F$7:$G$9,2,0),0)*'[4]נתונים נוספים'!$B$3*H9 -> 89011.122 | L9: =TEXT(D9,"mmmm") -> מאי | M9: =IF(AND(C9=$AA$34,E9<$AA$35),DATE(YEAR(D9)+$AA$36,MONTH(D9)+$AA$37,$AA$38),IF(OR(F9=$AA$43,F9=$AA$44),DATE($AA$39,$AA$40,DAY(D9)),DATE(YEAR(D9),MONTH(D9)+$AA$41,DAY(D9)+$AA$42))) -> 44578 | AA9: שכיר
A10: 1863 | B10: DJ | C10: עצמאי | D10: 43400 | E10: 66590 | F10: 15 | G10: 0.001 | H10: 377756.68 | I10: =(H10-E10)*'[4]נתונים נוספים'!$B$3 -> 964616.72 | J10: =H10*(1+$J$29)*(1-G10*$J$30) -> 434072.65 | K10: =VLOOKUP(F10,'[4]נתונים נוספים'!$A$7:$D$12,VLOOKUP([4]השקעות!C10,'[4]נתונים נוספים'!$F$7:$G$9,2,0),0)*'[4]נתונים נוספים'!$B$3*H10 -> 117104.57 | L10: =TEXT(D10,"mmmm") -> אוקטובר | M10: =IF(AND(C10=$AA$34,E10<$AA$35),DATE(YEAR(D10)+$AA$36,MONTH(D10)+$AA$37,$AA$38),IF(OR(F10=$AA$43,F10=$AA$44),DATE($AA$39,$AA$40,DAY(D10)),DATE(YEAR(D10),MONTH(D10)+$AA$41,DAY(D10)+$AA$42))) -> 44647 | AA10: 2013 | AB10: כרטיס להופעה | AE10: שכיר
A11: 1864 | B11: LB | C11: בעל שליטה | D11: 43977 | E11: 224708 | F11: 10 | G11: 0.006 | H11: 3453180.5 | I11: =(H11-E11)*'[4]נתונים נוספים'!$B$3 -> 10008265 | J11: =H11*(1+$J$29)*(1-G11*$J$30) -> 3952096 | K11: =VLOOKUP(F11,'[4]נתונים נוספים'!$A$7:$D$12,VLOOKUP([4]השקעות!C11,'[4]נתונים נוספים'!$F$7:$G$9,2,0),0)*'[4]נתונים נוספים'!$B$3*H11 -> 1070486 | L11: =TEXT(D11,"mmmm") -> מאי | M11: =IF(AND(C11=$AA$34,E11<$AA$35),DATE(YEAR(D11)+$AA$36,MONTH(D11)+$AA$37,$AA$38),IF(OR(F11=$AA$43,F11=$AA$44),DATE($AA$39,$AA$40,DAY(D11)),DATE(YEAR(D11),MONTH(D11)+$AA$41,DAY(D11)+$AA$42))) -> 44234 | AE11: 2013 | AF11: כרטיס להופעה
A12: 1865 | B12: LM | C12: שכיר | D12: 44029 | E12: 49492 | F12: 14 | G12: 0.0011 | H12: 2044762.1 | I12: =(H12-E12)*'[4]נתונים נוספים'!$B$3 -> 6185337.2 | J12: =H12*(1+$J$29)*(1-G12*$J$30) -> 2349407.1 | K12: =VLOOKUP(F12,'[4]נתונים נוספים'!$A$7:$D$12,VLOOKUP([4]השקעות!C12,'[4]נתונים נוספים'!$F$7:$G$9,2,0),0)*'[4]נתונים נוספים'!$B$3*H12 -> 1014202 | L12: =TEXT(D12,"mmmm") -> יולי | M12: =IF(AND(C12=$AA$34,E12<$AA$35),DATE(YEAR(D12)+$AA$36,MONTH(D12)+$AA$37,$AA$38),IF(OR(F12=$AA$43,F12=$AA$44),DATE($AA$39,$AA$40,DAY(D12)),DATE(YEAR(D12),MONTH(D12)+$AA$41,DAY(D12)+$AA$42))) -> 44773 | AE12: 2016 | AF12: סט סירים
A13: 1866 | B13: BK | C13: שכיר | D13: 40661 | E13: 76982 | F13: 13 | G13: 0.0039 | H13: 2617985.4 | I13: =(H13-E13)*'[4]נתונים נוספים'!$B$3 -> 7877110.6 | J13: =H13*(1+$J$29)*(1-G13*$J$30) -> 3001289.9 | K13: =VLOOKUP(F13,'[4]נתונים נוספים'!$A$7:$D$12,VLOOKUP([4]השקעות!C13,'[4]נתונים נוספים'!$F$7:$G$9,2,0),0)*'[4]נתונים נוספים'!$B$3*H13 -> 1866623.6 | L13: =TEXT(D13,"mmmm") -> אפריל | M13: =IF(AND(C13=$AA$34,E13<$AA$35),DATE(YEAR(D13)+$AA$36,MONTH(D13)+$AA$37,$AA$38),IF(OR(F13=$AA$43,F13=$AA$44),DATE($AA$39,$AA$40,DAY(D13)),DATE(YEAR(D13),MONTH(D13)+$AA$41,DAY(D13)+$AA$42))) -> 40917 | AA13: כל יתר המשקיעים: | AF13: תווי קנייה
A14: 1867 | B14: DK | C14: בעל שליטה | D14: 40434 | E14: 184883 | F14: 10 | G14: 0.006 | H14: 2226133.6 | I14: =(H14-E14)*'[4]נתונים נוספים'!$B$3 -> 6327877 | J14: =H14*(1+$J$29)*(1-G14*$J$30) -> 2547765.4 | K14: =VLOOKUP(F14,'[4]נתונים נוספים'!$A$7:$D$12,VLOOKUP([4]השקעות!C14,'[4]נתונים נוספים'!$F$7:$G$9,2,0),0)*'[4]נתונים נוספים'!$B$3*H14 -> 690101.43 | L14: =TEXT(D14,"mmmm") -> ספטמבר | M14: =IF(AND(C14=$AA$34,E14<$AA$35),DATE(YEAR(D14)+$AA$36,MONTH(D14)+$AA$37,$AA$38),IF(OR(F14=$AA$43,F14=$AA$44),DATE($AA$39,$AA$40,DAY(D14)),DATE(YEAR(D14),MONTH(D14)+$AA$41,DAY(D14)+$AA$42))) -> 40688 | AA14: ללא מתנה
A15: 1868 | B15: KL | C15: בעל שליטה | D15: 41924 | E15: 8780 | F15: 10 | G15: 0.009 | H15: 122381.75 | I15: =(H15-E15)*'[4]נתונים נוספים'!$B$3 -> 352165.43 | J15: =H15*(1+$J$29)*(1-G15*$J$30) -> 139725.69 | K15: =VLOOKUP(F15,'[4]נתונים נוספים'!$A$7:$D$12,VLOOKUP([4]השקעות!C15,'[4]נתונים נוספים'!$F$7:$G$9,2,0),0)*'[4]נתונים נוספים'!$B$3*H15 -> 37938.343 | L15: =TEXT(D15,"mmmm") -> אוקטובר | M15: =IF(AND(C15=$AA$34,E15<$AA$35),DATE(YEAR(D15)+$AA$36,MONTH(D15)+$AA$37,$AA$38),IF(OR(F15=$AA$43,F15=$AA$44),DATE($AA$39,$AA$40,DAY(D15)),DATE(YEAR(D15),MONTH(D15)+$AA$41,DAY(D15)+$AA$42))) -> 42179
A16: 1869 | B16: NE | C16: שכיר | D16: 41231 | E16: 46900 | F16: 14 | G16: 0.0011 | H16: 80582.932 | I16: =(H16-E16)*'[4]נתונים נוספים'!$B$3 -> 104417.09 | J16: =H16*(1+$J$29)*(1-G16*$J$30) -> 92588.822 | K16: =VLOOKUP(F16,'[4]נתונים נוספים'!$A$7:$D$12,VLOOKUP([4]השקעות!C16,'[4]נתונים נוספים'!$F$7:$G$9,2,0),0)*'[4]נתונים נוספים'!$B$3*H16 -> 39969.134 | L16: =TEXT(D16,"mmmm") -> נובמבר | M16: =IF(AND(C16=$AA$34,E16<$AA$35),DATE(YEAR(D16)+$AA$36,MONTH(D16)+$AA$37,$AA$38),IF(OR(F16=$AA$43,F16=$AA$44),DATE($AA$39,$AA$40,DAY(D16)),DATE(YEAR(D16),MONTH(D16)+$AA$41,DAY(D16)+$AA$42))) -> 41973 | AE16: ללא מתנה
A17: 1870 | B17: MK | C17: שכיר | D17: 41419 | E17: 162174 | F17: 14 | G17: 0.0008 | H17: 1078268.7 | I17: =(H17-E17)*'[4]נתונים נוספים'!$B$3 -> 2839893.6 | J17: =H17*(1+$J$29)*(1-G17*$J$30) -> 1239215.4 | K17: =VLOOKUP(F17,'[4]נתונים נוספים'!$A$7:$D$12,VLOOKUP([4]השקעות!C17,'[4]נתונים נוספים'!$F$7:$G$9,2,0),0)*'[4]נתונים נוספים'!$B$3*H17 -> 534821.28 | L17: =TEXT(D17,"mmmm") -> מאי | M17: =IF(AND(C17=$AA$34,E17<$AA$35),DATE(YEAR(D17)+$AA$36,MONTH(D17)+$AA$37,$AA$38),IF(OR(F17=$AA$43,F17=$AA$44),DATE($AA$39,$AA$40,DAY(D17)),DATE(YEAR(D17),MONTH(D17)+$AA$41,DAY(D17)+$AA$42))) -> 44645
A18: 1871 | B18: OI | C18: שכיר | D18: 41617 | E18: 10321 | F18: 14 | G18: 0.0011 | H18: 372444.87 | I18: =(H18-E18)*'[4]נתונים נוספים'!$B$3 -> 1122584 | J18: =H18*(1+$J$29)*(1-G18*$J$30) -> 427934.68 | K18: =VLOOKUP(F18,'[4]נתונים נוספים'!$A$7:$D$12,VLOOKUP([4]השקעות!C18,'[4]נתונים נוספים'!$F$7:$G$9,2,0),0)*'[4]נתונים נוספים'!$B$3*H18 -> 184732.65 | L18: =TEXT(D18,"mmmm") -> דצמבר | M18: =IF(AND(C18=$AA$34,E18<$AA$35),DATE(YEAR(D18)+$AA$36,MONTH(D18)+$AA$37,$AA$38),IF(OR(F18=$AA$43,F18=$AA$44),DATE($AA$39,$AA$40,DAY(D18)),DATE(YEAR(D18),MONTH(D18)+$AA$41,DAY(D18)+$AA$42))) -> 42369
A19: 1872 | B19: FD | C19: שכיר | D19: 43638 | E19: 56091 | F19: 15 | G19: 0.001 | H19: 1453028.3 | I19: =(H19-E19)*'[4]נתונים נוספים'!$B$3 -> 4330505.6 | J19: =H19*(1+$J$29)*(1-G19*$J$30) -> 1669645.8 | K19: =VLOOKUP(F19,'[4]נתונים נוספים'!$A$7:$D$12,VLOOKUP([4]השקעות!C19,'[4]נתונים נוספים'!$F$7:$G$9,2,0),0)*'[4]נתונים נוספים'!$B$3*H19 -> 968443.36 | L19: =TEXT(D19,"mmmm") -> יוני | M19: =IF(AND(C19=$AA$34,E19<$AA$35),DATE(YEAR(D19)+$AA$36,MONTH(D19)+$AA$37,$AA$38),IF(OR(F19=$AA$43,F19=$AA$44),DATE($AA$39,$AA$40,DAY(D19)),DATE(YEAR(D19),MONTH(D19)+$AA$41,DAY(D19)+$AA$42))) -> 44642
A20: 1873 | B20: KD | C20: עצמאי | D20: 43291 | E20: 12866 | F20: 10 | G20: 0.008 | H20: 133822.74 | I20: =(H20-E20)*'[4]נתונים נוספים'!$B$3 -> 374965.88 | J20: =H20*(1+$J$29)*(1-G20*$J$30) -> 152911.21 | K20: =VLOOKUP(F20,'[4]נתונים נוספים'!$A$7:$D$12,VLOOKUP([4]השקעות!C20,'[4]נתונים נוספים'!$F$7:$G$9,2,0),0)*'[4]נתונים נוספים'!$B$3*H20 -> 62227.572 | L20: =TEXT(D20,"mmmm") -> יולי | M20: =IF(AND(C20=$AA$34,E20<$AA$35),DATE(YEAR(D20)+$AA$36,MONTH(D20)+$AA$37,$AA$38),IF(OR(F20=$AA$43,F20=$AA$44),DATE($AA$39,$AA$40,DAY(D20)),DATE(YEAR(D20),MONTH(D20)+$AA$41,DAY(D20)+$AA$42))) -> 43546
A21: 1874 | B21: EL | C21: עצמאי | D21: 43282 | E21: 71270 | F21: 13 | G21: 0.0039 | H21: 142479.52 | I21: =(H21-E21)*'[4]נתונים נוספים'!$B$3 -> 220749.51 | J21: =H21*(1+$J$29)*(1-G21*$J$30) -> 163340.23 | K21: =VLOOKUP(F21,'[4]נתונים נוספים'!$A$7:$D$12,VLOOKUP([4]השקעות!C21,'[4]נתונים נוספים'!$F$7:$G$9,2,0),0)*'[4]נתונים נוספים'!$B$3*H21 -> 94962.6 | L21: =TEXT(D21,"mmmm") -> יולי | M21: =IF(AND(C21=$AA$34,E21<$AA$35),DATE(YEAR(D21)+$AA$36,MONTH(D21)+$AA$37,$AA$38),IF(OR(F21=$AA$43,F21=$AA$44),DATE($AA$39,$AA$40,DAY(D21)),DATE(YEAR(D21),MONTH(D21)+$AA$41,DAY(D21)+$AA$42))) -> 43537
A22: 1875 | B22: KK | C22: עצמאי | D22: 43497 | E22: 10129 | F22: 14 | G22: 0.0011 | H22: 22812.449 | I22: =(H22-E22)*'[4]נתונים נוספים'!$B$3 -> 39318.691 | J22: =H22*(1+$J$29)*(1-G22*$J$30) -> 26211.23 | K22: =VLOOKUP(F22,'[4]נתונים נוספים'!$A$7:$D$12,VLOOKUP([4]השקעות!C22,'[4]נתונים נוספים'!$F$7:$G$9,2,0),0)*'[4]נתונים נוספים'!$B$3*H22 -> 10607.789 | L22: =TEXT(D22,"mmmm") -> פברואר | M22: =IF(AND(C22=$AA$34,E22<$AA$35),DATE(YEAR(D22)+$AA$36,MONTH(D22)+$AA$37,$AA$38),IF(OR(F22=$AA$43,F22=$AA$44),DATE($AA$39,$AA$40,DAY(D22)),DATE(YEAR(D22),MONTH(D22)+$AA$41,DAY(D22)+$AA$42))) -> 44621
A23: 1876 | B23: MC | C23: בעל שליטה | D23: 42752 | E23: 143689 | F23: 13 | G23: 0.0029 | H23: 1900016.8 | I23: =(H23-E23)*'[4]נתונים נוספים'!$B$3 -> 5444616.2 | J23: =H23*(1+$J$29)*(1-G23*$J$30) -> 2179950.1 | K23: =VLOOKUP(F23,'[4]נתונים נוספים'!$A$7:$D$12,VLOOKUP([4]השקעות!C23,'[4]נתונים נוספים'!$F$7:$G$9,2,0),0)*'[4]נתונים נוספים'!$B$3*H23 -> 1266361.2 | L23: =TEXT(D23,"mmmm") -> ינואר | M23: =IF(AND(C23=$AA$34,E23<$AA$35),DATE(YEAR(D23)+$AA$36,MONTH(D23)+$AA$37,$AA$38),IF(OR(F23=$AA$43,F23=$AA$44),DATE($AA$39,$AA$40,DAY(D23)),DATE(YEAR(D23),MONTH(D23)+$AA$41,DAY(D23)+$AA$42))) -> 43007
A24: 1877 | B24: FJ | C24: בעל שליטה | D24: 43140 | E24: 25719 | F24: 12 | G24: 0.0058 | H24: 186489.12 | I24: =(H24-E24)*'[4]נתונים נוספים'!$B$3 -> 498387.37 | J24: =H24*(1+$J$29)*(1-G24*$J$30) -> 213467.38 | K24: =VLOOKUP(F24,'[4]נתונים נוספים'!$A$7:$D$12,VLOOKUP([4]השקעות!C24,'[4]נתונים נוספים'!$F$7:$G$9,2,0),0)*'[4]נתונים נוספים'!$B$3*H24 -> 132966.74 | L24: =TEXT(D24,"mmmm") -> פברואר | M24: =IF(AND(C24=$AA$34,E24<$AA$35),DATE(YEAR(D24)+$AA$36,MONTH(D24)+$AA$37,$AA$38),IF(OR(F24=$AA$43,F24=$AA$44),DATE($AA$39,$AA$40,DAY(D24)),DATE(YEAR(D24),MONTH(D24)+$AA$41,DAY(D24)+$AA$42))) -> 43394
A25: 1878 | B25: AI | C25: שכיר | D25: 42629 | E25: 215746 | F25: 14 | G25: 0.0008 | H25: 1094342.9 | I25: =(H25-E25)*'[4]נתונים נוספים'!$B$3 -> 2723650.3 | J25: =H25*(1+$J$29)*(1-G25*$J$30) -> 1257688.9 | K25: =VLOOKUP(F25,'[4]נתונים נוספים'!$A$7:$D$12,VLOOKUP([4]השקעות!C25,'[4]נתונים נוספים'!$F$7:$G$9,2,0),0)*'[4]נתונים נוספים'!$B$3*H25 -> 542794.07 | L25: =TEXT(D25,"mmmm") -> ספטמבר | M25: =IF(AND(C25=$AA$34,E25<$AA$35),DATE(YEAR(D25)+$AA$36,MONTH(D25)+$AA$37,$AA$38),IF(OR(F25=$AA$43,F25=$AA$44),DATE($AA$39,$AA$40,DAY(D25)),DATE(YEAR(D25),MONTH(D25)+$AA$41,DAY(D25)+$AA$42))) -> 44636
A26: 1879 | B26: GI | C26: בעל שליטה | D26: 40875 | E26: 131191 | F26: 10 | G26: 0.006 | H26: 203520.3 | I26: =(H26-E26)*'[4]נתונים נוספים'!$B$3 -> 224220.83 | J26: =H26*(1+$J$29)*(1-G26*$J$30) -> 232924.91 | K26: =VLOOKUP(F26,'[4]נתונים נוספים'!$A$7:$D$12,VLOOKUP([4]השקעות!C26,'[4]נתונים נוספים'!$F$7:$G$9,2,0),0)*'[4]נתונים נוספים'!$B$3*H26 -> 63091.293 | L26: =TEXT(D26,"mmmm") -> נובמבר | M26: =IF(AND(C26=$AA$34,E26<$AA$35),DATE(YEAR(D26)+$AA$36,MONTH(D26)+$AA$37,$AA$38),IF(OR(F26=$AA$43,F26=$AA$44),DATE($AA$39,$AA$40,DAY(D26)),DATE(YEAR(D26),MONTH(D26)+$AA$41,DAY(D26)+$AA$42))) -> 41130
D29: =MIN(M2:M26) -> 40688 | J29: 0.15
J30: 0.8
B31: =INDEX(B2:B26,MATCH(MAX(H2:H26),H2:H26,0),1) -> LB
AB33: 2013
AA34: שכיר | AB34: שכיר
A35: 10000 | B35: {=FREQUENCY(E2:E26,A35:A38)} -> 2 | AA35: 55000 | AB35: עצמאי
A36: 30000 | B36: 4 | AA36: 2 | AB36: 65000
A37: 50000 | B37: 2 | AA37: 1 | AB37: חופשה באילת
A38: 70000 | B38: 3 | AA38: 0 | AB38: חופשה בפריז
B39: 14 | M39: חופשה בפריז | AA39: 2022 | AB39: 2012
AA40: 3 | AB40: 2016
AA41: 8 | AB41: כרטיס להופעה
AA42: 12 | AB42: סט סירים
AA43: 14 | AB43: תווי קניה
AA44: 15 | AB44: ללא מתנה
K45: תווי קניה | L45: 2016 | M45: סט סירים

Sheet סינון מתקדם
A1: מספר ת.ז | B1: שם פרטי | C1: שם משפחה | D1: כתובת דוא"ל | E1: תאריך הצטרפות | F1: גיל | G1: אזור מגורים | H1: מסלול לקוח | I1: מספר חודשי ותק | J1: משכורת חודשית ממוצעת בש"ח | K1: מענק ללקוח בשח | L1: תאריך משיכת מענק | M1: פתרון סופי רועי | N1: בשנת 2025 ביום העשירי בחודש הקודם | O1: שש שנים לאחר ההצטרפות וביום האחרון | P1: בונוס לעובד
A2: 6056565 | B2: צחי | C2: כהן | D2: JXIELUBY@colman.ac.il | E2: 43604 | F2: 23 | G2: מרכז | H2: בסיסי | I2: 60 | J2: 15750 | K2: {=_xlfn.XLOOKUP(I2,$U$4:$U$8,_xlfn.XLOOKUP(H2,$V$3:$X$3,$V$4:$X$8,,0),,-1)*J2} -> 2835 | L2: =IF(YEAR(E2)<$U$19,DATE($U$20,MONTH(E2)-$U$22,$U$21),DATE(YEAR(E2)+$U$23,MONTH(E2)+$U$24,$U$25)) -> 45757 | M2: =IF(YEAR(E2)<$Y$19,N2,O2) -> 45757 | N2: =DATE($Y$20,MONTH(E2)-$Y$22,$Y$21) -> 45757 | O2: =DATE(YEAR(E2)+$Y$23,MONTH(E2)+$Y$24,$Y$25) -> 45808 | P2: =(J2-_xlfn.XLOOKUP(J2,$U$12:$U$16,$U$12:$U$16,,-1))*_xlfn.XLOOKUP(J2,$U$12:$U$16,$V$12:$V$16,,-1)+_xlfn.XLOOKUP(J2,$U$12:$U$16,$W$12:$W$16,,-1) -> 480 | U2: טבלת מספר 1: | AA2: ממועד ב 2025 | AE2: גיל | AF2: גיל | AG2: אזור מגורים | AH2: שכר באירו | AI2: מספר חודשי ותק | AJ2: מסלול לקוח
A3: 4430571 | B3: אורן | C3: וידר | D3: RFANLGI22@gmail.com | E3: 43504 | F3: 34 | G3: מרכז | H3: פרמיום | I3: 95 | J3: 12750 | K3: {=_xlfn.XLOOKUP(I3,$U$4:$U$8,_xlfn.XLOOKUP(H3,$V$3:$X$3,$V$4:$X$8,,0),,-1)*J3} -> 2805 | L3: =IF(YEAR(E3)<$U$19,DATE($U$20,MONTH(E3)-$U$22,$U$21),DATE(YEAR(E3)+$U$23,MONTH(E3)+$U$24,$U$25)) -> 45667 | M3: =IF(YEAR(E3)<$Y$19,N3,O3) -> 45667 | N3: =DATE($Y$20,MONTH(E3)-$Y$22,$Y$21) -> 45667 | O3: =DATE(YEAR(E3)+$Y$23,MONTH(E3)+$Y$24,$Y$25) -> 45716 | P3: =(J3-_xlfn.XLOOKUP(J3,$U$12:$U$16,$U$12:$U$16,,-1))*_xlfn.XLOOKUP(J3,$U$12:$U$16,$V$12:$V$16,,-1)+_xlfn.XLOOKUP(J3,$U$12:$U$16,$W$12:$W$16,,-1) -> 360 | U3: חודשי ותק/מסלול | V3: בסיסי | W3: פרמיום | X3: עסקי | AE3: <=23 | AF3: >=18 | AG3: צפון
A4: 3427449 | B4: בני | C4: קוזניץ | D4: BD12BUB@colman.ac.il | E4: 43166 | F4: 47 | G4: צפון | H4: עסקי | I4: 31 | J4: 114000 | K4: {=_xlfn.XLOOKUP(I4,$U$4:$U$8,_xlfn.XLOOKUP(H4,$V$3:$X$3,$V$4:$X$8,,0),,-1)*J4} -> 22800 | L4: =IF(YEAR(E4)<$U$19,DATE($U$20,MONTH(E4)-$U$22,$U$21),DATE(YEAR(E4)+$U$23,MONTH(E4)+$U$24,$U$25)) -> 45698 | M4: =IF(YEAR(E4)<$Y$19,N4,O4) -> 45698 | N4: =DATE($Y$20,MONTH(E4)-$Y$22,$Y$21) -> 45698 | O4: =DATE(YEAR(E4)+$Y$23,MONTH(E4)+$Y$24,$Y$25) -> 45382 | P4: =(J4-_xlfn.XLOOKUP(J4,$U$12:$U$16,$U$12:$U$16,,-1))*_xlfn.XLOOKUP(J4,$U$12:$U$16,$V$12:$V$16,,-1)+_xlfn.XLOOKUP(J4,$U$12:$U$16,$W$12:$W$16,,-1) -> 7250 | U4: 0 | V4: 0.12 | W4: 0.14 | X4: 0.16 | AE4: <=23 | AF4: >=18 | AG4: דרום
A5: 5830124 | B5: צביקה | C5: אברמוביץ | D5: R5HJ9DT@gmail.com | E5: 44132 | F5: 26 | G5: דרום | H5: עסקי | I5: 26 | J5: 77500 | K5: {=_xlfn.XLOOKUP(I5,$U$4:$U$8,_xlfn.XLOOKUP(H5,$V$3:$X$3,$V$4:$X$8,,0),,-1)*J5} -> 15500 | L5: =IF(YEAR(E5)<$U$19,DATE($U$20,MONTH(E5)-$U$22,$U$21),DATE(YEAR(E5)+$U$23,MONTH(E5)+$U$24,$U$25)) -> 46326 | M5: =IF(YEAR(E5)<$Y$19,N5,O5) -> 46326 | N5: =DATE($Y$20,MONTH(E5)-$Y$22,$Y$21) -> 45910 | O5: =DATE(YEAR(E5)+$Y$23,MONTH(E5)+$Y$24,$Y$25) -> 46326 | P5: =(J5-_xlfn.XLOOKUP(J5,$U$12:$U$16,$U$12:$U$16,,-1))*_xlfn.XLOOKUP(J5,$U$12:$U$16,$V$12:$V$16,,-1)+_xlfn.XLOOKUP(J5,$U$12:$U$16,$W$12:$W$16,,-1) -> 4162.5 | U5: 15 | V5: 0.15 | W5: 0.18 | X5: 0.2 | AH5: >5000
A6: 3192167 | B6: חן | C6: אבני | D6: JXI45LUBY@colman.ac.il | E6: 44493 | F6: 57 | G6: דרום | H6: עסקי | I6: 99 | J6: 63000 | K6: {=_xlfn.XLOOKUP(I6,$U$4:$U$8,_xlfn.XLOOKUP(H6,$V$3:$X$3,$V$4:$X$8,,0),,-1)*J6} -> 17640 | L6: =IF(YEAR(E6)<$U$19,DATE($U$20,MONTH(E6)-$U$22,$U$21),DATE(YEAR(E6)+$U$23,MONTH(E6)+$U$24,$U$25)) -> 46691 | M6: =IF(YEAR(E6)<$Y$19,N6,O6) -> 46691 | N6: =DATE($Y$20,MONTH(E6)-$Y$22,$Y$21) -> 45910 | O6: =DATE(YEAR(E6)+$Y$23,MONTH(E6)+$Y$24,$Y$25) -> 46691 | P6: =(J6-_xlfn.XLOOKUP(J6,$U$12:$U$16,$U$12:$U$16,,-1))*_xlfn.XLOOKUP(J6,$U$12:$U$16,$V$12:$V$16,,-1)+_xlfn.XLOOKUP(J6,$U$12:$U$16,$W$12:$W$16,,-1) -> 3075 | U6: 40 | V6: 0.18 | W6: 0.2 | X6: 0.25 | AI6: >63.08 | AJ6: פרמיום
A7: 5145835 | B7: משה | C7: לוי | D7: GILIUU8@gmail.com | E7: 43978 | F7: 48 | G7: מרכז | H7: בסיסי | I7: 75 | J7: 30125 | K7: {=_xlfn.XLOOKUP(I7,$U$4:$U$8,_xlfn.XLOOKUP(H7,$V$3:$X$3,$V$4:$X$8,,0),,-1)*J7} -> 6025 | L7: =IF(YEAR(E7)<$U$19,DATE($U$20,MONTH(E7)-$U$22,$U$21),DATE(YEAR(E7)+$U$23,MONTH(E7)+$U$24,$U$25)) -> 46173 | M7: =IF(YEAR(E7)<$Y$19,N7,O7) -> 46173 | N7: =DATE($Y$20,MONTH(E7)-$Y$22,$Y$21) -> 45757 | O7: =DATE(YEAR(E7)+$Y$23,MONTH(E7)+$Y$24,$Y$25) -> 46173 | P7: =(J7-_xlfn.XLOOKUP(J7,$U$12:$U$16,$U$12:$U$16,,-1))*_xlfn.XLOOKUP(J7,$U$12:$U$16,$V$12:$V$16,,-1)+_xlfn.XLOOKUP(J7,$U$12:$U$16,$W$12:$W$16,,-1) -> 1106.25 | U7: 70 | V7: 0.2 | W7: 0.22 | X7: 0.28 | AI7: >63.08 | AJ7: עסקי
A8: 5915445 | B8: מני | C8: פורת | D8: FFNGQQWT@ynet.co.il | E8: 44071 | F8: 18 | G8: צפון | H8: בסיסי | I8: 81 | J8: 23375 | K8: {=_xlfn.XLOOKUP(I8,$U$4:$U$8,_xlfn.XLOOKUP(H8,$V$3:$X$3,$V$4:$X$8,,0),,-1)*J8} -> 4675 | L8: =IF(YEAR(E8)<$U$19,DATE($U$20,MONTH(E8)-$U$22,$U$21),DATE(YEAR(E8)+$U$23,MONTH(E8)+$U$24,$U$25)) -> 46265 | M8: =IF(YEAR(E8)<$Y$19,N8,O8) -> 46265 | N8: =DATE($Y$20,MONTH(E8)-$Y$22,$Y$21) -> 45848 | O8: =DATE(YEAR(E8)+$Y$23,MONTH(E8)+$Y$24,$Y$25) -> 46265 | P8: =(J8-_xlfn.XLOOKUP(J8,$U$12:$U$16,$U$12:$U$16,,-1))*_xlfn.XLOOKUP(J8,$U$12:$U$16,$V$12:$V$16,,-1)+_xlfn.XLOOKUP(J8,$U$12:$U$16,$W$12:$W$16,,-1) -> 785 | U8: 110 | V8: 0.25 | W8: 0.3 | X8: 0.32
A9: 5464769 | B9: שי | C9: פסט | D9: QW3@hotmail.com | E9: 43497 | F9: 37 | G9: מרכז | H9: בסיסי | I9: 66 | J9: 35625 | K9: {=_xlfn.XLOOKUP(I9,$U$4:$U$8,_xlfn.XLOOKUP(H9,$V$3:$X$3,$V$4:$X$8,,0),,-1)*J9} -> 6412.5 | L9: =IF(YEAR(E9)<$U$19,DATE($U$20,MONTH(E9)-$U$22,$U$21),DATE(YEAR(E9)+$U$23,MONTH(E9)+$U$24,$U$25)) -> 45667 | M9: =IF(YEAR(E9)<$Y$19,N9,O9) -> 45667 | N9: =DATE($Y$20,MONTH(E9)-$Y$22,$Y$21) -> 45667 | O9: =DATE(YEAR(E9)+$Y$23,MONTH(E9)+$Y$24,$Y$25) -> 45716 | P9: =(J9-_xlfn.XLOOKUP(J9,$U$12:$U$16,$U$12:$U$16,,-1))*_xlfn.XLOOKUP(J9,$U$12:$U$16,$V$12:$V$16,,-1)+_xlfn.XLOOKUP(J9,$U$12:$U$16,$W$12:$W$16,,-1) -> 1381.25
A10: 3992335 | B10: ליאור | C10: פינקלשטייו | D10: NYIAVES@colman.ac.il | E10: 44845 | F10: 62 | G10: צפון | H10: עסקי | I10: 63 | J10: 9500 | K10: {=_xlfn.XLOOKUP(I10,$U$4:$U$8,_xlfn.XLOOKUP(H10,$V$3:$X$3,$V$4:$X$8,,0),,-1)*J10} -> 2375 | L10: =IF(YEAR(E10)<$U$19,DATE($U$20,MONTH(E10)-$U$22,$U$21),DATE(YEAR(E10)+$U$23,MONTH(E10)+$U$24,$U$25)) -> 47057 | M10: =IF(YEAR(E10)<$Y$19,N10,O10) -> 47057 | N10: =DATE($Y$20,MONTH(E10)-$Y$22,$Y$21) -> 45910 | O10: =DATE(YEAR(E10)+$Y$23,MONTH(E10)+$Y$24,$Y$25) -> 47057 | P10: =(J10-_xlfn.XLOOKUP(J10,$U$12:$U$16,$U$12:$U$16,,-1))*_xlfn.XLOOKUP(J10,$U$12:$U$16,$V$12:$V$16,,-1)+_xlfn.XLOOKUP(J10,$U$12:$U$16,$W$12:$W$16,,-1) -> 237.5 | U10: נתונים לשאלה 2 א
A11: 4633026 | B11: אבינועם | C11: זוהר | D11: GIMI89FG@walla.co.il | E11: 45030 | F11: 30 | G11: מרכז | H11: עסקי | I11: 86 | J11: 8250 | K11: {=_xlfn.XLOOKUP(I11,$U$4:$U$8,_xlfn.XLOOKUP(H11,$V$3:$X$3,$V$4:$X$8,,0),,-1)*J11} -> 2310 | L11: =IF(YEAR(E11)<$U$19,DATE($U$20,MONTH(E11)-$U$22,$U$21),DATE(YEAR(E11)+$U$23,MONTH(E11)+$U$24,$U$25)) -> 47238 | M11: =IF(YEAR(E11)<$Y$19,N11,O11) -> 47238 | N11: =DATE($Y$20,MONTH(E11)-$Y$22,$Y$21) -> 45726 | O11: =DATE(YEAR(E11)+$Y$23,MONTH(E11)+$Y$24,$Y$25) -> 47238 | P11: =(J11-_xlfn.XLOOKUP(J11,$U$12:$U$16,$U$12:$U$16,,-1))*_xlfn.XLOOKUP(J11,$U$12:$U$16,$V$12:$V$16,,-1)+_xlfn.XLOOKUP(J11,$U$12:$U$16,$W$12:$W$16,,-1) -> 206.25 | U11: מדרגה | V11: אחוז | W11: מצטבר
A12: 6790786 | B12: עומרי | C12: חרד | D12: RAV8O@walla.co.il | E12: 42875 | F12: 49 | G12: מרכז | H12: פרמיום | I12: 121 | J12: 12500 | K12: {=_xlfn.XLOOKUP(I12,$U$4:$U$8,_xlfn.XLOOKUP(H12,$V$3:$X$3,$V$4:$X$8,,0),,-1)*J12} -> 3750 | L12: =IF(YEAR(E12)<$U$19,DATE($U$20,MONTH(E12)-$U$22,$U$21),DATE(YEAR(E12)+$U$23,MONTH(E12)+$U$24,$U$25)) -> 45757 | M12: =IF(YEAR(E12)<$Y$19,N12,O12) -> 45757 | N12: =DATE($Y$20,MONTH(E12)-$Y$22,$Y$21) -> 45757 | O12: =DATE(YEAR(E12)+$Y$23,MONTH(E12)+$Y$24,$Y$25) -> 45077 | P12: =(J12-_xlfn.XLOOKUP(J12,$U$12:$U$16,$U$12:$U$16,,-1))*_xlfn.XLOOKUP(J12,$U$12:$U$16,$V$12:$V$16,,-1)+_xlfn.XLOOKUP(J12,$U$12:$U$16,$W$12:$W$16,,-1) -> 350 | U12: 0 | V12: 0.025 | W12: 0
A13: 5828005 | B13: אלי | C13: זונשיין | D13: JAKI89@gmail.com | E13: 44265 | F13: 32 | G13: דרום | H13: פרמיום | I13: 8 | J13: 26500 | K13: {=_xlfn.XLOOKUP(I13,$U$4:$U$8,_xlfn.XLOOKUP(H13,$V$3:$X$3,$V$4:$X$8,,0),,-1)*J13} -> 3710 | L13: =IF(YEAR(E13)<$U$19,DATE($U$20,MONTH(E13)-$U$22,$U$21),DATE(YEAR(E13)+$U$23,MONTH(E13)+$U$24,$U$25)) -> 46477 | M13: =IF(YEAR(E13)<$Y$19,N13,O13) -> 46477 | N13: =DATE($Y$20,MONTH(E13)-$Y$22,$Y$21) -> 45698 | O13: =DATE(YEAR(E13)+$Y$23,MONTH(E13)+$Y$24,$Y$25) -> 46477 | P13: =(J13-_xlfn.XLOOKUP(J13,$U$12:$U$16,$U$12:$U$16,,-1))*_xlfn.XLOOKUP(J13,$U$12:$U$16,$V$12:$V$16,,-1)+_xlfn.XLOOKUP(J13,$U$12:$U$16,$W$12:$W$16,,-1) -> 925 | U13: 10000 | V13: 0.04 | W13: =(U13-U12)*V12+W12 -> 250
A14: 6934852 | B14: חזי | C14: אביגד | D14: MYGLDVTD@colman.ac.il | E14: 45594 | F14: 31 | G14: צפון | H14: בסיסי | I14: 83 | J14: 8625 | K14: {=_xlfn.XLOOKUP(I14,$U$4:$U$8,_xlfn.XLOOKUP(H14,$V$3:$X$3,$V$4:$X$8,,0),,-1)*J14} -> 1725 | L14: =IF(YEAR(E14)<$U$19,DATE($U$20,MONTH(E14)-$U$22,$U$21),DATE(YEAR(E14)+$U$23,MONTH(E14)+$U$24,$U$25)) -> 47787 | M14: =IF(YEAR(E14)<$Y$19,N14,O14) -> 47787 | N14: =DATE($Y$20,MONTH(E14)-$Y$22,$Y$21) -> 45910 | O14: =DATE(YEAR(E14)+$Y$23,MONTH(E14)+$Y$24,$Y$25) -> 47787 | P14: =(J14-_xlfn.XLOOKUP(J14,$U$12:$U$16,$U$12:$U$16,,-1))*_xlfn.XLOOKUP(J14,$U$12:$U$16,$V$12:$V$16,,-1)+_xlfn.XLOOKUP(J14,$U$12:$U$16,$W$12:$W$16,,-1) -> 215.625 | U14: 25000 | V14: 0.05 | W14: =(U14-U13)*V13+W13 -> 850
A15: 4708795 | B15: איתמר | C15: גרינפלד | D15: AUTBPAME@gmail.com | E15: 40295 | F15: 26 | G15: מרכז | H15: עסקי | I15: 21 | J15: 42500 | K15: {=_xlfn.XLOOKUP(I15,$U$4:$U$8,_xlfn.XLOOKUP(H15,$V$3:$X$3,$V$4:$X$8,,0),,-1)*J15} -> 8500 | L15: =IF(YEAR(E15)<$U$19,DATE($U$20,MONTH(E15)-$U$22,$U$21),DATE(YEAR(E15)+$U$23,MONTH(E15)+$U$24,$U$25)) -> 45726 | M15: =IF(YEAR(E15)<$Y$19,N15,O15) -> 45726 | N15: =DATE($Y$20,MONTH(E15)-$Y$22,$Y$21) -> 45726 | O15: =DATE(YEAR(E15)+$Y$23,MONTH(E15)+$Y$24,$Y$25) -> 42490 | P15: =(J15-_xlfn.XLOOKUP(J15,$U$12:$U$16,$U$12:$U$16,,-1))*_xlfn.XLOOKUP(J15,$U$12:$U$16,$V$12:$V$16,,-1)+_xlfn.XLOOKUP(J15,$U$12:$U$16,$W$12:$W$16,,-1) -> 1725 | U15: 50000 | V15: 0.075 | W15: =(U15-U14)*V14+W14 -> 2100
A16: 4853519 | B16: מייקל | C16: קלושנר | D16: TUTUU7@yahoo.com | E16: 43440 | F16: 65 | G16: מרכז | H16: עסקי | I16: 106 | J16: 30250 | K16: {=_xlfn.XLOOKUP(I16,$U$4:$U$8,_xlfn.XLOOKUP(H16,$V$3:$X$3,$V$4:$X$8,,0),,-1)*J16} -> 8470 | L16: =IF(YEAR(E16)<$U$19,DATE($U$20,MONTH(E16)-$U$22,$U$21),DATE(YEAR(E16)+$U$23,MONTH(E16)+$U$24,$U$25)) -> 45971 | M16: =IF(YEAR(E16)<$Y$19,N16,O16) -> 45971 | N16: =DATE($Y$20,MONTH(E16)-$Y$22,$Y$21) -> 45971 | O16: =DATE(YEAR(E16)+$Y$23,MONTH(E16)+$Y$24,$Y$25) -> 45657 | P16: =(J16-_xlfn.XLOOKUP(J16,$U$12:$U$16,$U$12:$U$16,,-1))*_xlfn.XLOOKUP(J16,$U$12:$U$16,$V$12:$V$16,,-1)+_xlfn.XLOOKUP(J16,$U$12:$U$16,$W$12:$W$16,,-1) -> 1112.5 | U16: 100000 | V16: 0.1 | W16: =(U16-U15)*V15+W15 -> 5850
A17: 5769687 | B17: אפרת | C17: שטיין | D17: PADI5@yahoo.com | E17: 40534 | F17: 36 | G17: מרכז | H17: בסיסי | I17: 87 | J17: 8500 | K17: {=_xlfn.XLOOKUP(I17,$U$4:$U$8,_xlfn.XLOOKUP(H17,$V$3:$X$3,$V$4:$X$8,,0),,-1)*J17} -> 1700 | L17: =IF(YEAR(E17)<$U$19,DATE($U$20,MONTH(E17)-$U$22,$U$21),DATE(YEAR(E17)+$U$23,MONTH(E17)+$U$24,$U$25)) -> 45971 | M17: =IF(YEAR(E17)<$Y$19,N17,O17) -> 45971 | N17: =DATE($Y$20,MONTH(E17)-$Y$22,$Y$21) -> 45971 | O17: =DATE(YEAR(E17)+$Y$23,MONTH(E17)+$Y$24,$Y$25) -> 42735 | P17: =(J17-_xlfn.XLOOKUP(J17,$U$12:$U$16,$U$12:$U$16,,-1))*_xlfn.XLOOKUP(J17,$U$12:$U$16,$V$12:$V$16,,-1)+_xlfn.XLOOKUP(J17,$U$12:$U$16,$W$12:$W$16,,-1) -> 212.5
A18: 5720158 | B18: אשר | C18: בנימיני | D18: WTUUETX@gmail.com | E18: 44419 | F18: 27 | G18: דרום | H18: בסיסי | I18: 19 | J18: 58125 | K18: {=_xlfn.XLOOKUP(I18,$U$4:$U$8,_xlfn.XLOOKUP(H18,$V$3:$X$3,$V$4:$X$8,,0),,-1)*J18} -> 8718.75 | L18: =IF(YEAR(E18)<$U$19,DATE($U$20,MONTH(E18)-$U$22,$U$21),DATE(YEAR(E18)+$U$23,MONTH(E18)+$U$24,$U$25)) -> 46630 | M18: =IF(YEAR(E18)<$Y$19,N18,O18) -> 46630 | N18: =DATE($Y$20,MONTH(E18)-$Y$22,$Y$21) -> 45848 | O18: =DATE(YEAR(E18)+$Y$23,MONTH(E18)+$Y$24,$Y$25) -> 46630 | P18: =(J18-_xlfn.XLOOKUP(J18,$U$12:$U$16,$U$12:$U$16,,-1))*_xlfn.XLOOKUP(J18,$U$12:$U$16,$V$12:$V$16,,-1)+_xlfn.XLOOKUP(J18,$U$12:$U$16,$W$12:$W$16,,-1) -> 2709.375 | U18: תאי עזר לשאלה 1ב- | W18: תא עזר לחישוב משכרת שנתית ממוצעת (שאלה 4ב) | AB18: 12
A19: 5521822 | B19: כרמית | C19: חזי | D19: TUKU7K@yahoo.com | E19: 43641 | F19: 27 | G19: דרום | H19: פרמיום | I19: 95 | J19: 16000 | K19: {=_xlfn.XLOOKUP(I19,$U$4:$U$8,_xlfn.XLOOKUP(H19,$V$3:$X$3,$V$4:$X$8,,0),,-1)*J19} -> 3520 | L19: =IF(YEAR(E19)<$U$19,DATE($U$20,MONTH(E19)-$U$22,$U$21),DATE(YEAR(E19)+$U$23,MONTH(E19)+$U$24,$U$25)) -> 45787 | M19: =IF(YEAR(E19)<$Y$19,N19,O19) -> 45787 | N19: =DATE($Y$20,MONTH(E19)-$Y$22,$Y$21) -> 45787 | O19: =DATE(YEAR(E19)+$Y$23,MONTH(E19)+$Y$24,$Y$25) -> 45838 | P19: =(J19-_xlfn.XLOOKUP(J19,$U$12:$U$16,$U$12:$U$16,,-1))*_xlfn.XLOOKUP(J19,$U$12:$U$16,$V$12:$V$16,,-1)+_xlfn.XLOOKUP(J19,$U$12:$U$16,$W$12:$W$16,,-1) -> 490 | U19: 2020 | Y19: 2020
A20: 3907601 | B20: הילה | C20: אהרוני | D20: GT67JK@yahoo.com | E20: 45562 | F20: 59 | G20: מרכז | H20: עסקי | I20: 23 | J20: 95750 | K20: {=_xlfn.XLOOKUP(I20,$U$4:$U$8,_xlfn.XLOOKUP(H20,$V$3:$X$3,$V$4:$X$8,,0),,-1)*J20} -> 19150 | L20: =IF(YEAR(E20)<$U$19,DATE($U$20,MONTH(E20)-$U$22,$U$21),DATE(YEAR(E20)+$U$23,MONTH(E20)+$U$24,$U$25)) -> 47756 | M20: =IF(YEAR(E20)<$Y$19,N20,O20) -> 47756 | N20: =DATE($Y$20,MONTH(E20)-$Y$22,$Y$21) -> 45879 | O20: =DATE(YEAR(E20)+$Y$23,MONTH(E20)+$Y$24,$Y$25) -> 47756 | P20: =(J20-_xlfn.XLOOKUP(J20,$U$12:$U$16,$U$12:$U$16,,-1))*_xlfn.XLOOKUP(J20,$U$12:$U$16,$V$12:$V$16,,-1)+_xlfn.XLOOKUP(J20,$U$12:$U$16,$W$12:$W$16,,-1) -> 5531.25 | U20: 2025 | Y20: 2025
A21: 5127949 | B21: אוהד | C21: בן משה | D21: YACM@hotmail.com | E21: 43235 | F21: 23 | G21: צפון | H21: בסיסי | I21: 74 | J21: 6000 | K21: {=_xlfn.XLOOKUP(I21,$U$4:$U$8,_xlfn.XLOOKUP(H21,$V$3:$X$3,$V$4:$X$8,,0),,-1)*J21} -> 1200 | L21: =IF(YEAR(E21)<$U$19,DATE($U$20,MONTH(E21)-$U$22,$U$21),DATE(YEAR(E21)+$U$23,MONTH(E21)+$U$24,$U$25)) -> 45757 | M21: =IF(YEAR(E21)<$Y$19,N21,O21) -> 45757 | N21: =DATE($Y$20,MONTH(E21)-$Y$22,$Y$21) -> 45757 | O21: =DATE(YEAR(E21)+$Y$23,MONTH(E21)+$Y$24,$Y$25) -> 45443 | P21: =(J21-_xlfn.XLOOKUP(J21,$U$12:$U$16,$U$12:$U$16,,-1))*_xlfn.XLOOKUP(J21,$U$12:$U$16,$V$12:$V$16,,-1)+_xlfn.XLOOKUP(J21,$U$12:$U$16,$W$12:$W$16,,-1) -> 150 | U21: 10 | Y21: 10
A22: 3083848 | B22: יהונתן | C22: ארייב | D22: TAB@hotmail.com | E22: 41908 | F22: 18 | G22: מרכז | H22: בסיסי | I22: 9 | J22: 11000 | K22: {=_xlfn.XLOOKUP(I22,$U$4:$U$8,_xlfn.XLOOKUP(H22,$V$3:$X$3,$V$4:$X$8,,0),,-1)*J22} -> 1320 | L22: =IF(YEAR(E22)<$U$19,DATE($U$20,MONTH(E22)-$U$22,$U$21),DATE(YEAR(E22)+$U$23,MONTH(E22)+$U$24,$U$25)) -> 45879 | M22: =IF(YEAR(E22)<$Y$19,N22,O22) -> 45879 | N22: =DATE($Y$20,MONTH(E22)-$Y$22,$Y$21) -> 45879 | O22: =DATE(YEAR(E22)+$Y$23,MONTH(E22)+$Y$24,$Y$25) -> 44104 | P22: =(J22-_xlfn.XLOOKUP(J22,$U$12:$U$16,$U$12:$U$16,,-1))*_xlfn.XLOOKUP(J22,$U$12:$U$16,$V$12:$V$16,,-1)+_xlfn.XLOOKUP(J22,$U$12:$U$16,$W$12:$W$16,,-1) -> 290 | U22: 1 | Y22: 1
A23: 4115321 | B23: ניר | C23: בן שטרית | D23: HRNFSEKR@gmail.com | E23: 43335 | F23: 53 | G23: מרכז | H23: בסיסי | I23: 54 | J23: 20000 | K23: {=_xlfn.XLOOKUP(I23,$U$4:$U$8,_xlfn.XLOOKUP(H23,$V$3:$X$3,$V$4:$X$8,,0),,-1)*J23} -> 3600 | L23: =IF(YEAR(E23)<$U$19,DATE($U$20,MONTH(E23)-$U$22,$U$21),DATE(YEAR(E23)+$U$23,MONTH(E23)+$U$24,$U$25)) -> 45848 | M23: =IF(YEAR(E23)<$Y$19,N23,O23) -> 45848 | N23: =DATE($Y$20,MONTH(E23)-$Y$22,$Y$21) -> 45848 | O23: =DATE(YEAR(E23)+$Y$23,MONTH(E23)+$Y$24,$Y$25) -> 45535 | P23: =(J23-_xlfn.XLOOKUP(J23,$U$12:$U$16,$U$12:$U$16,,-1))*_xlfn.XLOOKUP(J23,$U$12:$U$16,$V$12:$V$16,,-1)+_xlfn.XLOOKUP(J23,$U$12:$U$16,$W$12:$W$16,,-1) -> 650 | U23: 6 | Y23: 6
A24: 5073393 | B24: מיכאלה | C24: בן דרור | D24: TIMO5GH@yahoo.com | E24: 44491 | F24: 36 | G24: צפון | H24: עסקי | I24: 22 | J24: 6000 | K24: {=_xlfn.XLOOKUP(I24,$U$4:$U$8,_xlfn.XLOOKUP(H24,$V$3:$X$3,$V$4:$X$8,,0),,-1)*J24} -> 1200 | L24: =IF(YEAR(E24)<$U$19,DATE($U$20,MONTH(E24)-$U$22,$U$21),DATE(YEAR(E24)+$U$23,MONTH(E24)+$U$24,$U$25)) -> 46691 | M24: =IF(YEAR(E24)<$Y$19,N24,O24) -> 46691 | N24: =DATE($Y$20,MONTH(E24)-$Y$22,$Y$21) -> 45910 | O24: =DATE(YEAR(E24)+$Y$23,MONTH(E24)+$Y$24,$Y$25) -> 46691 | P24: =(J24-_xlfn.XLOOKUP(J24,$U$12:$U$16,$U$12:$U$16,,-1))*_xlfn.XLOOKUP(J24,$U$12:$U$16,$V$12:$V$16,,-1)+_xlfn.XLOOKUP(J24,$U$12:$U$16,$W$12:$W$16,,-1) -> 150 | U24: 1 | Y24: 1
A25: 3791707 | B25: ליאור | C25: עציץ | D25: BEXLDPPA11@ynet.co.il | E25: 40426 | F25: 32 | G25: דרום | H25: עסקי | I25: 113 | J25: 18750 | K25: {=_xlfn.XLOOKUP(I25,$U$4:$U$8,_xlfn.XLOOKUP(H25,$V$3:$X$3,$V$4:$X$8,,0),,-1)*J25} -> 6000 | L25: =IF(YEAR(E25)<$U$19,DATE($U$20,MONTH(E25)-$U$22,$U$21),DATE(YEAR(E25)+$U$23,MONTH(E25)+$U$24,$U$25)) -> 45879 | M25: =IF(YEAR(E25)<$Y$19,N25,O25) -> 45879 | N25: =DATE($Y$20,MONTH(E25)-$Y$22,$Y$21) -> 45879 | O25: =DATE(YEAR(E25)+$Y$23,MONTH(E25)+$Y$24,$Y$25) -> 42643 | P25: =(J25-_xlfn.XLOOKUP(J25,$U$12:$U$16,$U$12:$U$16,,-1))*_xlfn.XLOOKUP(J25,$U$12:$U$16,$V$12:$V$16,,-1)+_xlfn.XLOOKUP(J25,$U$12:$U$16,$W$12:$W$16,,-1) -> 600 | U25: 0 | Y25: 0
A26: 5609175 | B26: מיכאל | C26: דוידוביץ | D26: EAUDGT@colman.ac.il | E26: 39528 | F26: 33 | G26: צפון | H26: בסיסי | I26: 64 | J26: 36375 | K26: {=_xlfn.XLOOKUP(I26,$U$4:$U$8,_xlfn.XLOOKUP(H26,$V$3:$X$3,$V$4:$X$8,,0),,-1)*J26} -> 6547.5 | L26: =IF(YEAR(E26)<$U$19,DATE($U$20,MONTH(E26)-$U$22,$U$21),DATE(YEAR(E26)+$U$23,MONTH(E26)+$U$24,$U$25)) -> 45698 | M26: =IF(YEAR(E26)<$Y$19,N26,O26) -> 45698 | N26: =DATE($Y$20,MONTH(E26)-$Y$22,$Y$21) -> 45698 | O26: =DATE(YEAR(E26)+$Y$23,MONTH(E26)+$Y$24,$Y$25) -> 41729 | P26: =(J26-_xlfn.XLOOKUP(J26,$U$12:$U$16,$U$12:$U$16,,-1))*_xlfn.XLOOKUP(J26,$U$12:$U$16,$V$12:$V$16,,-1)+_xlfn.XLOOKUP(J26,$U$12:$U$16,$W$12:$W$16,,-1) -> 1418.75
A27: 5989536 | B27: דניאלה | C27: חיון | D27: ACDC1@ynet.co.il | E27: 39502 | F27: 52 | G27: צפון | H27: עסקי | I27: 28 | J27: 34750 | K27: {=_xlfn.XLOOKUP(I27,$U$4:$U$8,_xlfn.XLOOKUP(H27,$V$3:$X$3,$V$4:$X$8,,0),,-1)*J27} -> 6950 | L27: =IF(YEAR(E27)<$U$19,DATE($U$20,MONTH(E27)-$U$22,$U$21),DATE(YEAR(E27)+$U$23,MONTH(E27)+$U$24,$U$25)) -> 45667 | M27: =IF(YEAR(E27)<$Y$19,N27,O27) -> 45667 | N27: =DATE($Y$20,MONTH(E27)-$Y$22,$Y$21) -> 45667 | O27: =DATE(YEAR(E27)+$Y$23,MONTH(E27)+$Y$24,$Y$25) -> 41698 | P27: =(J27-_xlfn.XLOOKUP(J27,$U$12:$U$16,$U$12:$U$16,,-1))*_xlfn.XLOOKUP(J27,$U$12:$U$16,$V$12:$V$16,,-1)+_xlfn.XLOOKUP(J27,$U$12:$U$16,$W$12:$W$16,,-1) -> 1337.5 | U27: גיל | V27: גיל | W27: אזור מגורים | X27: משכורת חודשית ממוצעת באירו | Y27: מסלול לקוח | Z27: מספר חודשי ותק
A28: 4100161 | B28: ליטל | C28: הלוי | D28: GH77JK@yahoo.com | E28: 43649 | F28: 21 | G28: מרכז | H28: בסיסי | I28: 88 | J28: 7125 | K28: {=_xlfn.XLOOKUP(I28,$U$4:$U$8,_xlfn.XLOOKUP(H28,$V$3:$X$3,$V$4:$X$8,,0),,-1)*J28} -> 1425 | L28: =IF(YEAR(E28)<$U$19,DATE($U$20,MONTH(E28)-$U$22,$U$21),DATE(YEAR(E28)+$U$23,MONTH(E28)+$U$24,$U$25)) -> 45818 | M28: =IF(YEAR(E28)<$Y$19,N28,O28) -> 45818 | N28: =DATE($Y$20,MONTH(E28)-$Y$22,$Y$21) -> 45818 | O28: =DATE(YEAR(E28)+$Y$23,MONTH(E28)+$Y$24,$Y$25) -> 45869 | P28: =(J28-_xlfn.XLOOKUP(J28,$U$12:$U$16,$U$12:$U$16,,-1))*_xlfn.XLOOKUP(J28,$U$12:$U$16,$V$12:$V$16,,-1)+_xlfn.XLOOKUP(J28,$U$12:$U$16,$W$12:$W$16,,-1) -> 178.125 | U28: <=23 | V28: >=18 | W28: צפון
A29: 5763159 | B29: אדווה | C29: לוין | D29: XIJDGGVC@gmail.com | E29: 39551 | F29: 42 | G29: דרום | H29: פרמיום | I29: 103 | J29: 35175 | K29: {=_xlfn.XLOOKUP(I29,$U$4:$U$8,_xlfn.XLOOKUP(H29,$V$3:$X$3,$V$4:$X$8,,0),,-1)*J29} -> 7738.5 | L29: =IF(YEAR(E29)<$U$19,DATE($U$20,MONTH(E29)-$U$22,$U$21),DATE(YEAR(E29)+$U$23,MONTH(E29)+$U$24,$U$25)) -> 45726 | M29: =IF(YEAR(E29)<$Y$19,N29,O29) -> 45726 | N29: =DATE($Y$20,MONTH(E29)-$Y$22,$Y$21) -> 45726 | O29: =DATE(YEAR(E29)+$Y$23,MONTH(E29)+$Y$24,$Y$25) -> 41759 | P29: =(J29-_xlfn.XLOOKUP(J29,$U$12:$U$16,$U$12:$U$16,,-1))*_xlfn.XLOOKUP(J29,$U$12:$U$16,$V$12:$V$16,,-1)+_xlfn.XLOOKUP(J29,$U$12:$U$16,$W$12:$W$16,,-1) -> 1358.75 | U29: <=23 | V29: >=18 | W29: דרום
A30: 3539546 | B30: שרון | C30: הווארד | D30: RV7HQO33@ynet.co.il | E30: 39882 | F30: 19 | G30: מרכז | H30: בסיסי | I30: 59 | J30: 2625 | K30: {=_xlfn.XLOOKUP(I30,$U$4:$U$8,_xlfn.XLOOKUP(H30,$V$3:$X$3,$V$4:$X$8,,0),,-1)*J30} -> 472.5 | L30: =IF(YEAR(E30)<$U$19,DATE($U$20,MONTH(E30)-$U$22,$U$21),DATE(YEAR(E30)+$U$23,MONTH(E30)+$U$24,$U$25)) -> 45698 | M30: =IF(YEAR(E30)<$Y$19,N30,O30) -> 45698 | N30: =DATE($Y$20,MONTH(E30)-$Y$22,$Y$21) -> 45698 | O30: =DATE(YEAR(E30)+$Y$23,MONTH(E30)+$Y$24,$Y$25) -> 42094 | P30: =(J30-_xlfn.XLOOKUP(J30,$U$12:$U$16,$U$12:$U$16,,-1))*_xlfn.XLOOKUP(J30,$U$12:$U$16,$V$12:$V$16,,-1)+_xlfn.XLOOKUP(J30,$U$12:$U$16,$W$12:$W$16,,-1) -> 65.625 | X30: >5000
A31: 5664243 | B31: יוני | C31: ניסים | D31: KIEAUDGT@colman.ac.il | E31: 44186 | F31: 58 | G31: מרכז | H31: פרמיום | I31: 58 | J31: 6500 | K31: {=_xlfn.XLOOKUP(I31,$U$4:$U$8,_xlfn.XLOOKUP(H31,$V$3:$X$3,$V$4:$X$8,,0),,-1)*J31} -> 1300 | L31: =IF(YEAR(E31)<$U$19,DATE($U$20,MONTH(E31)-$U$22,$U$21),DATE(YEAR(E31)+$U$23,MONTH(E31)+$U$24,$U$25)) -> 46387 | M31: =IF(YEAR(E31)<$Y$19,N31,O31) -> 46387 | N31: =DATE($Y$20,MONTH(E31)-$Y$22,$Y$21) -> 45971 | O31: =DATE(YEAR(E31)+$Y$23,MONTH(E31)+$Y$24,$Y$25) -> 46387 | P31: =(J31-_xlfn.XLOOKUP(J31,$U$12:$U$16,$U$12:$U$16,,-1))*_xlfn.XLOOKUP(J31,$U$12:$U$16,$V$12:$V$16,,-1)+_xlfn.XLOOKUP(J31,$U$12:$U$16,$W$12:$W$16,,-1) -> 162.5 | Y31: פרמיום | Z31: >63.08
A32: 5678581 | B32: אורנה | C32: יצחקי | D32: YIDOJL@gmail.com | E32: 44265 | F32: 27 | G32: צפון | H32: בסיסי | I32: 110 | J32: 13000 | K32: {=_xlfn.XLOOKUP(I32,$U$4:$U$8,_xlfn.XLOOKUP(H32,$V$3:$X$3,$V$4:$X$8,,0),,-1)*J32} -> 3250 | L32: =IF(YEAR(E32)<$U$19,DATE($U$20,MONTH(E32)-$U$22,$U$21),DATE(YEAR(E32)+$U$23,MONTH(E32)+$U$24,$U$25)) -> 46477 | M32: =IF(YEAR(E32)<$Y$19,N32,O32) -> 46477 | N32: =DATE($Y$20,MONTH(E32)-$Y$22,$Y$21) -> 45698 | O32: =DATE(YEAR(E32)+$Y$23,MONTH(E32)+$Y$24,$Y$25) -> 46477 | P32: =(J32-_xlfn.XLOOKUP(J32,$U$12:$U$16,$U$12:$U$16,,-1))*_xlfn.XLOOKUP(J32,$U$12:$U$16,$V$12:$V$16,,-1)+_xlfn.XLOOKUP(J32,$U$12:$U$16,$W$12:$W$16,,-1) -> 370 | Y32: עסקי | Z32: >63.08
A33: 4220283 | B33: חני | C33: לבקוביץ | D33: MYG66YU@colman.ac.il | E33: 45228 | F33: 19 | G33: צפון | H33: עסקי | I33: 103 | J33: 15250 | K33: {=_xlfn.XLOOKUP(I33,$U$4:$U$8,_xlfn.XLOOKUP(H33,$V$3:$X$3,$V$4:$X$8,,0),,-1)*J33} -> 4270 | L33: =IF(YEAR(E33)<$U$19,DATE($U$20,MONTH(E33)-$U$22,$U$21),DATE(YEAR(E33)+$U$23,MONTH(E33)+$U$24,$U$25)) -> 47422 | M33: =IF(YEAR(E33)<$Y$19,N33,O33) -> 47422 | N33: =DATE($Y$20,MONTH(E33)-$Y$22,$Y$21) -> 45910 | O33: =DATE(YEAR(E33)+$Y$23,MONTH(E33)+$Y$24,$Y$25) -> 47422 | P33: =(J33-_xlfn.XLOOKUP(J33,$U$12:$U$16,$U$12:$U$16,,-1))*_xlfn.XLOOKUP(J33,$U$12:$U$16,$V$12:$V$16,,-1)+_xlfn.XLOOKUP(J33,$U$12:$U$16,$W$12:$W$16,,-1) -> 460
A34: 3591027 | B34: לילך | C34: סונין | D34: GGHH77JK@yahoo.com | E34: 43436 | F34: 20 | G34: מרכז | H34: בסיסי | I34: 8 | J34: 16500 | K34: {=_xlfn.XLOOKUP(I34,$U$4:$U$8,_xlfn.XLOOKUP(H34,$V$3:$X$3,$V$4:$X$8,,0),,-1)*J34} -> 1980 | L34: =IF(YEAR(E34)<$U$19,DATE($U$20,MONTH(E34)-$U$22,$U$21),DATE(YEAR(E34)+$U$23,MONTH(E34)+$U$24,$U$25)) -> 45971 | M34: =IF(YEAR(E34)<$Y$19,N34,O34) -> 45971 | N34: =DATE($Y$20,MONTH(E34)-$Y$22,$Y$21) -> 45971 | O34: =DATE(YEAR(E34)+$Y$23,MONTH(E34)+$Y$24,$Y$25) -> 45657 | P34: =(J34-_xlfn.XLOOKUP(J34,$U$12:$U$16,$U$12:$U$16,,-1))*_xlfn.XLOOKUP(J34,$U$12:$U$16,$V$12:$V$16,,-1)+_xlfn.XLOOKUP(J34,$U$12:$U$16,$W$12:$W$16,,-1) -> 510
A35: 4241247 | B35: אלון | C35: סוטון | D35: ELVLSUAM@gmail.com | E35: 44450 | F35: 65 | G35: מרכז | H35: בסיסי | I35: 14 | J35: 6625 | K35: {=_xlfn.XLOOKUP(I35,$U$4:$U$8,_xlfn.XLOOKUP(H35,$V$3:$X$3,$V$4:$X$8,,0),,-1)*J35} -> 795 | L35: =IF(YEAR(E35)<$U$19,DATE($U$20,MONTH(E35)-$U$22,$U$21),DATE(YEAR(E35)+$U$23,MONTH(E35)+$U$24,$U$25)) -> 46660 | M35: =IF(YEAR(E35)<$Y$19,N35,O35) -> 46660 | N35: =DATE($Y$20,MONTH(E35)-$Y$22,$Y$21) -> 45879 | O35: =DATE(YEAR(E35)+$Y$23,MONTH(E35)+$Y$24,$Y$25) -> 46660 | P35: =(J35-_xlfn.XLOOKUP(J35,$U$12:$U$16,$U$12:$U$16,,-1))*_xlfn.XLOOKUP(J35,$U$12:$U$16,$V$12:$V$16,,-1)+_xlfn.XLOOKUP(J35,$U$12:$U$16,$W$12:$W$16,,-1) -> 165.625 | V35: ממוצע חודשי הותק
A36: 4280247 | B36: רוית | C36: ישראל | D36: RAV77@ynet.co.il | E36: 45447 | F36: 40 | G36: מרכז | H36: פרמיום | I36: 56 | J36: 7500 | K36: {=_xlfn.XLOOKUP(I36,$U$4:$U$8,_xlfn.XLOOKUP(H36,$V$3:$X$3,$V$4:$X$8,,0),,-1)*J36} -> 1500 | L36: =IF(YEAR(E36)<$U$19,DATE($U$20,MONTH(E36)-$U$22,$U$21),DATE(YEAR(E36)+$U$23,MONTH(E36)+$U$24,$U$25)) -> 47664 | M36: =IF(YEAR(E36)<$Y$19,N36,O36) -> 47664 | N36: =DATE($Y$20,MONTH(E36)-$Y$22,$Y$21) -> 45787 | O36: =DATE(YEAR(E36)+$Y$23,MONTH(E36)+$Y$24,$Y$25) -> 47664 | P36: =(J36-_xlfn.XLOOKUP(J36,$U$12:$U$16,$U$12:$U$16,,-1))*_xlfn.XLOOKUP(J36,$U$12:$U$16,$V$12:$V$16,,-1)+_xlfn.XLOOKUP(J36,$U$12:$U$16,$W$12:$W$16,,-1) -> 187.5 | V36: =AVERAGE(I2:I36) -> 63.085714
I37: =AVERAGE(I2:I36) -> 63.085714 | M37: =IF(YEAR(E37)<$Y$19,N37,O37) -> 45636 | N37: =DATE($Y$20,MONTH(E37)-$Y$22,$Y$21) -> 45636 | O37: =DATE(YEAR(E37)+$Y$23,MONTH(E37)+$Y$24,$Y$25) -> 2223
A38: שאלה 2 ב- | M38: =IF(YEAR(E38)<$Y$19,N38,O38) -> 45636 | N38: =DATE($Y$20,MONTH(E38)-$Y$22,$Y$21) -> 45636 | O38: =DATE(YEAR(E38)+$Y$23,MONTH(E38)+$Y$24,$Y$25) -> 2223
A39: =SUM(P2:P36) -> 40369.375 | M39: =IF(YEAR(E39)<$Y$19,N39,O39) -> 45636 | N39: =DATE($Y$20,MONTH(E39)-$Y$22,$Y$21) -> 45636 | O39: =DATE(YEAR(E39)+$Y$23,MONTH(E39)+$Y$24,$Y$25) -> 2223
M40: =IF(YEAR(E40)<$Y$19,N40,O40) -> 45636 | N40: =DATE($Y$20,MONTH(E40)-$Y$22,$Y$21) -> 45636 | O40: =DATE(YEAR(E40)+$Y$23,MONTH(E40)+$Y$24,$Y$25) -> 2223
B41: =A39 -> 40369.375 | C41: 90000 | D41: 95000 | E41: 100000 | F41: 105000 | G41: 110000 | H41: 115000 | I41: 120000 | J41: 125000 | M41: =IF(YEAR(E41)<$Y$19,N41,O41) -> 102208 | N41: =DATE($Y$20,MONTH(E41)-$Y$22,$Y$21) -> 45910 | O41: =DATE(YEAR(E41)+$Y$23,MONTH(E41)+$Y$24,$Y$25) -> 102208
B42: 0.005 | C42: 34418.125 | D42: 34168.125 | E42: 34024.375 | F42: 33899.375 | G42: 33774.375 | H42: 33674.375 | I42: 33674.375 | J42: 33674.375 | M42: =IF(YEAR(E42)<$Y$19,N42,O42) -> 45667 | N42: =DATE($Y$20,MONTH(E42)-$Y$22,$Y$21) -> 45667 | O42: =DATE(YEAR(E42)+$Y$23,MONTH(E42)+$Y$24,$Y$25) -> 36219 | T42: שער האירו | U42: 3.75 | V42: ממוצע חודשי ותק | X42: =AVERAGE($I$2:$I$36) -> 63.085714
B43: 0.0075 | C43: 35211.25 | D43: 34961.25 | E43: 34817.5 | F43: 34692.5 | G43: 34567.5 | H43: 34467.5 | I43: 34467.5 | J43: 34467.5 | M43: =IF(YEAR(E43)<$Y$19,N43,O43) -> 0
B44: 0.01 | C44: 36004.375 | D44: 35754.375 | E44: 35610.625 | F44: 35485.625 | G44: 35360.625 | H44: 35260.625 | I44: 35260.625 | J44: 35260.625 | M44: =IF(YEAR(E44)<$Y$19,N44,O44) -> 0
B45: 0.0125 | C45: 36797.5 | D45: 36547.5 | E45: 36403.75 | F45: 36278.75 | G45: 36153.75 | H45: 36053.75 | I45: 36053.75 | J45: 36053.75 | M45: =IF(YEAR(E45)<$Y$19,N45,O45) -> 0 | T45: גיל | U45: אזור מגורים | V45: מסלול לקוח | W45: מספר חודשי ותק | X45: משכורת חודשית ממוצעת באירו
B46: 0.015 | C46: 37590.625 | D46: 37340.625 | E46: 37196.875 | F46: 37071.875 | G46: 36946.875 | H46: 36846.875 | I46: 36846.875 | J46: 36846.875 | M46: =IF(YEAR(E46)<$Y$19,N46,O46) -> 0 | T46: >=18 | U46: צפון
B47: 0.0175 | C47: 38383.75 | D47: 38133.75 | E47: 37990 | F47: 37865 | G47: 37740 | H47: 37640 | I47: 37640 | J47: 37640 | M47: =IF(YEAR(E47)<$Y$19,N47,O47) -> 0 | T47: >=18 | U47: דרום
B48: 0.02 | C48: 39176.875 | D48: 38926.875 | E48: 38783.125 | F48: 38658.125 | G48: 38533.125 | H48: 38433.125 | I48: 38433.125 | J48: 38433.125 | M48: =IF(YEAR(E48)<$Y$19,N48,O48) -> 0 | X48: >5000
B49: 0.0225 | C49: 39970 | D49: 39720 | E49: 39576.25 | F49: 39451.25 | G49: 39326.25 | H49: 39226.25 | I49: 39226.25 | J49: 39226.25 | M49: =IF(YEAR(E49)<$Y$19,N49,O49) -> 0 | V49: פרמיום | W49: >63.0857142857143
B50: 0.025 | C50: 40763.125 | D50: 40513.125 | E50: 40369.375 | F50: 40244.375 | G50: 40119.375 | H50: 40019.375 | I50: 40019.375 | J50: 40019.375 | M50: =IF(YEAR(E50)<$Y$19,N50,O50) -> 0 | V50: עסקי | W50: >63.0857142857143
B51: 0.0275 | C51: 41556.25 | D51: 41306.25 | E51: 41162.5 | F51: 41037.5 | G51: 40912.5 | H51: 40812.5 | I51: 40812.5 | J51: 40812.5 | M51: =IF(YEAR(E51)<$Y$19,N51,O51) -> 0
B52: 0.03 | C52: 42349.375 | D52: 42099.375 | E52: 41955.625 | F52: 41830.625 | G52: 41705.625 | H52: 41605.625 | I52: 41605.625 | J52: 41605.625 | M52: =IF(YEAR(E52)<$Y$19,N52,O52) -> 0

Sheet סינון מתקדם 2  
A1: קוד לקוח | B1: תאריך התקשרות עם לקוח | C1: שם לקוח | D1: שם איש הקשר | E1: עיר | F1: תפקיד איש הקשר | G1: סטטוס | H1: הנחת לקוח | I1: הכנסה שנתית מלקוח | J1: שכר | K1: רבעון התקשרות | L1: הטבת לקוח לחורף | M1: תאריך סיום התקשרות | N1: יום סיום התקשרות
A2: CU0010 | B2: 44201 | C2: NI | D2: אלון בן סלומון | E2: רעננה | F2: אנליסט | G2: קבוע | H2: 0.03 | I2: 102356 | J2: =(YEAR(TODAY())-YEAR(B2))*VLOOKUP(F2,'[5]נתונים נוספים'!$A$3:$C$9,3,FALSE)+VLOOKUP(F2,'[5]נתונים נוספים'!$A$3:$C$9,2,FALSE) -> 24500 | K2: =IF(MONTH(B2)<=$H$58,$I$58,IF(MONTH(B2)<=$H$59,$I$59,IF(MONTH(B2)<=$H$60,$I$60,$I$61))) -> רבעון 1 | L2: =VLOOKUP(K2,'[5]נתונים נוספים'!$A$14:$M$17,VLOOKUP(E2,'[5]נתונים נוספים'!$Q$8:$R$19,2,FALSE),FALSE) -> מוצר חינם | M2: =IF(K2=$J$48,DATE(YEAR(B2)+$K$48,MONTH(B2),DAY(B2)),IF(OR(YEAR(B2)=$J$49,YEAR(B2)=$J$50),DATE(YEAR(B2)+$K$49,MONTH(B2),DAY(B2)+$L$49),DATE(YEAR($J$51)+$K$51,MONTH($J$51),DAY($J$51)))) -> 46397 | N2: =IF(WEEKDAY(M2)=$J$52,$K$52,WEEKDAY(M2)) -> 1
A3: CU0011 | B3: 44207 | C3: KF | D3: עמרי רווח | E3: כפר סבא | F3: שותף ניהול | G3: מזדמן | H3: 0.01 | I3: 256968 | J3: =(YEAR(TODAY())-YEAR(B3))*VLOOKUP(F3,'[5]נתונים נוספים'!$A$3:$C$9,3,FALSE)+VLOOKUP(F3,'[5]נתונים נוספים'!$A$3:$C$9,2,FALSE) -> 26500 | K3: =IF(MONTH(B3)<=$H$58,$I$58,IF(MONTH(B3)<=$H$59,$I$59,IF(MONTH(B3)<=$H$60,$I$60,$I$61))) -> רבעון 1 | L3: =VLOOKUP(K3,'[5]נתונים נוספים'!$A$14:$M$17,VLOOKUP(E3,'[5]נתונים נוספים'!$Q$8:$R$19,2,FALSE),FALSE) -> זיכוי ברכישה הבאה | M3: =IF(K3=$J$48,DATE(YEAR(B3)+$K$48,MONTH(B3),DAY(B3)),IF(OR(YEAR(B3)=$J$49,YEAR(B3)=$J$50),DATE(YEAR(B3)+$K$49,MONTH(B3),DAY(B3)+$L$49),DATE(YEAR($J$51)+$K$51,MONTH($J$51),DAY($J$51)))) -> 46403 | N3: =IF(WEEKDAY(M3)=$J$52,$K$52,WEEKDAY(M3)) -> ייקבע מועד אחר
A4: CU0012 | B4: 43113 | C4: CC | D4: שלי הרן | E4: חולון | F4: מנכ"ל | G4: קבוע | H4: 0.05 | I4: 110875 | J4: =(YEAR(TODAY())-YEAR(B4))*VLOOKUP(F4,'[5]נתונים נוספים'!$A$3:$C$9,3,FALSE)+VLOOKUP(F4,'[5]נתונים נוספים'!$A$3:$C$9,2,FALSE) -> 19000 | K4: =IF(MONTH(B4)<=$H$58,$I$58,IF(MONTH(B4)<=$H$59,$I$59,IF(MONTH(B4)<=$H$60,$I$60,$I$61))) -> רבעון 1 | L4: =VLOOKUP(K4,'[5]נתונים נוספים'!$A$14:$M$17,VLOOKUP(E4,'[5]נתונים נוספים'!$Q$8:$R$19,2,FALSE),FALSE) -> אין הטבה | M4: =IF(K4=$J$48,DATE(YEAR(B4)+$K$48,MONTH(B4),DAY(B4)),IF(OR(YEAR(B4)=$J$49,YEAR(B4)=$J$50),DATE(YEAR(B4)+$K$49,MONTH(B4),DAY(B4)+$L$49),DATE(YEAR($J$51)+$K$51,MONTH($J$51),DAY($J$51)))) -> 45347 | N4: =IF(WEEKDAY(M4)=$J$52,$K$52,WEEKDAY(M4)) -> 1
A5: CU0013 | B5: 43125 | C5: BJ | D5: דנה דבורין | E5: ראשון לציון | F5: יועץ | G5: מזדמן | H5: 0.01 | I5: 236000 | J5: =(YEAR(TODAY())-YEAR(B5))*VLOOKUP(F5,'[5]נתונים נוספים'!$A$3:$C$9,3,FALSE)+VLOOKUP(F5,'[5]נתונים נוספים'!$A$3:$C$9,2,FALSE) -> 14500 | K5: =IF(MONTH(B5)<=$H$58,$I$58,IF(MONTH(B5)<=$H$59,$I$59,IF(MONTH(B5)<=$H$60,$I$60,$I$61))) -> רבעון 1 | L5: =VLOOKUP(K5,'[5]נתונים נוספים'!$A$14:$M$17,VLOOKUP(E5,'[5]נתונים נוספים'!$Q$8:$R$19,2,FALSE),FALSE) -> הנחה על הרכישה הבאה | M5: =IF(K5=$J$48,DATE(YEAR(B5)+$K$48,MONTH(B5),DAY(B5)),IF(OR(YEAR(B5)=$J$49,YEAR(B5)=$J$50),DATE(YEAR(B5)+$K$49,MONTH(B5),DAY(B5)+$L$49),DATE(YEAR($J$51)+$K$51,MONTH($J$51),DAY($J$51)))) -> 45347 | N5: =IF(WEEKDAY(M5)=$J$52,$K$52,WEEKDAY(M5)) -> 1
A6: CU0014 | B6: 43857 | C6: DE | D6: חני נחמיאס | E6: רחובות | F6: מנהל מחלקת רכש | G6: קבוע | H6: 0.07 | I6: 100000 | J6: =(YEAR(TODAY())-YEAR(B6))*VLOOKUP(F6,'[5]נתונים נוספים'!$A$3:$C$9,3,FALSE)+VLOOKUP(F6,'[5]נתונים נוספים'!$A$3:$C$9,2,FALSE) -> 13300 | K6: =IF(MONTH(B6)<=$H$58,$I$58,IF(MONTH(B6)<=$H$59,$I$59,IF(MONTH(B6)<=$H$60,$I$60,$I$61))) -> רבעון 1 | L6: =VLOOKUP(K6,'[5]נתונים נוספים'!$A$14:$M$17,VLOOKUP(E6,'[5]נתונים נוספים'!$Q$8:$R$19,2,FALSE),FALSE) -> זיכוי ברכישה הבאה | M6: =IF(K6=$J$48,DATE(YEAR(B6)+$K$48,MONTH(B6),DAY(B6)),IF(OR(YEAR(B6)=$J$49,YEAR(B6)=$J$50),DATE(YEAR(B6)+$K$49,MONTH(B6),DAY(B6)+$L$49),DATE(YEAR($J$51)+$K$51,MONTH($J$51),DAY($J$51)))) -> 46054 | N6: =IF(WEEKDAY(M6)=$J$52,$K$52,WEEKDAY(M6)) -> 1
A7: CU0015 | B7: 43865 | C7: BJ | D7: יעל כהן | E7: נס-ציונה | F7: מנהל | G7: קבוע | H7: 0.07 | I7: 280756 | J7: =(YEAR(TODAY())-YEAR(B7))*VLOOKUP(F7,'[5]נתונים נוספים'!$A$3:$C$9,3,FALSE)+VLOOKUP(F7,'[5]נתונים נוספים'!$A$3:$C$9,2,FALSE) -> 17400 | K7: =IF(MONTH(B7)<=$H$58,$I$58,IF(MONTH(B7)<=$H$59,$I$59,IF(MONTH(B7)<=$H$60,$I$60,$I$61))) -> רבעון 1 | L7: =VLOOKUP(K7,'[5]נתונים נוספים'!$A$14:$M$17,VLOOKUP(E7,'[5]נתונים נוספים'!$Q$8:$R$19,2,FALSE),FALSE) -> מוצר חינם | M7: =IF(K7=$J$48,DATE(YEAR(B7)+$K$48,MONTH(B7),DAY(B7)),IF(OR(YEAR(B7)=$J$49,YEAR(B7)=$J$50),DATE(YEAR(B7)+$K$49,MONTH(B7),DAY(B7)+$L$49),DATE(YEAR($J$51)+$K$51,MONTH($J$51),DAY($J$51)))) -> 46062 | N7: =IF(WEEKDAY(M7)=$J$52,$K$52,WEEKDAY(M7)) -> 2
A8: CU0016 | B8: 43509 | C8: CK | D8: ניצן אלון | E8: ראשון לציון | F8: רכש בכיר | G8: קבוע | H8: 0.1 | I8: 456890 | J8: =(YEAR(TODAY())-YEAR(B8))*VLOOKUP(F8,'[5]נתונים נוספים'!$A$3:$C$9,3,FALSE)+VLOOKUP(F8,'[5]נתונים נוספים'!$A$3:$C$9,2,FALSE) -> 13050 | K8: =IF(MONTH(B8)<=$H$58,$I$58,IF(MONTH(B8)<=$H$59,$I$59,IF(MONTH(B8)<=$H$60,$I$60,$I$61))) -> רבעון 1 | L8: =VLOOKUP(K8,'[5]נתונים נוספים'!$A$14:$M$17,VLOOKUP(E8,'[5]נתונים נוספים'!$Q$8:$R$19,2,FALSE),FALSE) -> הנחה על הרכישה הבאה | M8: =IF(K8=$J$48,DATE(YEAR(B8)+$K$48,MONTH(B8),DAY(B8)),IF(OR(YEAR(B8)=$J$49,YEAR(B8)=$J$50),DATE(YEAR(B8)+$K$49,MONTH(B8),DAY(B8)+$L$49),DATE(YEAR($J$51)+$K$51,MONTH($J$51),DAY($J$51)))) -> 45347 | N8: =IF(WEEKDAY(M8)=$J$52,$K$52,WEEKDAY(M8)) -> 1
A9: CU0017 | B9: 43552 | C9: JK | D9: אודי יגאנה | E9: הרצליה | F9: אנליסט | G9: VIP | H9: 0.15 | I9: 98653 | J9: =(YEAR(TODAY())-YEAR(B9))*VLOOKUP(F9,'[5]נתונים נוספים'!$A$3:$C$9,3,FALSE)+VLOOKUP(F9,'[5]נתונים נוספים'!$A$3:$C$9,2,FALSE) -> 25500 | K9: =IF(MONTH(B9)<=$H$58,$I$58,IF(MONTH(B9)<=$H$59,$I$59,IF(MONTH(B9)<=$H$60,$I$60,$I$61))) -> רבעון 1 | L9: =VLOOKUP(K9,'[5]נתונים נוספים'!$A$14:$M$17,VLOOKUP(E9,'[5]נתונים נוספים'!$Q$8:$R$19,2,FALSE),FALSE) -> זיכוי ברכישה הבאה | M9: =IF(K9=$J$48,DATE(YEAR(B9)+$K$48,MONTH(B9),DAY(B9)),IF(OR(YEAR(B9)=$J$49,YEAR(B9)=$J$50),DATE(YEAR(B9)+$K$49,MONTH(B9),DAY(B9)+$L$49),DATE(YEAR($J$51)+$K$51,MONTH($J$51),DAY($J$51)))) -> 45347 | N9: =IF(WEEKDAY(M9)=$J$52,$K$52,WEEKDAY(M9)) -> 1
A10: CU0018 | B10: 43558 | C10: DJ | D10: שי לוי | E10: יבנה | F10: שותף ניהול | G10: מזדמן | H10: 0.01 | I10: 75000 | J10: =(YEAR(TODAY())-YEAR(B10))*VLOOKUP(F10,'[5]נתונים נוספים'!$A$3:$C$9,3,FALSE)+VLOOKUP(F10,'[5]נתונים נוספים'!$A$3:$C$9,2,FALSE) -> 27100 | K10: =IF(MONTH(B10)<=$H$58,$I$58,IF(MONTH(B10)<=$H$59,$I$59,IF(MONTH(B10)<=$H$60,$I$60,$I$61))) -> רבעון 2 | L10: =VLOOKUP(K10,'[5]נתונים נוספים'!$A$14:$M$17,VLOOKUP(E10,'[5]נתונים נוספים'!$Q$8:$R$19,2,FALSE),FALSE) -> מוצר חינם | M10: =IF(K10=$J$48,DATE(YEAR(B10)+$K$48,MONTH(B10),DAY(B10)),IF(OR(YEAR(B10)=$J$49,YEAR(B10)=$J$50),DATE(YEAR(B10)+$K$49,MONTH(B10),DAY(B10)+$L$49),DATE(YEAR($J$51)+$K$51,MONTH($J$51),DAY($J$51)))) -> 45385 | N10: =IF(WEEKDAY(M10)=$J$52,$K$52,WEEKDAY(M10)) -> 4
A11: CU0019 | B11: 43207 | C11: LB | D11: אורן רוטשטיין | E11: ירושלים | F11: מנכ"ל | G11: VIP | H11: 0.12 | I11: 120332 | J11: =(YEAR(TODAY())-YEAR(B11))*VLOOKUP(F11,'[5]נתונים נוספים'!$A$3:$C$9,3,FALSE)+VLOOKUP(F11,'[5]נתונים נוספים'!$A$3:$C$9,2,FALSE) -> 19000 | K11: =IF(MONTH(B11)<=$H$58,$I$58,IF(MONTH(B11)<=$H$59,$I$59,IF(MONTH(B11)<=$H$60,$I$60,$I$61))) -> רבעון 2 | L11: =VLOOKUP(K11,'[5]נתונים נוספים'!$A$14:$M$17,VLOOKUP(E11,'[5]נתונים נוספים'!$Q$8:$R$19,2,FALSE),FALSE) -> זיכוי ברכישה הבאה | M11: =IF(K11=$J$48,DATE(YEAR(B11)+$K$48,MONTH(B11),DAY(B11)),IF(OR(YEAR(B11)=$J$49,YEAR(B11)=$J$50),DATE(YEAR(B11)+$K$49,MONTH(B11),DAY(B11)+$L$49),DATE(YEAR($J$51)+$K$51,MONTH($J$51),DAY($J$51)))) -> 45033 | N11: =IF(WEEKDAY(M11)=$J$52,$K$52,WEEKDAY(M11)) -> 2
A12: CU0020 | B12: 43213 | C12: LM | D12: אלעד מרוש | E12: רחובות | F12: יועץ | G12: קבוע | H12: 0.08 | I12: 140000 | J12: =(YEAR(TODAY())-YEAR(B12))*VLOOKUP(F12,'[5]נתונים נוספים'!$A$3:$C$9,3,FALSE)+VLOOKUP(F12,'[5]נתונים נוספים'!$A$3:$C$9,2,FALSE) -> 14500 | K12: =IF(MONTH(B12)<=$H$58,$I$58,IF(MONTH(B12)<=$H$59,$I$59,IF(MONTH(B12)<=$H$60,$I$60,$I$61))) -> רבעון 2 | L12: =VLOOKUP(K12,'[5]נתונים נוספים'!$A$14:$M$17,VLOOKUP(E12,'[5]נתונים נוספים'!$Q$8:$R$19,2,FALSE),FALSE) -> אין הטבה | M12: =IF(K12=$J$48,DATE(YEAR(B12)+$K$48,MONTH(B12),DAY(B12)),IF(OR(YEAR(B12)=$J$49,YEAR(B12)=$J$50),DATE(YEAR(B12)+$K$49,MONTH(B12),DAY(B12)+$L$49),DATE(YEAR($J$51)+$K$51,MONTH($J$51),DAY($J$51)))) -> 45039 | N12: =IF(WEEKDAY(M12)=$J$52,$K$52,WEEKDAY(M12)) -> 1
A13: CU0021 | B13: 43216 | C13: BK | D13: ענת ינקוסיץ | E13: רחובות | F13: מנהל מחלקת רכש | G13: קבוע | H13: 0.06 | I13: 875875 | J13: =(YEAR(TODAY())-YEAR(B13))*VLOOKUP(F13,'[5]נתונים נוספים'!$A$3:$C$9,3,FALSE)+VLOOKUP(F13,'[5]נתונים נוספים'!$A$3:$C$9,2,FALSE) -> 14400 | K13: =IF(MONTH(B13)<=$H$58,$I$58,IF(MONTH(B13)<=$H$59,$I$59,IF(MONTH(B13)<=$H$60,$I$60,$I$61))) -> רבעון 2 | L13: =VLOOKUP(K13,'[5]נתונים נוספים'!$A$14:$M$17,VLOOKUP(E13,'[5]נתונים נוספים'!$Q$8:$R$19,2,FALSE),FALSE) -> אין הטבה | M13: =IF(K13=$J$48,DATE(YEAR(B13)+$K$48,MONTH(B13),DAY(B13)),IF(OR(YEAR(B13)=$J$49,YEAR(B13)=$J$50),DATE(YEAR(B13)+$K$49,MONTH(B13),DAY(B13)+$L$49),DATE(YEAR($J$51)+$K$51,MONTH($J$51),DAY($J$51)))) -> 45042 | N13: =IF(WEEKDAY(M13)=$J$52,$K$52,WEEKDAY(M13)) -> 4
A14: CU0022 | B14: 43221 | C14: DK | D14: מתן הראל | E14: ראשון לציון | F14: מנהל | G14: מזדמן | H14: 0.01 | I14: 200000 | J14: =(YEAR(TODAY())-YEAR(B14))*VLOOKUP(F14,'[5]נתונים נוספים'!$A$3:$C$9,3,FALSE)+VLOOKUP(F14,'[5]נתונים נוספים'!$A$3:$C$9,2,FALSE) -> 18200 | K14: =IF(MONTH(B14)<=$H$58,$I$58,IF(MONTH(B14)<=$H$59,$I$59,IF(MONTH(B14)<=$H$60,$I$60,$I$61))) -> רבעון 2 | L14: =VLOOKUP(K14,'[5]נתונים נוספים'!$A$14:$M$17,VLOOKUP(E14,'[5]נתונים נוספים'!$Q$8:$R$19,2,FALSE),FALSE) -> מוצר חינם | M14: =IF(K14=$J$48,DATE(YEAR(B14)+$K$48,MONTH(B14),DAY(B14)),IF(OR(YEAR(B14)=$J$49,YEAR(B14)=$J$50),DATE(YEAR(B14)+$K$49,MONTH(B14),DAY(B14)+$L$49),DATE(YEAR($J$51)+$K$51,MONTH($J$51),DAY($J$51)))) -> 45047 | N14: =IF(WEEKDAY(M14)=$J$52,$K$52,WEEKDAY(M14)) -> 2 | R14: שלבים:
A15: CU0023 | B15: 43975 | C15: KL | D15: יוסי כהן | E15: רעננה | F15: רכש בכיר | G15: קבוע | H15: 0.05 | I15: 360250 | J15: =(YEAR(TODAY())-YEAR(B15))*VLOOKUP(F15,'[5]נתונים נוספים'!$A$3:$C$9,3,FALSE)+VLOOKUP(F15,'[5]נתונים נוספים'!$A$3:$C$9,2,FALSE) -> 12900 | K15: =IF(MONTH(B15)<=$H$58,$I$58,IF(MONTH(B15)<=$H$59,$I$59,IF(MONTH(B15)<=$H$60,$I$60,$I$61))) -> רבעון 2 | L15: =VLOOKUP(K15,'[5]נתונים נוספים'!$A$14:$M$17,VLOOKUP(E15,'[5]נתונים נוספים'!$Q$8:$R$19,2,FALSE),FALSE) -> הנחה על הרכישה הבאה | M15: =IF(K15=$J$48,DATE(YEAR(B15)+$K$48,MONTH(B15),DAY(B15)),IF(OR(YEAR(B15)=$J$49,YEAR(B15)=$J$50),DATE(YEAR(B15)+$K$49,MONTH(B15),DAY(B15)+$L$49),DATE(YEAR($J$51)+$K$51,MONTH($J$51),DAY($J$51)))) -> 45801 | N15: =IF(WEEKDAY(M15)=$J$52,$K$52,WEEKDAY(M15)) -> ייקבע מועד אחר | Q15: 1 | R15: זיהוי: יהיה רשום: בגיליון חדש "צור דו"ח" או "רשימה חדשה" וגם יתנו קריטריונים
A16: CU0024 | B16: 43990 | C16: NE | D16: מיכל יוגב | E16: ירושלים | F16: אנליסט | G16: קבוע | H16: 0.05 | I16: 422365 | J16: =(YEAR(TODAY())-YEAR(B16))*VLOOKUP(F16,'[5]נתונים נוספים'!$A$3:$C$9,3,FALSE)+VLOOKUP(F16,'[5]נתונים נוספים'!$A$3:$C$9,2,FALSE) -> 25000 | K16: =IF(MONTH(B16)<=$H$58,$I$58,IF(MONTH(B16)<=$H$59,$I$59,IF(MONTH(B16)<=$H$60,$I$60,$I$61))) -> רבעון 2 | L16: =VLOOKUP(K16,'[5]נתונים נוספים'!$A$14:$M$17,VLOOKUP(E16,'[5]נתונים נוספים'!$Q$8:$R$19,2,FALSE),FALSE) -> זיכוי ברכישה הבאה | M16: =IF(K16=$J$48,DATE(YEAR(B16)+$K$48,MONTH(B16),DAY(B16)),IF(OR(YEAR(B16)=$J$49,YEAR(B16)=$J$50),DATE(YEAR(B16)+$K$49,MONTH(B16),DAY(B16)+$L$49),DATE(YEAR($J$51)+$K$51,MONTH($J$51),DAY($J$51)))) -> 45816 | N16: =IF(WEEKDAY(M16)=$J$52,$K$52,WEEKDAY(M16)) -> 1 | R16: לרוב הרשימה החדשה תכיל רק חלק מהכותרות שהיו בטבלה המקורית
A17: CU0025 | B17: 43997 | C17: MK | D17: בתיה בירמן | E17: הרצליה | F17: שותף ניהול | G17: קבוע | H17: 0.07 | I17: 123456 | J17: =(YEAR(TODAY())-YEAR(B17))*VLOOKUP(F17,'[5]נתונים נוספים'!$A$3:$C$9,3,FALSE)+VLOOKUP(F17,'[5]נתונים נוספים'!$A$3:$C$9,2,FALSE) -> 26800 | K17: =IF(MONTH(B17)<=$H$58,$I$58,IF(MONTH(B17)<=$H$59,$I$59,IF(MONTH(B17)<=$H$60,$I$60,$I$61))) -> רבעון 2 | L17: =VLOOKUP(K17,'[5]נתונים נוספים'!$A$14:$M$17,VLOOKUP(E17,'[5]נתונים נוספים'!$Q$8:$R$19,2,FALSE),FALSE) -> הנחה על הרכישה הבאה | M17: =IF(K17=$J$48,DATE(YEAR(B17)+$K$48,MONTH(B17),DAY(B17)),IF(OR(YEAR(B17)=$J$49,YEAR(B17)=$J$50),DATE(YEAR(B17)+$K$49,MONTH(B17),DAY(B17)+$L$49),DATE(YEAR($J$51)+$K$51,MONTH($J$51),DAY($J$51)))) -> 45823 | N17: =IF(WEEKDAY(M17)=$J$52,$K$52,WEEKDAY(M17)) -> 1
A18: CU0026 | B18: 43705 | C18: LM | D18: שלום אלפסי | E18: הרצליה | F18: מנכ"ל | G18: קבוע | H18: 0.08 | I18: 187654 | J18: =(YEAR(TODAY())-YEAR(B18))*VLOOKUP(F18,'[5]נתונים נוספים'!$A$3:$C$9,3,FALSE)+VLOOKUP(F18,'[5]נתונים נוספים'!$A$3:$C$9,2,FALSE) -> 18250 | K18: =IF(MONTH(B18)<=$H$58,$I$58,IF(MONTH(B18)<=$H$59,$I$59,IF(MONTH(B18)<=$H$60,$I$60,$I$61))) -> רבעון 3 | L18: =VLOOKUP(K18,'[5]נתונים נוספים'!$A$14:$M$17,VLOOKUP(E18,'[5]נתונים נוספים'!$Q$8:$R$19,2,FALSE),FALSE) -> מוצר חינם | M18: =IF(K18=$J$48,DATE(YEAR(B18)+$K$48,MONTH(B18),DAY(B18)),IF(OR(YEAR(B18)=$J$49,YEAR(B18)=$J$50),DATE(YEAR(B18)+$K$49,MONTH(B18),DAY(B18)+$L$49),DATE(YEAR($J$51)+$K$51,MONTH($J$51),DAY($J$51)))) -> 45347 | N18: =IF(WEEKDAY(M18)=$J$52,$K$52,WEEKDAY(M18)) -> 1
A19: CU0027 | B19: 44438 | C19: FD | D19: ליבי-ים יגאנה | E19: חולון | F19: יועץ | G19: קבוע | H19: 0.05 | I19: 440000 | J19: =(YEAR(TODAY())-YEAR(B19))*VLOOKUP(F19,'[5]נתונים נוספים'!$A$3:$C$9,3,FALSE)+VLOOKUP(F19,'[5]נתונים נוספים'!$A$3:$C$9,2,FALSE) -> 13750 | K19: =IF(MONTH(B19)<=$H$58,$I$58,IF(MONTH(B19)<=$H$59,$I$59,IF(MONTH(B19)<=$H$60,$I$60,$I$61))) -> רבעון 3 | L19: =VLOOKUP(K19,'[5]נתונים נוספים'!$A$14:$M$17,VLOOKUP(E19,'[5]נתונים נוספים'!$Q$8:$R$19,2,FALSE),FALSE) -> מוצר חינם | M19: =IF(K19=$J$48,DATE(YEAR(B19)+$K$48,MONTH(B19),DAY(B19)),IF(OR(YEAR(B19)=$J$49,YEAR(B19)=$J$50),DATE(YEAR(B19)+$K$49,MONTH(B19),DAY(B19)+$L$49),DATE(YEAR($J$51)+$K$51,MONTH($J$51),DAY($J$51)))) -> 46634 | N19: =IF(WEEKDAY(M19)=$J$52,$K$52,WEEKDAY(M19)) -> ייקבע מועד אחר | Q19: 2 | R19: בגיליון החדש, נכין את טבלת הקריטריונים ונקפיד על כותרות, כאשר:
A20: CU0028 | B20: 43710 | C20: KD | D20: לביא אברמוביץ | E20: חיפה | F20: מנהל | G20: VIP | H20: 0.12 | I20: 365125 | J20: =(YEAR(TODAY())-YEAR(B20))*VLOOKUP(F20,'[5]נתונים נוספים'!$A$3:$C$9,3,FALSE)+VLOOKUP(F20,'[5]נתונים נוספים'!$A$3:$C$9,2,FALSE) -> 17800 | K20: =IF(MONTH(B20)<=$H$58,$I$58,IF(MONTH(B20)<=$H$59,$I$59,IF(MONTH(B20)<=$H$60,$I$60,$I$61))) -> רבעון 3 | L20: =VLOOKUP(K20,'[5]נתונים נוספים'!$A$14:$M$17,VLOOKUP(E20,'[5]נתונים נוספים'!$Q$8:$R$19,2,FALSE),FALSE) -> מוצר חינם | M20: =IF(K20=$J$48,DATE(YEAR(B20)+$K$48,MONTH(B20),DAY(B20)),IF(OR(YEAR(B20)=$J$49,YEAR(B20)=$J$50),DATE(YEAR(B20)+$K$49,MONTH(B20),DAY(B20)+$L$49),DATE(YEAR($J$51)+$K$51,MONTH($J$51),DAY($J$51)))) -> 45347 | N20: =IF(WEEKDAY(M20)=$J$52,$K$52,WEEKDAY(M20)) -> 1 | R20: וגם: אותה שורה או: שורות נפרדות
A21: CU0029 | B21: 43722 | C21: EL | D21: גיא דויטש | E21: הרצליה | F21: רכש בכיר | G21: קבוע | H21: 0.07 | I21: 321987 | J21: =(YEAR(TODAY())-YEAR(B21))*VLOOKUP(F21,'[5]נתונים נוספים'!$A$3:$C$9,3,FALSE)+VLOOKUP(F21,'[5]נתונים נוספים'!$A$3:$C$9,2,FALSE) -> 13050 | K21: =IF(MONTH(B21)<=$H$58,$I$58,IF(MONTH(B21)<=$H$59,$I$59,IF(MONTH(B21)<=$H$60,$I$60,$I$61))) -> רבעון 3 | L21: =VLOOKUP(K21,'[5]נתונים נוספים'!$A$14:$M$17,VLOOKUP(E21,'[5]נתונים נוספים'!$Q$8:$R$19,2,FALSE),FALSE) -> מוצר חינם | M21: =IF(K21=$J$48,DATE(YEAR(B21)+$K$48,MONTH(B21),DAY(B21)),IF(OR(YEAR(B21)=$J$49,YEAR(B21)=$J$50),DATE(YEAR(B21)+$K$49,MONTH(B21),DAY(B21)+$L$49),DATE(YEAR($J$51)+$K$51,MONTH($J$51),DAY($J$51)))) -> 45347 | N21: =IF(WEEKDAY(M21)=$J$52,$K$52,WEEKDAY(M21)) -> 1
A22: CU0030 | B22: 43365 | C22: KK | D22: יאיר קשטכר | E22: ראשון לציון | F22: אנליסט | G22: קבוע | H22: 0.08 | I22: 133455 | J22: =(YEAR(TODAY())-YEAR(B22))*VLOOKUP(F22,'[5]נתונים נוספים'!$A$3:$C$9,3,FALSE)+VLOOKUP(F22,'[5]נתונים נוספים'!$A$3:$C$9,2,FALSE) -> 26000 | K22: =IF(MONTH(B22)<=$H$58,$I$58,IF(MONTH(B22)<=$H$59,$I$59,IF(MONTH(B22)<=$H$60,$I$60,$I$61))) -> רבעון 3 | L22: =VLOOKUP(K22,'[5]נתונים נוספים'!$A$14:$M$17,VLOOKUP(E22,'[5]נתונים נוספים'!$Q$8:$R$19,2,FALSE),FALSE) -> הנחה על הרכישה הבאה | M22: =IF(K22=$J$48,DATE(YEAR(B22)+$K$48,MONTH(B22),DAY(B22)),IF(OR(YEAR(B22)=$J$49,YEAR(B22)=$J$50),DATE(YEAR(B22)+$K$49,MONTH(B22),DAY(B22)+$L$49),DATE(YEAR($J$51)+$K$51,MONTH($J$51),DAY($J$51)))) -> 45347 | N22: =IF(WEEKDAY(M22)=$J$52,$K$52,WEEKDAY(M22)) -> 1 | Q22: 3 | R22: נפתח גיליון חדש עם השם שביקשו, אשר יכיל רק את הכותרות שביקשו שיהיו בו
A23: CU0031 | B23: 43389 | C23: MC | D23: דקלה טויטו | E23: באר שבע | F23: שותף ניהול | G23: קבוע | H23: 0.07 | I23: 170000 | J23: =(YEAR(TODAY())-YEAR(B23))*VLOOKUP(F23,'[5]נתונים נוספים'!$A$3:$C$9,3,FALSE)+VLOOKUP(F23,'[5]נתונים נוספים'!$A$3:$C$9,2,FALSE) -> 27400 | K23: =IF(MONTH(B23)<=$H$58,$I$58,IF(MONTH(B23)<=$H$59,$I$59,IF(MONTH(B23)<=$H$60,$I$60,$I$61))) -> רבעון 4 | L23: =VLOOKUP(K23,'[5]נתונים נוספים'!$A$14:$M$17,VLOOKUP(E23,'[5]נתונים נוספים'!$Q$8:$R$19,2,FALSE),FALSE) -> זיכוי ברכישה הבאה | M23: =IF(K23=$J$48,DATE(YEAR(B23)+$K$48,MONTH(B23),DAY(B23)),IF(OR(YEAR(B23)=$J$49,YEAR(B23)=$J$50),DATE(YEAR(B23)+$K$49,MONTH(B23),DAY(B23)+$L$49),DATE(YEAR($J$51)+$K$51,MONTH($J$51),DAY($J$51)))) -> 45347 | N23: =IF(WEEKDAY(M23)=$J$52,$K$52,WEEKDAY(M23)) -> 1
A24: CU0032 | B24: 43405 | C24: FJ | D24: אברהם בנימין | E24: נס-ציונה | F24: מנכ"ל | G24: קבוע | H24: 0.05 | I24: 258000 | J24: =(YEAR(TODAY())-YEAR(B24))*VLOOKUP(F24,'[5]נתונים נוספים'!$A$3:$C$9,3,FALSE)+VLOOKUP(F24,'[5]נתונים נוספים'!$A$3:$C$9,2,FALSE) -> 19000 | K24: =IF(MONTH(B24)<=$H$58,$I$58,IF(MONTH(B24)<=$H$59,$I$59,IF(MONTH(B24)<=$H$60,$I$60,$I$61))) -> רבעון 4 | L24: =VLOOKUP(K24,'[5]נתונים נוספים'!$A$14:$M$17,VLOOKUP(E24,'[5]נתונים נוספים'!$Q$8:$R$19,2,FALSE),FALSE) -> מוצר חינם | M24: =IF(K24=$J$48,DATE(YEAR(B24)+$K$48,MONTH(B24),DAY(B24)),IF(OR(YEAR(B24)=$J$49,YEAR(B24)=$J$50),DATE(YEAR(B24)+$K$49,MONTH(B24),DAY(B24)+$L$49),DATE(YEAR($J$51)+$K$51,MONTH($J$51),DAY($J$51)))) -> 45347 | N24: =IF(WEEKDAY(M24)=$J$52,$K$52,WEEKDAY(M24)) -> 1 | Q24: 4 | R24: כשאנו בגיליון החדש: לשונית "נתונים", "מתקדם", נסמן תמיד "העתק למיקום אחר" ונמלא:
A25: CU0033 | B25: 43416 | C25: AI | D25: דורון קטן | E25: קרית אתא | F25: יועץ | G25: מזדמן | H25: 0.01 | I25: 145685 | J25: =(YEAR(TODAY())-YEAR(B25))*VLOOKUP(F25,'[5]נתונים נוספים'!$A$3:$C$9,3,FALSE)+VLOOKUP(F25,'[5]נתונים נוספים'!$A$3:$C$9,2,FALSE) -> 14500 | K25: =IF(MONTH(B25)<=$H$58,$I$58,IF(MONTH(B25)<=$H$59,$I$59,IF(MONTH(B25)<=$H$60,$I$60,$I$61))) -> רבעון 4 | L25: =VLOOKUP(K25,'[5]נתונים נוספים'!$A$14:$M$17,VLOOKUP(E25,'[5]נתונים נוספים'!$Q$8:$R$19,2,FALSE),FALSE) -> מוצר חינם | M25: =IF(K25=$J$48,DATE(YEAR(B25)+$K$48,MONTH(B25),DAY(B25)),IF(OR(YEAR(B25)=$J$49,YEAR(B25)=$J$50),DATE(YEAR(B25)+$K$49,MONTH(B25),DAY(B25)+$L$49),DATE(YEAR($J$51)+$K$51,MONTH($J$51),DAY($J$51)))) -> 45347 | N25: =IF(WEEKDAY(M25)=$J$52,$K$52,WEEKDAY(M25)) -> 1
A26: CU0034 | B26: 43423 | C26: GI | D26: לישי מקסוול | E26: חולון | F26: מנהל מחלקת רכש | G26: מזדמן | H26: 0.01 | I26: 36000 | J26: =(YEAR(TODAY())-YEAR(B26))*VLOOKUP(F26,'[5]נתונים נוספים'!$A$3:$C$9,3,FALSE)+VLOOKUP(F26,'[5]נתונים נוספים'!$A$3:$C$9,2,FALSE) -> 14400 | K26: =IF(MONTH(B26)<=$H$58,$I$58,IF(MONTH(B26)<=$H$59,$I$59,IF(MONTH(B26)<=$H$60,$I$60,$I$61))) -> רבעון 4 | L26: =VLOOKUP(K26,'[5]נתונים נוספים'!$A$14:$M$17,VLOOKUP(E26,'[5]נתונים נוספים'!$Q$8:$R$19,2,FALSE),FALSE) -> זיכוי ברכישה הבאה | M26: =IF(K26=$J$48,DATE(YEAR(B26)+$K$48,MONTH(B26),DAY(B26)),IF(OR(YEAR(B26)=$J$49,YEAR(B26)=$J$50),DATE(YEAR(B26)+$K$49,MONTH(B26),DAY(B26)+$L$49),DATE(YEAR($J$51)+$K$51,MONTH($J$51),DAY($J$51)))) -> 45347 | N26: =IF(WEEKDAY(M26)=$J$52,$K$52,WEEKDAY(M26)) -> 1 | R26: כל טבלת הנתונים המקורית, עם כותרות | S26: טווח רשימה
A27: CU0035 | B27: 43426 | C27: LL | D27: דקל אדם | E27: יבנה | F27: מנהל | G27: VIP | H27: 0.2 | I27: 77000 | J27: =(YEAR(TODAY())-YEAR(B27))*VLOOKUP(F27,'[5]נתונים נוספים'!$A$3:$C$9,3,FALSE)+VLOOKUP(F27,'[5]נתונים נוספים'!$A$3:$C$9,2,FALSE) -> 18200 | K27: =IF(MONTH(B27)<=$H$58,$I$58,IF(MONTH(B27)<=$H$59,$I$59,IF(MONTH(B27)<=$H$60,$I$60,$I$61))) -> רבעון 4 | L27: =VLOOKUP(K27,'[5]נתונים נוספים'!$A$14:$M$17,VLOOKUP(E27,'[5]נתונים נוספים'!$Q$8:$R$19,2,FALSE),FALSE) -> אין הטבה | M27: =IF(K27=$J$48,DATE(YEAR(B27)+$K$48,MONTH(B27),DAY(B27)),IF(OR(YEAR(B27)=$J$49,YEAR(B27)=$J$50),DATE(YEAR(B27)+$K$49,MONTH(B27),DAY(B27)+$L$49),DATE(YEAR($J$51)+$K$51,MONTH($J$51),DAY($J$51)))) -> 45347 | N27: =IF(WEEKDAY(M27)=$J$52,$K$52,WEEKDAY(M27)) -> 1
A28: CU0036 | B28: 44525 | C28: BB | D28: ליריינה סופיה | E28: חיפה | F28: רכש בכיר | G28: קבוע | H28: 0.05 | I28: 280000 | J28: =(YEAR(TODAY())-YEAR(B28))*VLOOKUP(F28,'[5]נתונים נוספים'!$A$3:$C$9,3,FALSE)+VLOOKUP(F28,'[5]נתונים נוספים'!$A$3:$C$9,2,FALSE) -> 12750 | K28: =IF(MONTH(B28)<=$H$58,$I$58,IF(MONTH(B28)<=$H$59,$I$59,IF(MONTH(B28)<=$H$60,$I$60,$I$61))) -> רבעון 4 | L28: =VLOOKUP(K28,'[5]נתונים נוספים'!$A$14:$M$17,VLOOKUP(E28,'[5]נתונים נוספים'!$Q$8:$R$19,2,FALSE),FALSE) -> אין הטבה | M28: =IF(K28=$J$48,DATE(YEAR(B28)+$K$48,MONTH(B28),DAY(B28)),IF(OR(YEAR(B28)=$J$49,YEAR(B28)=$J$50),DATE(YEAR(B28)+$K$49,MONTH(B28),DAY(B28)+$L$49),"X")) -> 46721 | N28: =IF(WEEKDAY(M28)=$J$52,$K$52,WEEKDAY(M28)) -> 3 | R28: טבלת הקריטריונים שהכנו- עם כותרות | S28: טווח קריטריונים
R30: הכותרות שייכללו בגיליון החדש שפתחתנו (משלב 3) | S30: העתק אל
J48: רבעון 2 | K48: 5
J49: 2020 | K49: 6 | L49: 5
J50: 2021
J51: 44982 | K51: 1
J52: 7 | K52: ייקבע מועד אחר
H57: חודש | I57: רבעון
H58: 3 | I58: רבעון 1
H59: 6 | I59: רבעון 2
H60: 9 | I60: רבעון 3
I61: רבעון 4

Sheet דוח לקוחות (מסונן)

Sheet DMAX
A1: מספר ת.ז | B1: שם פרטי | C1: שם משפחה | D1: כתובת דוא"ל | E1: תאריך הצטרפות | F1: גיל | G1: אזור מגורים | H1: מסלול לקוח | I1: מספר חודשי ותק | J1: משכורת חודשית ממוצעת | K1: מענק ללקוח בשח | L1: תאריך משיכת מענק | M1: פתרון סופי רועי | N1: בשנת 2025 ביום העשירי בחודש הקודם | O1: שש שנים לאחר ההצטרפות וביום האחרון | P1: בונוס לעובד | Q1: משכורת חודשית ממוצעת באירו | R1: משכורת שנתית ממוצעת
A2: 6056565 | B2: צחי | C2: כהן | D2: JXIELUBY@colman.ac.il | E2: 43604 | F2: 23 | G2: מרכז | H2: בסיסי | I2: 60 | J2: 15750 | K2: {=_xlfn.XLOOKUP(I2,$T$4:$T$8,_xlfn.XLOOKUP(H2,$U$3:$W$3,$U$4:$W$8,,0),,-1)*J2} -> 2835 | L2: =IF(YEAR(E2)<$T$19,DATE($T$20,MONTH(E2)-$T$22,$T$21),DATE(YEAR(E2)+$T$23,MONTH(E2)+$T$24,$T$25)) -> 45757 | M2: =IF(YEAR(E2)<$X$19,N2,O2) -> 45757 | N2: =DATE($X$20,MONTH(E2)-$X$22,$X$21) -> 45757 | O2: =DATE(YEAR(E2)+$X$23,MONTH(E2)+$X$24,$X$25) -> 45808 | P2: =(J2-_xlfn.XLOOKUP(J2,$T$12:$T$16,$T$12:$T$16,,-1))*_xlfn.XLOOKUP(J2,$T$12:$T$16,$U$12:$U$16,,-1)+_xlfn.XLOOKUP(J2,$T$12:$T$16,$V$12:$V$16,,-1) -> 480 | Q2: =J2/$U$35 -> 4200 | R2: =J2*$AA$18 -> 189000 | T2: טבלת מספר 1: | Z2: ממועד ב 2025
A3: 4430571 | B3: אורן | C3: וידר | D3: RFANLGI22@gmail.com | E3: 43504 | F3: 34 | G3: מרכז | H3: פרמיום | I3: 95 | J3: 12750 | K3: {=_xlfn.XLOOKUP(I3,$T$4:$T$8,_xlfn.XLOOKUP(H3,$U$3:$W$3,$U$4:$W$8,,0),,-1)*J3} -> 2805 | L3: =IF(YEAR(E3)<$T$19,DATE($T$20,MONTH(E3)-$T$22,$T$21),DATE(YEAR(E3)+$T$23,MONTH(E3)+$T$24,$T$25)) -> 45667 | M3: =IF(YEAR(E3)<$X$19,N3,O3) -> 45667 | N3: =DATE($X$20,MONTH(E3)-$X$22,$X$21) -> 45667 | O3: =DATE(YEAR(E3)+$X$23,MONTH(E3)+$X$24,$X$25) -> 45716 | P3: =(J3-_xlfn.XLOOKUP(J3,$T$12:$T$16,$T$12:$T$16,,-1))*_xlfn.XLOOKUP(J3,$T$12:$T$16,$U$12:$U$16,,-1)+_xlfn.XLOOKUP(J3,$T$12:$T$16,$V$12:$V$16,,-1) -> 360 | Q3: =J3/$U$35 -> 3400 | R3: =J3*$AA$18 -> 153000 | T3: חודשי ותק/מסלול | U3: בסיסי | V3: פרמיום | W3: עסקי
A4: 3427449 | B4: בני | C4: קוזניץ | D4: BD12BUB@colman.ac.il | E4: 43166 | F4: 47 | G4: צפון | H4: עסקי | I4: 31 | J4: 114000 | K4: {=_xlfn.XLOOKUP(I4,$T$4:$T$8,_xlfn.XLOOKUP(H4,$U$3:$W$3,$U$4:$W$8,,0),,-1)*J4} -> 22800 | L4: =IF(YEAR(E4)<$T$19,DATE($T$20,MONTH(E4)-$T$22,$T$21),DATE(YEAR(E4)+$T$23,MONTH(E4)+$T$24,$T$25)) -> 45698 | M4: =IF(YEAR(E4)<$X$19,N4,O4) -> 45698 | N4: =DATE($X$20,MONTH(E4)-$X$22,$X$21) -> 45698 | O4: =DATE(YEAR(E4)+$X$23,MONTH(E4)+$X$24,$X$25) -> 45382 | P4: =(J4-_xlfn.XLOOKUP(J4,$T$12:$T$16,$T$12:$T$16,,-1))*_xlfn.XLOOKUP(J4,$T$12:$T$16,$U$12:$U$16,,-1)+_xlfn.XLOOKUP(J4,$T$12:$T$16,$V$12:$V$16,,-1) -> 7250 | Q4: =J4/$U$35 -> 30400 | R4: =J4*$AA$18 -> 1368000 | T4: 0 | U4: 0.12 | V4: 0.14 | W4: 0.16
A5: 5830124 | B5: צביקה | C5: אברמוביץ | D5: R5HJ9DT@gmail.com | E5: 44132 | F5: 26 | G5: דרום | H5: עסקי | I5: 26 | J5: 77500 | K5: {=_xlfn.XLOOKUP(I5,$T$4:$T$8,_xlfn.XLOOKUP(H5,$U$3:$W$3,$U$4:$W$8,,0),,-1)*J5} -> 15500 | L5: =IF(YEAR(E5)<$T$19,DATE($T$20,MONTH(E5)-$T$22,$T$21),DATE(YEAR(E5)+$T$23,MONTH(E5)+$T$24,$T$25)) -> 46326 | M5: =IF(YEAR(E5)<$X$19,N5,O5) -> 46326 | N5: =DATE($X$20,MONTH(E5)-$X$22,$X$21) -> 45910 | O5: =DATE(YEAR(E5)+$X$23,MONTH(E5)+$X$24,$X$25) -> 46326 | P5: =(J5-_xlfn.XLOOKUP(J5,$T$12:$T$16,$T$12:$T$16,,-1))*_xlfn.XLOOKUP(J5,$T$12:$T$16,$U$12:$U$16,,-1)+_xlfn.XLOOKUP(J5,$T$12:$T$16,$V$12:$V$16,,-1) -> 4162.5 | Q5: =J5/$U$35 -> 20666.667 | R5: =J5*$AA$18 -> 930000 | T5: 15 | U5: 0.15 | V5: 0.18 | W5: 0.2
A6: 3192167 | B6: חן | C6: אבני | D6: JXI45LUBY@colman.ac.il | E6: 44493 | F6: 57 | G6: דרום | H6: עסקי | I6: 99 | J6: 63000 | K6: {=_xlfn.XLOOKUP(I6,$T$4:$T$8,_xlfn.XLOOKUP(H6,$U$3:$W$3,$U$4:$W$8,,0),,-1)*J6} -> 17640 | L6: =IF(YEAR(E6)<$T$19,DATE($T$20,MONTH(E6)-$T$22,$T$21),DATE(YEAR(E6)+$T$23,MONTH(E6)+$T$24,$T$25)) -> 46691 | M6: =IF(YEAR(E6)<$X$19,N6,O6) -> 46691 | N6: =DATE($X$20,MONTH(E6)-$X$22,$X$21) -> 45910 | O6: =DATE(YEAR(E6)+$X$23,MONTH(E6)+$X$24,$X$25) -> 46691 | P6: =(J6-_xlfn.XLOOKUP(J6,$T$12:$T$16,$T$12:$T$16,,-1))*_xlfn.XLOOKUP(J6,$T$12:$T$16,$U$12:$U$16,,-1)+_xlfn.XLOOKUP(J6,$T$12:$T$16,$V$12:$V$16,,-1) -> 3075 | Q6: =J6/$U$35 -> 16800 | R6: =J6*$AA$18 -> 756000 | T6: 40 | U6: 0.18 | V6: 0.2 | W6: 0.25
A7: 5145835 | B7: משה | C7: לוי | D7: GILIUU8@gmail.com | E7: 43978 | F7: 48 | G7: מרכז | H7: בסיסי | I7: 75 | J7: 30125 | K7: {=_xlfn.XLOOKUP(I7,$T$4:$T$8,_xlfn.XLOOKUP(H7,$U$3:$W$3,$U$4:$W$8,,0),,-1)*J7} -> 6025 | L7: =IF(YEAR(E7)<$T$19,DATE($T$20,MONTH(E7)-$T$22,$T$21),DATE(YEAR(E7)+$T$23,MONTH(E7)+$T$24,$T$25)) -> 46173 | M7: =IF(YEAR(E7)<$X$19,N7,O7) -> 46173 | N7: =DATE($X$20,MONTH(E7)-$X$22,$X$21) -> 45757 | O7: =DATE(YEAR(E7)+$X$23,MONTH(E7)+$X$24,$X$25) -> 46173 | P7: =(J7-_xlfn.XLOOKUP(J7,$T$12:$T$16,$T$12:$T$16,,-1))*_xlfn.XLOOKUP(J7,$T$12:$T$16,$U$12:$U$16,,-1)+_xlfn.XLOOKUP(J7,$T$12:$T$16,$V$12:$V$16,,-1) -> 1106.25 | Q7: =J7/$U$35 -> 8033.3333 | R7: =J7*$AA$18 -> 361500 | T7: 70 | U7: 0.2 | V7: 0.22 | W7: 0.28
A8: 5915445 | B8: מני | C8: פורת | D8: FFNGQQWT@ynet.co.il | E8: 44071 | F8: 18 | G8: צפון | H8: בסיסי | I8: 81 | J8: 23375 | K8: {=_xlfn.XLOOKUP(I8,$T$4:$T$8,_xlfn.XLOOKUP(H8,$U$3:$W$3,$U$4:$W$8,,0),,-1)*J8} -> 4675 | L8: =IF(YEAR(E8)<$T$19,DATE($T$20,MONTH(E8)-$T$22,$T$21),DATE(YEAR(E8)+$T$23,MONTH(E8)+$T$24,$T$25)) -> 46265 | M8: =IF(YEAR(E8)<$X$19,N8,O8) -> 46265 | N8: =DATE($X$20,MONTH(E8)-$X$22,$X$21) -> 45848 | O8: =DATE(YEAR(E8)+$X$23,MONTH(E8)+$X$24,$X$25) -> 46265 | P8: =(J8-_xlfn.XLOOKUP(J8,$T$12:$T$16,$T$12:$T$16,,-1))*_xlfn.XLOOKUP(J8,$T$12:$T$16,$U$12:$U$16,,-1)+_xlfn.XLOOKUP(J8,$T$12:$T$16,$V$12:$V$16,,-1) -> 785 | Q8: =J8/$U$35 -> 6233.3333 | R8: =J8*$AA$18 -> 280500 | T8: 110 | U8: 0.25 | V8: 0.3 | W8: 0.32
A9: 5464769 | B9: שי | C9: פסט | D9: QW3@hotmail.com | E9: 43497 | F9: 37 | G9: מרכז | H9: בסיסי | I9: 66 | J9: 35625 | K9: {=_xlfn.XLOOKUP(I9,$T$4:$T$8,_xlfn.XLOOKUP(H9,$U$3:$W$3,$U$4:$W$8,,0),,-1)*J9} -> 6412.5 | L9: =IF(YEAR(E9)<$T$19,DATE($T$20,MONTH(E9)-$T$22,$T$21),DATE(YEAR(E9)+$T$23,MONTH(E9)+$T$24,$T$25)) -> 45667 | M9: =IF(YEAR(E9)<$X$19,N9,O9) -> 45667 | N9: =DATE($X$20,MONTH(E9)-$X$22,$X$21) -> 45667 | O9: =DATE(YEAR(E9)+$X$23,MONTH(E9)+$X$24,$X$25) -> 45716 | P9: =(J9-_xlfn.XLOOKUP(J9,$T$12:$T$16,$T$12:$T$16,,-1))*_xlfn.XLOOKUP(J9,$T$12:$T$16,$U$12:$U$16,,-1)+_xlfn.XLOOKUP(J9,$T$12:$T$16,$V$12:$V$16,,-1) -> 1381.25 | Q9: =J9/$U$35 -> 9500 | R9: =J9*$AA$18 -> 427500
A10: 3992335 | B10: ליאור | C10: פינקלשטייו | D10: NYIAVES@colman.ac.il | E10: 44845 | F10: 62 | G10: צפון | H10: עסקי | I10: 63 | J10: 9500 | K10: {=_xlfn.XLOOKUP(I10,$T$4:$T$8,_xlfn.XLOOKUP(H10,$U$3:$W$3,$U$4:$W$8,,0),,-1)*J10} -> 2375 | L10: =IF(YEAR(E10)<$T$19,DATE($T$20,MONTH(E10)-$T$22,$T$21),DATE(YEAR(E10)+$T$23,MONTH(E10)+$T$24,$T$25)) -> 47057 | M10: =IF(YEAR(E10)<$X$19,N10,O10) -> 47057 | N10: =DATE($X$20,MONTH(E10)-$X$22,$X$21) -> 45910 | O10: =DATE(YEAR(E10)+$X$23,MONTH(E10)+$X$24,$X$25) -> 47057 | P10: =(J10-_xlfn.XLOOKUP(J10,$T$12:$T$16,$T$12:$T$16,,-1))*_xlfn.XLOOKUP(J10,$T$12:$T$16,$U$12:$U$16,,-1)+_xlfn.XLOOKUP(J10,$T$12:$T$16,$V$12:$V$16,,-1) -> 237.5 | Q10: =J10/$U$35 -> 2533.3333 | R10: =J10*$AA$18 -> 114000 | T10: נתונים לשאלה 2 א
A11: 4633026 | B11: אבינועם | C11: זוהר | D11: GIMI89FG@walla.co.il | E11: 45030 | F11: 30 | G11: מרכז | H11: עסקי | I11: 86 | J11: 8250 | K11: {=_xlfn.XLOOKUP(I11,$T$4:$T$8,_xlfn.XLOOKUP(H11,$U$3:$W$3,$U$4:$W$8,,0),,-1)*J11} -> 2310 | L11: =IF(YEAR(E11)<$T$19,DATE($T$20,MONTH(E11)-$T$22,$T$21),DATE(YEAR(E11)+$T$23,MONTH(E11)+$T$24,$T$25)) -> 47238 | M11: =IF(YEAR(E11)<$X$19,N11,O11) -> 47238 | N11: =DATE($X$20,MONTH(E11)-$X$22,$X$21) -> 45726 | O11: =DATE(YEAR(E11)+$X$23,MONTH(E11)+$X$24,$X$25) -> 47238 | P11: =(J11-_xlfn.XLOOKUP(J11,$T$12:$T$16,$T$12:$T$16,,-1))*_xlfn.XLOOKUP(J11,$T$12:$T$16,$U$12:$U$16,,-1)+_xlfn.XLOOKUP(J11,$T$12:$T$16,$V$12:$V$16,,-1) -> 206.25 | Q11: =J11/$U$35 -> 2200 | R11: =J11*$AA$18 -> 99000 | T11: מדרגה | U11: אחוז | V11: מצטבר
A12: 6790786 | B12: עומרי | C12: חרד | D12: RAV8O@walla.co.il | E12: 42875 | F12: 49 | G12: מרכז | H12: פרמיום | I12: 121 | J12: 12500 | K12: {=_xlfn.XLOOKUP(I12,$T$4:$T$8,_xlfn.XLOOKUP(H12,$U$3:$W$3,$U$4:$W$8,,0),,-1)*J12} -> 3750 | L12: =IF(YEAR(E12)<$T$19,DATE($T$20,MONTH(E12)-$T$22,$T$21),DATE(YEAR(E12)+$T$23,MONTH(E12)+$T$24,$T$25)) -> 45757 | M12: =IF(YEAR(E12)<$X$19,N12,O12) -> 45757 | N12: =DATE($X$20,MONTH(E12)-$X$22,$X$21) -> 45757 | O12: =DATE(YEAR(E12)+$X$23,MONTH(E12)+$X$24,$X$25) -> 45077 | P12: =(J12-_xlfn.XLOOKUP(J12,$T$12:$T$16,$T$12:$T$16,,-1))*_xlfn.XLOOKUP(J12,$T$12:$T$16,$U$12:$U$16,,-1)+_xlfn.XLOOKUP(J12,$T$12:$T$16,$V$12:$V$16,,-1) -> 350 | Q12: =J12/$U$35 -> 3333.3333 | R12: =J12*$AA$18 -> 150000 | T12: 0 | U12: 0.025 | V12: 0
A13: 5828005 | B13: אלי | C13: זונשיין | D13: JAKI89@gmail.com | E13: 44265 | F13: 32 | G13: דרום | H13: פרמיום | I13: 8 | J13: 26500 | K13: {=_xlfn.XLOOKUP(I13,$T$4:$T$8,_xlfn.XLOOKUP(H13,$U$3:$W$3,$U$4:$W$8,,0),,-1)*J13} -> 3710 | L13: =IF(YEAR(E13)<$T$19,DATE($T$20,MONTH(E13)-$T$22,$T$21),DATE(YEAR(E13)+$T$23,MONTH(E13)+$T$24,$T$25)) -> 46477 | M13: =IF(YEAR(E13)<$X$19,N13,O13) -> 46477 | N13: =DATE($X$20,MONTH(E13)-$X$22,$X$21) -> 45698 | O13: =DATE(YEAR(E13)+$X$23,MONTH(E13)+$X$24,$X$25) -> 46477 | P13: =(J13-_xlfn.XLOOKUP(J13,$T$12:$T$16,$T$12:$T$16,,-1))*_xlfn.XLOOKUP(J13,$T$12:$T$16,$U$12:$U$16,,-1)+_xlfn.XLOOKUP(J13,$T$12:$T$16,$V$12:$V$16,,-1) -> 925 | Q13: =J13/$U$35 -> 7066.6667 | R13: =J13*$AA$18 -> 318000 | T13: 10000 | U13: 0.04 | V13: =(T13-T12)*U12+V12 -> 250
A14: 6934852 | B14: חזי | C14: אביגד | D14: MYGLDVTD@colman.ac.il | E14: 45594 | F14: 31 | G14: צפון | H14: בסיסי | I14: 83 | J14: 8625 | K14: {=_xlfn.XLOOKUP(I14,$T$4:$T$8,_xlfn.XLOOKUP(H14,$U$3:$W$3,$U$4:$W$8,,0),,-1)*J14} -> 1725 | L14: =IF(YEAR(E14)<$T$19,DATE($T$20,MONTH(E14)-$T$22,$T$21),DATE(YEAR(E14)+$T$23,MONTH(E14)+$T$24,$T$25)) -> 47787 | M14: =IF(YEAR(E14)<$X$19,N14,O14) -> 47787 | N14: =DATE($X$20,MONTH(E14)-$X$22,$X$21) -> 45910 | O14: =DATE(YEAR(E14)+$X$23,MONTH(E14)+$X$24,$X$25) -> 47787 | P14: =(J14-_xlfn.XLOOKUP(J14,$T$12:$T$16,$T$12:$T$16,,-1))*_xlfn.XLOOKUP(J14,$T$12:$T$16,$U$12:$U$16,,-1)+_xlfn.XLOOKUP(J14,$T$12:$T$16,$V$12:$V$16,,-1) -> 215.625 | Q14: =J14/$U$35 -> 2300 | R14: =J14*$AA$18 -> 103500 | T14: 25000 | U14: 0.05 | V14: =(T14-T13)*U13+V13 -> 850
A15: 4708795 | B15: איתמר | C15: גרינפלד | D15: AUTBPAME@gmail.com | E15: 40295 | F15: 26 | G15: מרכז | H15: עסקי | I15: 21 | J15: 42500 | K15: {=_xlfn.XLOOKUP(I15,$T$4:$T$8,_xlfn.XLOOKUP(H15,$U$3:$W$3,$U$4:$W$8,,0),,-1)*J15} -> 8500 | L15: =IF(YEAR(E15)<$T$19,DATE($T$20,MONTH(E15)-$T$22,$T$21),DATE(YEAR(E15)+$T$23,MONTH(E15)+$T$24,$T$25)) -> 45726 | M15: =IF(YEAR(E15)<$X$19,N15,O15) -> 45726 | N15: =DATE($X$20,MONTH(E15)-$X$22,$X$21) -> 45726 | O15: =DATE(YEAR(E15)+$X$23,MONTH(E15)+$X$24,$X$25) -> 42490 | P15: =(J15-_xlfn.XLOOKUP(J15,$T$12:$T$16,$T$12:$T$16,,-1))*_xlfn.XLOOKUP(J15,$T$12:$T$16,$U$12:$U$16,,-1)+_xlfn.XLOOKUP(J15,$T$12:$T$16,$V$12:$V$16,,-1) -> 1725 | Q15: =J15/$U$35 -> 11333.333 | R15: =J15*$AA$18 -> 510000 | T15: 50000 | U15: 0.075 | V15: =(T15-T14)*U14+V14 -> 2100
A16: 4853519 | B16: מייקל | C16: קלושנר | D16: TUTUU7@yahoo.com | E16: 43440 | F16: 65 | G16: מרכז | H16: עסקי | I16: 106 | J16: 30250 | K16: {=_xlfn.XLOOKUP(I16,$T$4:$T$8,_xlfn.XLOOKUP(H16,$U$3:$W$3,$U$4:$W$8,,0),,-1)*J16} -> 8470 | L16: =IF(YEAR(E16)<$T$19,DATE($T$20,MONTH(E16)-$T$22,$T$21),DATE(YEAR(E16)+$T$23,MONTH(E16)+$T$24,$T$25)) -> 45971 | M16: =IF(YEAR(E16)<$X$19,N16,O16) -> 45971 | N16: =DATE($X$20,MONTH(E16)-$X$22,$X$21) -> 45971 | O16: =DATE(YEAR(E16)+$X$23,MONTH(E16)+$X$24,$X$25) -> 45657 | P16: =(J16-_xlfn.XLOOKUP(J16,$T$12:$T$16,$T$12:$T$16,,-1))*_xlfn.XLOOKUP(J16,$T$12:$T$16,$U$12:$U$16,,-1)+_xlfn.XLOOKUP(J16,$T$12:$T$16,$V$12:$V$16,,-1) -> 1112.5 | Q16: =J16/$U$35 -> 8066.6667 | R16: =J16*$AA$18 -> 363000 | T16: 100000 | U16: 0.1 | V16: =(T16-T15)*U15+V15 -> 5850
A17: 5769687 | B17: אפרת | C17: שטיין | D17: PADI5@yahoo.com | E17: 40534 | F17: 36 | G17: מרכז | H17: בסיסי | I17: 87 | J17: 8500 | K17: {=_xlfn.XLOOKUP(I17,$T$4:$T$8,_xlfn.XLOOKUP(H17,$U$3:$W$3,$U$4:$W$8,,0),,-1)*J17} -> 1700 | L17: =IF(YEAR(E17)<$T$19,DATE($T$20,MONTH(E17)-$T$22,$T$21),DATE(YEAR(E17)+$T$23,MONTH(E17)+$T$24,$T$25)) -> 45971 | M17: =IF(YEAR(E17)<$X$19,N17,O17) -> 45971 | N17: =DATE($X$20,MONTH(E17)-$X$22,$X$21) -> 45971 | O17: =DATE(YEAR(E17)+$X$23,MONTH(E17)+$X$24,$X$25) -> 42735 | P17: =(J17-_xlfn.XLOOKUP(J17,$T$12:$T$16,$T$12:$T$16,,-1))*_xlfn.XLOOKUP(J17,$T$12:$T$16,$U$12:$U$16,,-1)+_xlfn.XLOOKUP(J17,$T$12:$T$16,$V$12:$V$16,,-1) -> 212.5 | Q17: =J17/$U$35 -> 2266.6667 | R17: =J17*$AA$18 -> 102000
A18: 5720158 | B18: אשר | C18: בנימיני | D18: WTUUETX@gmail.com | E18: 44419 | F18: 27 | G18: דרום | H18: בסיסי | I18: 19 | J18: 58125 | K18: {=_xlfn.XLOOKUP(I18,$T$4:$T$8,_xlfn.XLOOKUP(H18,$U$3:$W$3,$U$4:$W$8,,0),,-1)*J18} -> 8718.75 | L18: =IF(YEAR(E18)<$T$19,DATE($T$20,MONTH(E18)-$T$22,$T$21),DATE(YEAR(E18)+$T$23,MONTH(E18)+$T$24,$T$25)) -> 46630 | M18: =IF(YEAR(E18)<$X$19,N18,O18) -> 46630 | N18: =DATE($X$20,MONTH(E18)-$X$22,$X$21) -> 45848 | O18: =DATE(YEAR(E18)+$X$23,MONTH(E18)+$X$24,$X$25) -> 46630 | P18: =(J18-_xlfn.XLOOKUP(J18,$T$12:$T$16,$T$12:$T$16,,-1))*_xlfn.XLOOKUP(J18,$T$12:$T$16,$U$12:$U$16,,-1)+_xlfn.XLOOKUP(J18,$T$12:$T$16,$V$12:$V$16,,-1) -> 2709.375 | Q18: =J18/$U$35 -> 15500 | R18: =J18*$AA$18 -> 697500 | T18: תאי עזר לשאלה 1ב- | V18: תא עזר לחישוב משכרת שנתית ממוצעת (שאלה 4ב) | AA18: 12
A19: 5521822 | B19: כרמית | C19: חזי | D19: TUKU7K@yahoo.com | E19: 43641 | F19: 27 | G19: דרום | H19: פרמיום | I19: 95 | J19: 16000 | K19: {=_xlfn.XLOOKUP(I19,$T$4:$T$8,_xlfn.XLOOKUP(H19,$U$3:$W$3,$U$4:$W$8,,0),,-1)*J19} -> 3520 | L19: =IF(YEAR(E19)<$T$19,DATE($T$20,MONTH(E19)-$T$22,$T$21),DATE(YEAR(E19)+$T$23,MONTH(E19)+$T$24,$T$25)) -> 45787 | M19: =IF(YEAR(E19)<$X$19,N19,O19) -> 45787 | N19: =DATE($X$20,MONTH(E19)-$X$22,$X$21) -> 45787 | O19: =DATE(YEAR(E19)+$X$23,MONTH(E19)+$X$24,$X$25) -> 45838 | P19: =(J19-_xlfn.XLOOKUP(J19,$T$12:$T$16,$T$12:$T$16,,-1))*_xlfn.XLOOKUP(J19,$T$12:$T$16,$U$12:$U$16,,-1)+_xlfn.XLOOKUP(J19,$T$12:$T$16,$V$12:$V$16,,-1) -> 490 | Q19: =J19/$U$35 -> 4266.6667 | R19: =J19*$AA$18 -> 192000 | T19: 2020 | X19: 2020
A20: 3907601 | B20: הילה | C20: אהרוני | D20: GT67JK@yahoo.com | E20: 45562 | F20: 59 | G20: מרכז | H20: עסקי | I20: 23 | J20: 95750 | K20: {=_xlfn.XLOOKUP(I20,$T$4:$T$8,_xlfn.XLOOKUP(H20,$U$3:$W$3,$U$4:$W$8,,0),,-1)*J20} -> 19150 | L20: =IF(YEAR(E20)<$T$19,DATE($T$20,MONTH(E20)-$T$22,$T$21),DATE(YEAR(E20)+$T$23,MONTH(E20)+$T$24,$T$25)) -> 47756 | M20: =IF(YEAR(E20)<$X$19,N20,O20) -> 47756 | N20: =DATE($X$20,MONTH(E20)-$X$22,$X$21) -> 45879 | O20: =DATE(YEAR(E20)+$X$23,MONTH(E20)+$X$24,$X$25) -> 47756 | P20: =(J20-_xlfn.XLOOKUP(J20,$T$12:$T$16,$T$12:$T$16,,-1))*_xlfn.XLOOKUP(J20,$T$12:$T$16,$U$12:$U$16,,-1)+_xlfn.XLOOKUP(J20,$T$12:$T$16,$V$12:$V$16,,-1) -> 5531.25 | Q20: =J20/$U$35 -> 25533.333 | R20: =J20*$AA$18 -> 1149000 | T20: 2025 | X20: 2025
A21: 5127949 | B21: אוהד | C21: בן משה | D21: YACM@hotmail.com | E21: 43235 | F21: 23 | G21: צפון | H21: בסיסי | I21: 74 | J21: 6000 | K21: {=_xlfn.XLOOKUP(I21,$T$4:$T$8,_xlfn.XLOOKUP(H21,$U$3:$W$3,$U$4:$W$8,,0),,-1)*J21} -> 1200 | L21: =IF(YEAR(E21)<$T$19,DATE($T$20,MONTH(E21)-$T$22,$T$21),DATE(YEAR(E21)+$T$23,MONTH(E21)+$T$24,$T$25)) -> 45757 | M21: =IF(YEAR(E21)<$X$19,N21,O21) -> 45757 | N21: =DATE($X$20,MONTH(E21)-$X$22,$X$21) -> 45757 | O21: =DATE(YEAR(E21)+$X$23,MONTH(E21)+$X$24,$X$25) -> 45443 | P21: =(J21-_xlfn.XLOOKUP(J21,$T$12:$T$16,$T$12:$T$16,,-1))*_xlfn.XLOOKUP(J21,$T$12:$T$16,$U$12:$U$16,,-1)+_xlfn.XLOOKUP(J21,$T$12:$T$16,$V$12:$V$16,,-1) -> 150 | Q21: =J21/$U$35 -> 1600 | R21: =J21*$AA$18 -> 72000 | T21: 10 | X21: 10
A22: 3083848 | B22: יהונתן | C22: ארייב | D22: TAB@hotmail.com | E22: 41908 | F22: 18 | G22: מרכז | H22: בסיסי | I22: 9 | J22: 11000 | K22: {=_xlfn.XLOOKUP(I22,$T$4:$T$8,_xlfn.XLOOKUP(H22,$U$3:$W$3,$U$4:$W$8,,0),,-1)*J22} -> 1320 | L22: =IF(YEAR(E22)<$T$19,DATE($T$20,MONTH(E22)-$T$22,$T$21),DATE(YEAR(E22)+$T$23,MONTH(E22)+$T$24,$T$25)) -> 45879 | M22: =IF(YEAR(E22)<$X$19,N22,O22) -> 45879 | N22: =DATE($X$20,MONTH(E22)-$X$22,$X$21) -> 45879 | O22: =DATE(YEAR(E22)+$X$23,MONTH(E22)+$X$24,$X$25) -> 44104 | P22: =(J22-_xlfn.XLOOKUP(J22,$T$12:$T$16,$T$12:$T$16,,-1))*_xlfn.XLOOKUP(J22,$T$12:$T$16,$U$12:$U$16,,-1)+_xlfn.XLOOKUP(J22,$T$12:$T$16,$V$12:$V$16,,-1) -> 290 | Q22: =J22/$U$35 -> 2933.3333 | R22: =J22*$AA$18 -> 132000 | T22: 1 | X22: 1
A23: 4115321 | B23: ניר | C23: בן שטרית | D23: HRNFSEKR@gmail.com | E23: 43335 | F23: 53 | G23: מרכז | H23: בסיסי | I23: 54 | J23: 20000 | K23: {=_xlfn.XLOOKUP(I23,$T$4:$T$8,_xlfn.XLOOKUP(H23,$U$3:$W$3,$U$4:$W$8,,0),,-1)*J23} -> 3600 | L23: =IF(YEAR(E23)<$T$19,DATE($T$20,MONTH(E23)-$T$22,$T$21),DATE(YEAR(E23)+$T$23,MONTH(E23)+$T$24,$T$25)) -> 45848 | M23: =IF(YEAR(E23)<$X$19,N23,O23) -> 45848 | N23: =DATE($X$20,MONTH(E23)-$X$22,$X$21) -> 45848 | O23: =DATE(YEAR(E23)+$X$23,MONTH(E23)+$X$24,$X$25) -> 45535 | P23: =(J23-_xlfn.XLOOKUP(J23,$T$12:$T$16,$T$12:$T$16,,-1))*_xlfn.XLOOKUP(J23,$T$12:$T$16,$U$12:$U$16,,-1)+_xlfn.XLOOKUP(J23,$T$12:$T$16,$V$12:$V$16,,-1) -> 650 | Q23: =J23/$U$35 -> 5333.3333 | R23: =J23*$AA$18 -> 240000 | T23: 6 | X23: 6
A24: 5073393 | B24: מיכאלה | C24: בן דרור | D24: TIMO5GH@yahoo.com | E24: 44491 | F24: 36 | G24: צפון | H24: עסקי | I24: 22 | J24: 6000 | K24: {=_xlfn.XLOOKUP(I24,$T$4:$T$8,_xlfn.XLOOKUP(H24,$U$3:$W$3,$U$4:$W$8,,0),,-1)*J24} -> 1200 | L24: =IF(YEAR(E24)<$T$19,DATE($T$20,MONTH(E24)-$T$22,$T$21),DATE(YEAR(E24)+$T$23,MONTH(E24)+$T$24,$T$25)) -> 46691 | M24: =IF(YEAR(E24)<$X$19,N24,O24) -> 46691 | N24: =DATE($X$20,MONTH(E24)-$X$22,$X$21) -> 45910 | O24: =DATE(YEAR(E24)+$X$23,MONTH(E24)+$X$24,$X$25) -> 46691 | P24: =(J24-_xlfn.XLOOKUP(J24,$T$12:$T$16,$T$12:$T$16,,-1))*_xlfn.XLOOKUP(J24,$T$12:$T$16,$U$12:$U$16,,-1)+_xlfn.XLOOKUP(J24,$T$12:$T$16,$V$12:$V$16,,-1) -> 150 | Q24: =J24/$U$35 -> 1600 | R24: =J24*$AA$18 -> 72000 | T24: 1 | X24: 1
A25: 3791707 | B25: ליאור | C25: עציץ | D25: BEXLDPPA11@ynet.co.il | E25: 40426 | F25: 32 | G25: דרום | H25: עסקי | I25: 113 | J25: 18750 | K25: {=_xlfn.XLOOKUP(I25,$T$4:$T$8,_xlfn.XLOOKUP(H25,$U$3:$W$3,$U$4:$W$8,,0),,-1)*J25} -> 6000 | L25: =IF(YEAR(E25)<$T$19,DATE($T$20,MONTH(E25)-$T$22,$T$21),DATE(YEAR(E25)+$T$23,MONTH(E25)+$T$24,$T$25)) -> 45879 | M25: =IF(YEAR(E25)<$X$19,N25,O25) -> 45879 | N25: =DATE($X$20,MONTH(E25)-$X$22,$X$21) -> 45879 | O25: =DATE(YEAR(E25)+$X$23,MONTH(E25)+$X$24,$X$25) -> 42643 | P25: =(J25-_xlfn.XLOOKUP(J25,$T$12:$T$16,$T$12:$T$16,,-1))*_xlfn.XLOOKUP(J25,$T$12:$T$16,$U$12:$U$16,,-1)+_xlfn.XLOOKUP(J25,$T$12:$T$16,$V$12:$V$16,,-1) -> 600 | Q25: =J25/$U$35 -> 5000 | R25: =J25*$AA$18 -> 225000 | T25: 0 | X25: 0
A26: 5609175 | B26: מיכאל | C26: דוידוביץ | D26: EAUDGT@colman.ac.il | E26: 39528 | F26: 33 | G26: צפון | H26: בסיסי | I26: 64 | J26: 36375 | K26: {=_xlfn.XLOOKUP(I26,$T$4:$T$8,_xlfn.XLOOKUP(H26,$U$3:$W$3,$U$4:$W$8,,0),,-1)*J26} -> 6547.5 | L26: =IF(YEAR(E26)<$T$19,DATE($T$20,MONTH(E26)-$T$22,$T$21),DATE(YEAR(E26)+$T$23,MONTH(E26)+$T$24,$T$25)) -> 45698 | M26: =IF(YEAR(E26)<$X$19,N26,O26) -> 45698 | N26: =DATE($X$20,MONTH(E26)-$X$22,$X$21) -> 45698 | O26: =DATE(YEAR(E26)+$X$23,MONTH(E26)+$X$24,$X$25) -> 41729 | P26: =(J26-_xlfn.XLOOKUP(J26,$T$12:$T$16,$T$12:$T$16,,-1))*_xlfn.XLOOKUP(J26,$T$12:$T$16,$U$12:$U$16,,-1)+_xlfn.XLOOKUP(J26,$T$12:$T$16,$V$12:$V$16,,-1) -> 1418.75 | Q26: =J26/$U$35 -> 9700 | R26: =J26*$AA$18 -> 436500
A27: 5989536 | B27: דניאלה | C27: חיון | D27: ACDC1@ynet.co.il | E27: 39502 | F27: 52 | G27: צפון | H27: עסקי | I27: 28 | J27: 34750 | K27: {=_xlfn.XLOOKUP(I27,$T$4:$T$8,_xlfn.XLOOKUP(H27,$U$3:$W$3,$U$4:$W$8,,0),,-1)*J27} -> 6950 | L27: =IF(YEAR(E27)<$T$19,DATE($T$20,MONTH(E27)-$T$22,$T$21),DATE(YEAR(E27)+$T$23,MONTH(E27)+$T$24,$T$25)) -> 45667 | M27: =IF(YEAR(E27)<$X$19,N27,O27) -> 45667 | N27: =DATE($X$20,MONTH(E27)-$X$22,$X$21) -> 45667 | O27: =DATE(YEAR(E27)+$X$23,MONTH(E27)+$X$24,$X$25) -> 41698 | P27: =(J27-_xlfn.XLOOKUP(J27,$T$12:$T$16,$T$12:$T$16,,-1))*_xlfn.XLOOKUP(J27,$T$12:$T$16,$U$12:$U$16,,-1)+_xlfn.XLOOKUP(J27,$T$12:$T$16,$V$12:$V$16,,-1) -> 1337.5 | Q27: =J27/$U$35 -> 9266.6667 | R27: =J27*$AA$18 -> 417000
A28: 4100161 | B28: ליטל | C28: הלוי | D28: GH77JK@yahoo.com | E28: 43649 | F28: 21 | G28: מרכז | H28: בסיסי | I28: 88 | J28: 7125 | K28: {=_xlfn.XLOOKUP(I28,$T$4:$T$8,_xlfn.XLOOKUP(H28,$U$3:$W$3,$U$4:$W$8,,0),,-1)*J28} -> 1425 | L28: =IF(YEAR(E28)<$T$19,DATE($T$20,MONTH(E28)-$T$22,$T$21),DATE(YEAR(E28)+$T$23,MONTH(E28)+$T$24,$T$25)) -> 45818 | M28: =IF(YEAR(E28)<$X$19,N28,O28) -> 45818 | N28: =DATE($X$20,MONTH(E28)-$X$22,$X$21) -> 45818 | O28: =DATE(YEAR(E28)+$X$23,MONTH(E28)+$X$24,$X$25) -> 45869 | P28: =(J28-_xlfn.XLOOKUP(J28,$T$12:$T$16,$T$12:$T$16,,-1))*_xlfn.XLOOKUP(J28,$T$12:$T$16,$U$12:$U$16,,-1)+_xlfn.XLOOKUP(J28,$T$12:$T$16,$V$12:$V$16,,-1) -> 178.125 | Q28: =J28/$U$35 -> 1900 | R28: =J28*$AA$18 -> 85500 | T28: תאריך הצטרפות | U28: תאריך הצטרפות | V28: מסלול לקוח
A29: 5763159 | B29: אדווה | C29: לוין | D29: XIJDGGVC@gmail.com | E29: 39551 | F29: 42 | G29: דרום | H29: פרמיום | I29: 103 | J29: 35175 | K29: {=_xlfn.XLOOKUP(I29,$T$4:$T$8,_xlfn.XLOOKUP(H29,$U$3:$W$3,$U$4:$W$8,,0),,-1)*J29} -> 7738.5 | L29: =IF(YEAR(E29)<$T$19,DATE($T$20,MONTH(E29)-$T$22,$T$21),DATE(YEAR(E29)+$T$23,MONTH(E29)+$T$24,$T$25)) -> 45726 | M29: =IF(YEAR(E29)<$X$19,N29,O29) -> 45726 | N29: =DATE($X$20,MONTH(E29)-$X$22,$X$21) -> 45726 | O29: =DATE(YEAR(E29)+$X$23,MONTH(E29)+$X$24,$X$25) -> 41759 | P29: =(J29-_xlfn.XLOOKUP(J29,$T$12:$T$16,$T$12:$T$16,,-1))*_xlfn.XLOOKUP(J29,$T$12:$T$16,$U$12:$U$16,,-1)+_xlfn.XLOOKUP(J29,$T$12:$T$16,$V$12:$V$16,,-1) -> 1358.75 | Q29: =J29/$U$35 -> 9380 | R29: =J29*$AA$18 -> 422100 | T29: <=31/12/2019 | U29: >=01/01/2010 | V29: בסיסי
A30: 3539546 | B30: שרון | C30: הווארד | D30: RV7HQO33@ynet.co.il | E30: 39882 | F30: 19 | G30: מרכז | H30: בסיסי | I30: 59 | J30: 2625 | K30: {=_xlfn.XLOOKUP(I30,$T$4:$T$8,_xlfn.XLOOKUP(H30,$U$3:$W$3,$U$4:$W$8,,0),,-1)*J30} -> 472.5 | L30: =IF(YEAR(E30)<$T$19,DATE($T$20,MONTH(E30)-$T$22,$T$21),DATE(YEAR(E30)+$T$23,MONTH(E30)+$T$24,$T$25)) -> 45698 | M30: =IF(YEAR(E30)<$X$19,N30,O30) -> 45698 | N30: =DATE($X$20,MONTH(E30)-$X$22,$X$21) -> 45698 | O30: =DATE(YEAR(E30)+$X$23,MONTH(E30)+$X$24,$X$25) -> 42094 | P30: =(J30-_xlfn.XLOOKUP(J30,$T$12:$T$16,$T$12:$T$16,,-1))*_xlfn.XLOOKUP(J30,$T$12:$T$16,$U$12:$U$16,,-1)+_xlfn.XLOOKUP(J30,$T$12:$T$16,$V$12:$V$16,,-1) -> 65.625 | Q30: =J30/$U$35 -> 700 | R30: =J30*$AA$18 -> 31500 | X30: =DMAX($A$1:$R$36,$R$1,$T$28:$V$29) -> 427500
A31: 5664243 | B31: יוני | C31: ניסים | D31: KIEAUDGT@colman.ac.il | E31: 44186 | F31: 58 | G31: מרכז | H31: פרמיום | I31: 58 | J31: 6500 | K31: {=_xlfn.XLOOKUP(I31,$T$4:$T$8,_xlfn.XLOOKUP(H31,$U$3:$W$3,$U$4:$W$8,,0),,-1)*J31} -> 1300 | L31: =IF(YEAR(E31)<$T$19,DATE($T$20,MONTH(E31)-$T$22,$T$21),DATE(YEAR(E31)+$T$23,MONTH(E31)+$T$24,$T$25)) -> 46387 | M31: =IF(YEAR(E31)<$X$19,N31,O31) -> 46387 | N31: =DATE($X$20,MONTH(E31)-$X$22,$X$21) -> 45971 | O31: =DATE(YEAR(E31)+$X$23,MONTH(E31)+$X$24,$X$25) -> 46387 | P31: =(J31-_xlfn.XLOOKUP(J31,$T$12:$T$16,$T$12:$T$16,,-1))*_xlfn.XLOOKUP(J31,$T$12:$T$16,$U$12:$U$16,,-1)+_xlfn.XLOOKUP(J31,$T$12:$T$16,$V$12:$V$16,,-1) -> 162.5 | Q31: =J31/$U$35 -> 1733.3333 | R31: =J31*$AA$18 -> 78000
A32: 5678581 | B32: אורנה | C32: יצחקי | D32: YIDOJL@gmail.com | E32: 44265 | F32: 27 | G32: צפון | H32: בסיסי | I32: 110 | J32: 13000 | K32: {=_xlfn.XLOOKUP(I32,$T$4:$T$8,_xlfn.XLOOKUP(H32,$U$3:$W$3,$U$4:$W$8,,0),,-1)*J32} -> 3250 | L32: =IF(YEAR(E32)<$T$19,DATE($T$20,MONTH(E32)-$T$22,$T$21),DATE(YEAR(E32)+$T$23,MONTH(E32)+$T$24,$T$25)) -> 46477 | M32: =IF(YEAR(E32)<$X$19,N32,O32) -> 46477 | N32: =DATE($X$20,MONTH(E32)-$X$22,$X$21) -> 45698 | O32: =DATE(YEAR(E32)+$X$23,MONTH(E32)+$X$24,$X$25) -> 46477 | P32: =(J32-_xlfn.XLOOKUP(J32,$T$12:$T$16,$T$12:$T$16,,-1))*_xlfn.XLOOKUP(J32,$T$12:$T$16,$U$12:$U$16,,-1)+_xlfn.XLOOKUP(J32,$T$12:$T$16,$V$12:$V$16,,-1) -> 370 | Q32: =J32/$U$35 -> 3466.6667 | R32: =J32*$AA$18 -> 156000
A33: 4220283 | B33: חני | C33: לבקוביץ | D33: MYG66YU@colman.ac.il | E33: 45228 | F33: 19 | G33: צפון | H33: עסקי | I33: 103 | J33: 15250 | K33: {=_xlfn.XLOOKUP(I33,$T$4:$T$8,_xlfn.XLOOKUP(H33,$U$3:$W$3,$U$4:$W$8,,0),,-1)*J33} -> 4270 | L33: =IF(YEAR(E33)<$T$19,DATE($T$20,MONTH(E33)-$T$22,$T$21),DATE(YEAR(E33)+$T$23,MONTH(E33)+$T$24,$T$25)) -> 47422 | M33: =IF(YEAR(E33)<$X$19,N33,O33) -> 47422 | N33: =DATE($X$20,MONTH(E33)-$X$22,$X$21) -> 45910 | O33: =DATE(YEAR(E33)+$X$23,MONTH(E33)+$X$24,$X$25) -> 47422 | P33: =(J33-_xlfn.XLOOKUP(J33,$T$12:$T$16,$T$12:$T$16,,-1))*_xlfn.XLOOKUP(J33,$T$12:$T$16,$U$12:$U$16,,-1)+_xlfn.XLOOKUP(J33,$T$12:$T$16,$V$12:$V$16,,-1) -> 460 | Q33: =J33/$U$35 -> 4066.6667 | R33: =J33*$AA$18 -> 183000
A34: 3591027 | B34: לילך | C34: סונין | D34: GGHH77JK@yahoo.com | E34: 43436 | F34: 20 | G34: מרכז | H34: בסיסי | I34: 8 | J34: 16500 | K34: {=_xlfn.XLOOKUP(I34,$T$4:$T$8,_xlfn.XLOOKUP(H34,$U$3:$W$3,$U$4:$W$8,,0),,-1)*J34} -> 1980 | L34: =IF(YEAR(E34)<$T$19,DATE($T$20,MONTH(E34)-$T$22,$T$21),DATE(YEAR(E34)+$T$23,MONTH(E34)+$T$24,$T$25)) -> 45971 | M34: =IF(YEAR(E34)<$X$19,N34,O34) -> 45971 | N34: =DATE($X$20,MONTH(E34)-$X$22,$X$21) -> 45971 | O34: =DATE(YEAR(E34)+$X$23,MONTH(E34)+$X$24,$X$25) -> 45657 | P34: =(J34-_xlfn.XLOOKUP(J34,$T$12:$T$16,$T$12:$T$16,,-1))*_xlfn.XLOOKUP(J34,$T$12:$T$16,$U$12:$U$16,,-1)+_xlfn.XLOOKUP(J34,$T$12:$T$16,$V$12:$V$16,,-1) -> 510 | Q34: =J34/$U$35 -> 4400 | R34: =J34*$AA$18 -> 198000
A35: 4241247 | B35: אלון | C35: סוטון | D35: ELVLSUAM@gmail.com | E35: 44450 | F35: 65 | G35: מרכז | H35: בסיסי | I35: 14 | J35: 6625 | K35: {=_xlfn.XLOOKUP(I35,$T$4:$T$8,_xlfn.XLOOKUP(H35,$U$3:$W$3,$U$4:$W$8,,0),,-1)*J35} -> 795 | L35: =IF(YEAR(E35)<$T$19,DATE($T$20,MONTH(E35)-$T$22,$T$21),DATE(YEAR(E35)+$T$23,MONTH(E35)+$T$24,$T$25)) -> 46660 | M35: =IF(YEAR(E35)<$X$19,N35,O35) -> 46660 | N35: =DATE($X$20,MONTH(E35)-$X$22,$X$21) -> 45879 | O35: =DATE(YEAR(E35)+$X$23,MONTH(E35)+$X$24,$X$25) -> 46660 | P35: =(J35-_xlfn.XLOOKUP(J35,$T$12:$T$16,$T$12:$T$16,,-1))*_xlfn.XLOOKUP(J35,$T$12:$T$16,$U$12:$U$16,,-1)+_xlfn.XLOOKUP(J35,$T$12:$T$16,$V$12:$V$16,,-1) -> 165.625 | Q35: =J35/$U$35 -> 1766.6667 | R35: =J35*$AA$18 -> 79500 | T35: שער האירו | U35: 3.75 | V35: ממוצע חודשי ותק | X35: =AVERAGE($I$2:$I$36) -> 63.085714
A36: 4280247 | B36: רוית | C36: ישראל | D36: RAV77@ynet.co.il | E36: 45447 | F36: 40 | G36: מרכז | H36: פרמיום | I36: 56 | J36: 7500 | K36: {=_xlfn.XLOOKUP(I36,$T$4:$T$8,_xlfn.XLOOKUP(H36,$U$3:$W$3,$U$4:$W$8,,0),,-1)*J36} -> 1500 | L36: =IF(YEAR(E36)<$T$19,DATE($T$20,MONTH(E36)-$T$22,$T$21),DATE(YEAR(E36)+$T$23,MONTH(E36)+$T$24,$T$25)) -> 47664 | M36: =IF(YEAR(E36)<$X$19,N36,O36) -> 47664 | N36: =DATE($X$20,MONTH(E36)-$X$22,$X$21) -> 45787 | O36: =DATE(YEAR(E36)+$X$23,MONTH(E36)+$X$24,$X$25) -> 47664 | P36: =(J36-_xlfn.XLOOKUP(J36,$T$12:$T$16,$T$12:$T$16,,-1))*_xlfn.XLOOKUP(J36,$T$12:$T$16,$U$12:$U$16,,-1)+_xlfn.XLOOKUP(J36,$T$12:$T$16,$V$12:$V$16,,-1) -> 187.5 | Q36: =J36/$U$35 -> 2000 | R36: =J36*$AA$18 -> 90000
M37: =IF(YEAR(E37)<$X$19,N37,O37) -> 45636 | N37: =DATE($X$20,MONTH(E37)-$X$22,$X$21) -> 45636 | O37: =DATE(YEAR(E37)+$X$23,MONTH(E37)+$X$24,$X$25) -> 2223 | R37: גיל | S37: גיל | T37: אזור מגורים | U37: מסלול לקוח | V37: מספר חודשי ותק | W37: משכורת חודשית ממוצעת באירו
A38: שאלה 2 ב- | M38: =IF(YEAR(E38)<$X$19,N38,O38) -> 45636 | N38: =DATE($X$20,MONTH(E38)-$X$22,$X$21) -> 45636 | O38: =DATE(YEAR(E38)+$X$23,MONTH(E38)+$X$24,$X$25) -> 2223 | R38: <=23 | S38: >=18 | T38: צפון
A39: =SUM(P2:P36) -> 40369.375 | M39: =IF(YEAR(E39)<$X$19,N39,O39) -> 45636 | N39: =DATE($X$20,MONTH(E39)-$X$22,$X$21) -> 45636 | O39: =DATE(YEAR(E39)+$X$23,MONTH(E39)+$X$24,$X$25) -> 2223 | R39: <=23 | S39: >=18 | T39: דרום
M40: =IF(YEAR(E40)<$X$19,N40,O40) -> 45636 | N40: =DATE($X$20,MONTH(E40)-$X$22,$X$21) -> 45636 | O40: =DATE(YEAR(E40)+$X$23,MONTH(E40)+$X$24,$X$25) -> 2223 | W40: >5000
B41: =A39 -> 40369.375 | C41: 90000 | D41: 95000 | E41: 100000 | F41: 105000 | G41: 110000 | H41: 115000 | I41: 120000 | J41: 125000 | M41: =IF(YEAR(E41)<$X$19,N41,O41) -> 102208 | N41: =DATE($X$20,MONTH(E41)-$X$22,$X$21) -> 45910 | O41: =DATE(YEAR(E41)+$X$23,MONTH(E41)+$X$24,$X$25) -> 102208 | U41: פרמיום | V41: >63.0857142857143
B42: 0.005 | C42: 34418.125 | D42: 34168.125 | E42: 34024.375 | F42: 33899.375 | G42: 33774.375 | H42: 33674.375 | I42: 33674.375 | J42: 33674.375 | M42: =IF(YEAR(E42)<$X$19,N42,O42) -> 45667 | N42: =DATE($X$20,MONTH(E42)-$X$22,$X$21) -> 45667 | O42: =DATE(YEAR(E42)+$X$23,MONTH(E42)+$X$24,$X$25) -> 36219 | U42: עסקי | V42: >63.0857142857143
B43: 0.0075 | C43: 35211.25 | D43: 34961.25 | E43: 34817.5 | F43: 34692.5 | G43: 34567.5 | H43: 34467.5 | I43: 34467.5 | J43: 34467.5 | M43: =IF(YEAR(E43)<$X$19,N43,O43) -> 0
B44: 0.01 | C44: 36004.375 | D44: 35754.375 | E44: 35610.625 | F44: 35485.625 | G44: 35360.625 | H44: 35260.625 | I44: 35260.625 | J44: 35260.625 | M44: =IF(YEAR(E44)<$X$19,N44,O44) -> 0
B45: 0.0125 | C45: 36797.5 | D45: 36547.5 | E45: 36403.75 | F45: 36278.75 | G45: 36153.75 | H45: 36053.75 | I45: 36053.75 | J45: 36053.75 | M45: =IF(YEAR(E45)<$X$19,N45,O45) -> 0
B46: 0.015 | C46: 37590.625 | D46: 37340.625 | E46: 37196.875 | F46: 37071.875 | G46: 36946.875 | H46: 36846.875 | I46: 36846.875 | J46: 36846.875 | M46: =IF(YEAR(E46)<$X$19,N46,O46) -> 0
B47: 0.0175 | C47: 38383.75 | D47: 38133.75 | E47: 37990 | F47: 37865 | G47: 37740 | H47: 37640 | I47: 37640 | J47: 37640 | M47: =IF(YEAR(E47)<$X$19,N47,O47) -> 0
